BEGIN:VCALENDAR
VERSION:2.0
PRODID:-//Evresi - ECPv6.15.12.1//NONSGML v1.0//EN
CALSCALE:GREGORIAN
METHOD:PUBLISH
X-ORIGINAL-URL:https://evresi.de
X-WR-CALDESC:Veranstaltungen für Evresi
REFRESH-INTERVAL;VALUE=DURATION:PT1H
X-Robots-Tag:noindex
X-PUBLISHED-TTL:PT1H
BEGIN:VTIMEZONE
TZID:Europe/Berlin
BEGIN:DAYLIGHT
TZOFFSETFROM:+0100
TZOFFSETTO:+0200
TZNAME:CEST
DTSTART:20250330T010000
END:DAYLIGHT
BEGIN:STANDARD
TZOFFSETFROM:+0200
TZOFFSETTO:+0100
TZNAME:CET
DTSTART:20251026T010000
END:STANDARD
BEGIN:DAYLIGHT
TZOFFSETFROM:+0100
TZOFFSETTO:+0200
TZNAME:CEST
DTSTART:20260329T010000
END:DAYLIGHT
BEGIN:STANDARD
TZOFFSETFROM:+0200
TZOFFSETTO:+0100
TZNAME:CET
DTSTART:20261025T010000
END:STANDARD
BEGIN:DAYLIGHT
TZOFFSETFROM:+0100
TZOFFSETTO:+0200
TZNAME:CEST
DTSTART:20270328T010000
END:DAYLIGHT
BEGIN:STANDARD
TZOFFSETFROM:+0200
TZOFFSETTO:+0100
TZNAME:CET
DTSTART:20271031T010000
END:STANDARD
END:VTIMEZONE
BEGIN:VEVENT
DTSTART;TZID=Europe/Berlin:20260420T193000
DTEND;TZID=Europe/Berlin:20260420T213000
DTSTAMP:20260420T043246
CREATED:20260309T202941Z
LAST-MODIFIED:20260309T202941Z
UID:11444-1776713400-1776720600@evresi.de
SUMMARY:Frauenabendkreis
DESCRIPTION:Thema: Zwischen Himmel und Erde – ein Liederabend \nReferent: Michael Nitsche \nWeitere Informationen finden Sie hier
URL:https://evresi.de/event/frauenabendkreis-14/
LOCATION:Gemeindehaus Sinzig\, Dreifaltigkeitsweg 26\, Sinzig\, 53489\, Deutschland
ATTACH;FMTTYPE=image/jpeg:https://evresi.de/wp-content/uploads/2019/01/Frauenabendkreis-Keramik-Kreise.jpg
END:VEVENT
BEGIN:VEVENT
DTSTART;TZID=Europe/Berlin:20260422T190000
DTEND;TZID=Europe/Berlin:20260422T210000
DTSTAMP:20260420T043246
CREATED:20260224T213044Z
LAST-MODIFIED:20260224T213044Z
UID:11417-1776884400-1776891600@evresi.de
SUMMARY:Ökumenischer Bibelabend zum Buch Ester
DESCRIPTION:Fünf ökumenisch vorbereitete Bibelabende finden in der Fasten- und Osterzeit in Sinzig und Remagen statt. Dabei wird das Buch ESTER aus dem Alten Testament nach und nach besprochen und für unsere Zeit verständlich ausgelegt. \nDie fünf Abende beginnen jeweils um 19.00 Uhr. Sie finden an verschiedenen Wochentagen und an verschiedenen Orten statt. Hier die Übersicht: \nMontag\, 09. März im Ev. Gemeindehaus Sinzig\, Dreifaltigkeitsweg 26 \nMittwoch\, 18. März in der Credokirche Remagen-Kripp\, Baumschulenweg 13 \nMontag\, 23. März im Kath. Pfarrheim Sinzig\, Zehnthofstr.9 \nMittwoch\, 15. April im Ev. Gemeindehaus Oberwinter\, Am Yachthafen 12 \nMittwoch\, 22. April im Kath. Pfarrheim Remagen\, Kirchstr. 32 \nEine Anmeldung ist nicht nötig. Eine Teilnahme an allen Abenden ist wünschenwert\, aber keine Voraussetzung. Jeder Abend ist eine Einheit für sich. \nAm Sonntag\, 22. März wird Dr. Petra Pohl um 11.00 Uhr in St.Peter Sinzig im Rahmen der Messfeier über das Buch Ester predigen. \nNähere Informationen können erfragt werden von Dr. Petra Pohl über das ev. Gemeindebüro 02642-5759 oder von Wolfgang Henn über das kath. Pfarramt 02642-97710.
URL:https://evresi.de/event/oekumenischer-bibelabend-zum-buch-ester-6/
LOCATION:Kath. Pfarrheim Remagen\, Kirchstr. 32a\, Remagen\, Germany
ATTACH;FMTTYPE=image/jpeg:https://evresi.de/wp-content/uploads/2026/02/2026_PLAKAT-Bibelgespraeche-scaled.jpg
END:VEVENT
BEGIN:VEVENT
DTSTART;TZID=Europe/Berlin:20260423T150000
DTEND;TZID=Europe/Berlin:20260423T180000
DTSTAMP:20260420T043246
CREATED:20260408T202504Z
LAST-MODIFIED:20260408T202504Z
UID:11471-1776956400-1776967200@evresi.de
SUMMARY:Bilderbuchkinos am Welttag des Buches
DESCRIPTION:Geschichten und Bastelaktionen in der Evangelischen Öffentlichen Bücherei Remagen \nSeit 1995 wird am 23. April der Welttag des Buches gefeiert. In Katalonien ist dies der Georgstag\, an dem man sich traditionell Rosen und Bücher schenkt. \nUm Bücher\, das Lesen und das geschriebene Wort zu feiern\, veranstaltet die Evangelische Öffentliche Bücherei Remagen dieses Jahr zwei Bilderbuchkinos. \nAb 15 Uhr geht es für Kinder ab 3 Jahren los mit „Kleine Maus auf großer Fahrt“. Im Anschluss können die kleinen Zuhörer dann ihr eigenes Abenteuer malerisch gestalten. Auf alle Kinder\, die schon selbst lesen können\, wartet um 17 Uhr „Der Wortschatz“. Anschließend geht es an den Basteltisch: Jetzt werden neue Worte gepuzzelt! In der selbstgebastelten Schatzkiste tragen die Sprachschöpfer die neuen Lieblingsausdrücke dann nach Hause. \nDer Eintritt ist frei. Um telefonische Anmeldung unter 02642-210801 oder per Mail an info@buecherei-remagen.de wird gebeten.
URL:https://evresi.de/event/bilderbuchkinos-am-welttag-des-buches/
ATTACH;FMTTYPE=image/jpeg:https://evresi.de/wp-content/uploads/2026/04/Bilderbuchkino-210-x-297-mm-3.jpg
END:VEVENT
END:VCALENDAR