BEGIN:VCALENDAR
VERSION:2.0
PRODID:-//Evresi - ECPv6.15.12.1//NONSGML v1.0//EN
CALSCALE:GREGORIAN
METHOD:PUBLISH
X-ORIGINAL-URL:https://evresi.de
X-WR-CALDESC:Veranstaltungen für Evresi
REFRESH-INTERVAL;VALUE=DURATION:PT1H
X-Robots-Tag:noindex
X-PUBLISHED-TTL:PT1H
BEGIN:VTIMEZONE
TZID:Europe/Berlin
BEGIN:DAYLIGHT
TZOFFSETFROM:+0100
TZOFFSETTO:+0200
TZNAME:CEST
DTSTART:20180325T010000
END:DAYLIGHT
BEGIN:STANDARD
TZOFFSETFROM:+0200
TZOFFSETTO:+0100
TZNAME:CET
DTSTART:20181028T010000
END:STANDARD
BEGIN:DAYLIGHT
TZOFFSETFROM:+0100
TZOFFSETTO:+0200
TZNAME:CEST
DTSTART:20190331T010000
END:DAYLIGHT
BEGIN:STANDARD
TZOFFSETFROM:+0200
TZOFFSETTO:+0100
TZNAME:CET
DTSTART:20191027T010000
END:STANDARD
BEGIN:DAYLIGHT
TZOFFSETFROM:+0100
TZOFFSETTO:+0200
TZNAME:CEST
DTSTART:20200329T010000
END:DAYLIGHT
BEGIN:STANDARD
TZOFFSETFROM:+0200
TZOFFSETTO:+0100
TZNAME:CET
DTSTART:20201025T010000
END:STANDARD
BEGIN:DAYLIGHT
TZOFFSETFROM:+0100
TZOFFSETTO:+0200
TZNAME:CEST
DTSTART:20210328T010000
END:DAYLIGHT
BEGIN:STANDARD
TZOFFSETFROM:+0200
TZOFFSETTO:+0100
TZNAME:CET
DTSTART:20211031T010000
END:STANDARD
BEGIN:DAYLIGHT
TZOFFSETFROM:+0100
TZOFFSETTO:+0200
TZNAME:CEST
DTSTART:20220327T010000
END:DAYLIGHT
BEGIN:STANDARD
TZOFFSETFROM:+0200
TZOFFSETTO:+0100
TZNAME:CET
DTSTART:20221030T010000
END:STANDARD
END:VTIMEZONE
BEGIN:VEVENT
DTSTART;TZID=Europe/Berlin:20190201T120000
DTEND;TZID=Europe/Berlin:20190201T140000
DTSTAMP:20260426T025653
CREATED:20190110T165657Z
LAST-MODIFIED:20190110T165657Z
UID:2176-1549022400-1549029600@evresi.de
SUMMARY:Senioren-Mittagstisch
DESCRIPTION:Um Anmeldung wird bis zum davorliegenden Montag gebeten \nWeitere Informationen finden Sie hier
URL:https://evresi.de/event/senioren-mittagstisch/
ATTACH;FMTTYPE=image/jpeg:https://evresi.de/wp-content/uploads/2019/01/Seniorenmittagstisch.jpg
END:VEVENT
BEGIN:VEVENT
DTSTART;TZID=Europe/Berlin:20190213T150000
DTEND;TZID=Europe/Berlin:20190213T170000
DTSTAMP:20260426T025653
CREATED:20190110T164840Z
LAST-MODIFIED:20190110T165744Z
UID:2171-1550070000-1550077200@evresi.de
SUMMARY:Seniorenkreis Remagen
DESCRIPTION:Informationen finden Sie hier
URL:https://evresi.de/event/seniorenkreis-remagen/
LOCATION:Gemeindehaus Remagen\, Marktstr. 25\, Remagen\, 53424\, Deutschland
ATTACH;FMTTYPE=image/jpeg:https://evresi.de/wp-content/uploads/2019/01/Seniorenarbeit-Sessel-Kissen-bunt-.jpg
END:VEVENT
BEGIN:VEVENT
DTSTART;TZID=Europe/Berlin:20210614T190000
DTEND;TZID=Europe/Berlin:20210614T200000
DTSTAMP:20260426T025653
CREATED:20190107T091724Z
LAST-MODIFIED:20210611T073547Z
UID:5798-1623697200-1623700800@evresi.de
SUMMARY:Ökumenisches Friedensgebet
DESCRIPTION:
URL:https://evresi.de/event/oekumenisches-friedensgebet-2-2019-05-13-2-2-2-2-2-2-2-2-2-2-2-2/
LOCATION:Friedenskirche Remagen\, Marktstr. 25\, Remagen\, 53424\, Deutschland
ATTACH;FMTTYPE=image/gif:https://evresi.de/wp-content/uploads/2019/01/Bild-Friedensgebet.gif
END:VEVENT
BEGIN:VEVENT
DTSTART;TZID=Europe/Berlin:20210617T170000
DTEND;TZID=Europe/Berlin:20210617T190000
DTSTAMP:20260426T025653
CREATED:20190107T092759Z
LAST-MODIFIED:20210610T143033Z
UID:5793-1623949200-1623956400@evresi.de
SUMMARY:Offener Treff für "Angehörige dementer Menschen"
DESCRIPTION:Informationen finden Sie hier
URL:https://evresi.de/event/offener-treff-angehoerige-dementer-menschen-2-2-2-2-2-2-2-2-2-2-2-2-2-3/
LOCATION:Gemeindehaus Sinzig\, Dreifaltigkeitsweg 26\, Sinzig\, 53489\, Deutschland
ATTACH;FMTTYPE=image/jpeg:https://evresi.de/wp-content/uploads/2018/06/Unbenannt-4.jpg
END:VEVENT
BEGIN:VEVENT
DTSTART;TZID=Europe/Berlin:20210617T200000
DTEND;TZID=Europe/Berlin:20210617T220000
DTSTAMP:20260426T025653
CREATED:20210516T142556Z
LAST-MODIFIED:20210612T151150Z
UID:5740-1623960000-1623967200@evresi.de
SUMMARY:Mitten im Leben
DESCRIPTION:Die Gruppe „Mitten im Leben“ trifft sich wieder. An diesem Abend wird das Thema sein: Das Angesicht Gottes. \nWir treffen uns wieder im Gemeindehaus. Man muss sich jedoch vorher bei Pfarrerin Laubmann anmelden\, da die Teilnehmer*innenzahl begrenzt ist.
URL:https://evresi.de/event/mitten-im-leben-3/
ATTACH;FMTTYPE=image/jpeg:https://evresi.de/wp-content/uploads/2018/10/asd213fghcv213.jpg
END:VEVENT
END:VCALENDAR