BEGIN:VCALENDAR
VERSION:2.0
PRODID:-//Evresi - ECPv6.15.12.1//NONSGML v1.0//EN
CALSCALE:GREGORIAN
METHOD:PUBLISH
X-ORIGINAL-URL:https://evresi.de
X-WR-CALDESC:Veranstaltungen für Evresi
REFRESH-INTERVAL;VALUE=DURATION:PT1H
X-Robots-Tag:noindex
X-PUBLISHED-TTL:PT1H
BEGIN:VTIMEZONE
TZID:Europe/Berlin
BEGIN:DAYLIGHT
TZOFFSETFROM:+0100
TZOFFSETTO:+0200
TZNAME:CEST
DTSTART:20180325T010000
END:DAYLIGHT
BEGIN:STANDARD
TZOFFSETFROM:+0200
TZOFFSETTO:+0100
TZNAME:CET
DTSTART:20181028T010000
END:STANDARD
BEGIN:DAYLIGHT
TZOFFSETFROM:+0100
TZOFFSETTO:+0200
TZNAME:CEST
DTSTART:20190331T010000
END:DAYLIGHT
BEGIN:STANDARD
TZOFFSETFROM:+0200
TZOFFSETTO:+0100
TZNAME:CET
DTSTART:20191027T010000
END:STANDARD
BEGIN:DAYLIGHT
TZOFFSETFROM:+0100
TZOFFSETTO:+0200
TZNAME:CEST
DTSTART:20200329T010000
END:DAYLIGHT
BEGIN:STANDARD
TZOFFSETFROM:+0200
TZOFFSETTO:+0100
TZNAME:CET
DTSTART:20201025T010000
END:STANDARD
BEGIN:DAYLIGHT
TZOFFSETFROM:+0100
TZOFFSETTO:+0200
TZNAME:CEST
DTSTART:20210328T010000
END:DAYLIGHT
BEGIN:STANDARD
TZOFFSETFROM:+0200
TZOFFSETTO:+0100
TZNAME:CET
DTSTART:20211031T010000
END:STANDARD
BEGIN:DAYLIGHT
TZOFFSETFROM:+0100
TZOFFSETTO:+0200
TZNAME:CEST
DTSTART:20220327T010000
END:DAYLIGHT
BEGIN:STANDARD
TZOFFSETFROM:+0200
TZOFFSETTO:+0100
TZNAME:CET
DTSTART:20221030T010000
END:STANDARD
END:VTIMEZONE
BEGIN:VEVENT
DTSTART;TZID=Europe/Berlin:20210401T180000
DTEND;TZID=Europe/Berlin:20210401T193000
DTSTAMP:20260426T000858
CREATED:20210318T142533Z
LAST-MODIFIED:20210401T155054Z
UID:5408-1617300000-1617305400@evresi.de
SUMMARY:Zoom-Gottesdienst am Gründonnerstag
DESCRIPTION:Alles Grün! \nWir laden herzlich ein zum Zoom-Gottesdienst zum Gründonnerstag! \nSo\, wie wir auch sonst nicht in Gottesdienste reinstolpern\, sondern uns auf den Weg machen\, den Vorraum der Kirche betreten\, uns dann unseren Platz suchen\, so bitten wir Sie\, sich auch auf den Gottesdienst am Gründonnerstag einzulassen mit Leib und Seele und ein paar weiteren Dingen: \n\nZiehen Sie doch\, wenn möglich\, etwas Grünes an. Haben Sie nicht? Aber vielleicht können Sie eine Grünpflanze oder etwas anderes Grünes in Ihren Hintergrund stellen?\nBitte halten Sie eine Kerze und Streichhölzer bereit\, aber zünden Sie die Kerze noch nicht vor dem Gottesdienst an. Das wollen wir – wie in unserem Gottesdienst im Gemeindehaus\, den wir sonst am Gründonnerstag feiern – gemeinsam tun.\nWir werden in dem Gottesdienst das Abendmahl feiern. Bitte stellen Sie also einen Teller mit einem Stück Brot und einen Becher oder ein Glas mit Wein oder Traubensaft bereit.\nFür den Segen brauchen Sie wieder das Segensbändchen oder ein Tuch\, eine Schnur\, mindestens 50 cm lang.\n\nWir freuen uns\, Sie und Euch am Gründonnerstag um 18 Uhr zu sehen und miteinander Gottesdienst zu feiern! \nUnd hier sind die Zugangsdaten:\nKerstin Laubmann-Lüdke lädt Sie zu einem geplanten Zoom-Meeting ein.\nThema: Gottesdienst zum Gründonnerstag\nUhrzeit: 1.Apr..2021 18:00 Uhr \nZoom-Meeting beitreten\nhttps://zoom.us/j/93429101762?pwd=Y2xwVmpHcmpON3hKZHhPeHFvWXhpdz09 \nMeeting-ID: 934 2910 1762\nKenncode: 941856 \nEinwahl nach aktuellem Standort\n+49 69 7104 9922 Deutschland\nMeeting-ID: 934 2910 1762\nKenncode: 941856 \n 
URL:https://evresi.de/event/zoom-gottesdienst-am-gruendonnerstag/
ATTACH;FMTTYPE=image/jpeg:https://evresi.de/wp-content/uploads/2021/03/DSC_0396-Ausschnitt-scaled.jpg
END:VEVENT
BEGIN:VEVENT
DTSTART;TZID=Europe/Berlin:20210402T110000
DTEND;TZID=Europe/Berlin:20210402T120000
DTSTAMP:20260426T000858
CREATED:20210325T140615Z
LAST-MODIFIED:20210401T170127Z
UID:5454-1617361200-1617364800@evresi.de
SUMMARY:Zoom-Gottesdienst am Karfreitag
DESCRIPTION:In der Karwoche erinnern wir uns an die Mitte unseres Glaubens:\ndass da einer für uns einsteht\,\ndass einer uns hilft\, unsere Lasten zu tragen\, ja sogar\, unsere Schuld zu übernehmen\,\ndass der Tod nicht das Ende ist\, sondern aus dem Dunkel Hoffnung blüht. \nDarum wird es auch am Karfreitag gehen. Wir laden Sie und Euch ein\, diesen Tag miteinander mit einem Zoom-Gottesdienst zu feiern. Um uns gemeinsam zu erinnern. Um ein Stück Weg gemeinsam durch diesen Tag zu gehen. Um uns gemeinsam in die Hoffnung einladen zu lassen. \nDa wir in diesem Gottesdienst das Abendmahl feiern wollen\, bitten wir Sie und Euch\, folgende Dinge vorzubereiten: \n\nBitte stellen Sie einen Teller mit einem Stück Brot und einen Becher oder ein Glas mit Wein oder Traubensaft bereit. Wasser geht zur Not auch.\nFür den Segen brauchen Sie wieder das Segensbändchen oder ein Tuch\, eine Schnur\, mindestens 50 cm lang.\n\nDer Gottesdienst beginnt um 11 Uhr. \nUnd hier sind die Zugangsdaten: \nPfarrerin Kuhn lädt Sie zu einem geplanten Zoom-Meeting ein.\nThema: Gottesdienst zum Karfreitag\nUhrzeit: 2. April 2021 um 11:00 Uhr \nZoom-Meeting beitreten\nhttps://zoom.us/j/92886733407?pwd=RjFXWWlyaUdDdFRuSEtBa0thRXZLUT09 \nMeeting-ID: 928 8673 3407\nKenncode: 941856 \nEinwahl nach aktuellem Standort\n0049 69 7104 9922 Deutschland \nMeeting-ID: 928 8673 3407\nKenncode: 941856 \n 
URL:https://evresi.de/event/gottesdienst-am-karfreitag/
ATTACH;FMTTYPE=image/jpeg:https://evresi.de/wp-content/uploads/2021/03/182_5302_rgb-Kreuz-Goslar-scaled.jpg
END:VEVENT
BEGIN:VEVENT
DTSTART;TZID=Europe/Berlin:20190201T120000
DTEND;TZID=Europe/Berlin:20190201T140000
DTSTAMP:20260426T000858
CREATED:20190110T165657Z
LAST-MODIFIED:20190110T165657Z
UID:2176-1549022400-1549029600@evresi.de
SUMMARY:Senioren-Mittagstisch
DESCRIPTION:Um Anmeldung wird bis zum davorliegenden Montag gebeten \nWeitere Informationen finden Sie hier
URL:https://evresi.de/event/senioren-mittagstisch/
ATTACH;FMTTYPE=image/jpeg:https://evresi.de/wp-content/uploads/2019/01/Seniorenmittagstisch.jpg
END:VEVENT
BEGIN:VEVENT
DTSTART;TZID=Europe/Berlin:20210404T090000
DTEND;TZID=Europe/Berlin:20210404T110000
DTSTAMP:20260426T000858
CREATED:20210318T170037Z
LAST-MODIFIED:20210330T132349Z
UID:5434-1617526800-1617534000@evresi.de
SUMMARY:Ostersonntag
DESCRIPTION:„Der Herr ist auferstanden!“ – „Er ist wahrhaftig auferstanden!“\nVon 9 bis 11 Uhr werden die Türen der Friedenskirche in Remagen und der Adventskirche in Sinzig offen stehen und dort die neuen Osterkerzen brennen. In dieser Zeit können Sie gern vorbeikommen und kleine Osterkerzen mit nach Hause nehmen. \nIn der Adventskirche werden Sie in dieser Zeit Pfarrerin Kuhn und Pfarrerin Laubmann erwarten. Sie freuen sich\, Ihnen ein gesegnetes Osterfest wünschen und von unserer Küsterin Swetlana Skok gebackenes Osterbrot teilen zu können. An der Friedenskirche erwarten Sie Pfarrerin Reuter\, Frau Hecht und Frau Ertl. Kommen Sie also doch vorbei! \nVor beiden Kirchen wird ein Holzkreuz stehen\, das wir – getreu der Osterbotschaft „Der Herr ist auferstanden“ – in einen Lebensbaum verwandeln wollen. Bringen Sie doch dazu bitte eine oder mehrere Blumen oder Zweige mit!\nUnd vielleicht hat der Osterhase ja etwas im Garten um die Adventskirche herum versteckt?! \nUm 11 Uhr laden wir dann zu einem Zoom-Gottesdienst ein. \nZoom-Meeting beitreten\nhttps://zoom.us/j/99502353703?pwd=cWgrTXQ4Nkp0SXcwb0RuNW1mSkRaUT09 \nMeeting-ID: 995 0235 3703\nKenncode: 941856 \nEinwahl mit Telefon:\n0049 69 7104 9922 Deutschland
URL:https://evresi.de/event/ostersonntag-2/
ATTACH;FMTTYPE=image/jpeg:https://evresi.de/wp-content/uploads/2021/03/1-Kreuz-Forsythien-bearbeitet-scaled.jpg
END:VEVENT
BEGIN:VEVENT
DTSTART;TZID=Europe/Berlin:20210404T110000
DTEND;TZID=Europe/Berlin:20210404T120000
DTSTAMP:20260426T000858
CREATED:20210329T075917Z
LAST-MODIFIED:20210401T170215Z
UID:5479-1617534000-1617537600@evresi.de
SUMMARY:Zoom-Gottesdienst am Ostersonntag
DESCRIPTION:Zoom-Gottesdienst am Ostersonntag:\nDie Zugangsdaten:\nThema: Gottesdienst am Sonntag\nUhrzeit: 11:00 Uhr\nZoom-Meeting beitreten mit dem Link: \nZoom-Meeting beitreten\nhttps://zoom.us/j/99502353703?pwd=cWgrTXQ4Nkp0SXcwb0RuNW1mSkRaUT09 \nMeeting-ID: 995 0235 3703\nKenncode: 941856 \nEinwahl mit Telefon:\n0049 69 7104 9922 Deutschland
URL:https://evresi.de/event/zoom-gottesdienst-am-sonntag-den-11-april-2/
ATTACH;FMTTYPE=image/jpeg:https://evresi.de/wp-content/uploads/2021/03/Zoom-GD-Bild.jpg
END:VEVENT
BEGIN:VEVENT
DTSTART;TZID=Europe/Berlin:20210411T110000
DTEND;TZID=Europe/Berlin:20210411T120000
DTSTAMP:20260426T000858
CREATED:20210329T075917Z
LAST-MODIFIED:20210404T154130Z
UID:5474-1618138800-1618142400@evresi.de
SUMMARY:Zoom-Gottesdienst am Sonntag\, den 11. April
DESCRIPTION:Zoom-Gottesdienst am Sonntag:\nDie Zugangsdaten:\nThema: Gottesdienst am Sonntag\nUhrzeit: 11:00 Uhr \nBitte melden Sie sich im Gemeindebüro Remagen an (Tel. 02642-3051; E-Mail: gemeindebuero-remagen@evresi.de). Der Zugang wird Ihnen dann per E-Mail bekanntgegeben.
URL:https://evresi.de/event/zoom-gottesdienst-am-sonntag-den-11-april/
ATTACH;FMTTYPE=image/jpeg:https://evresi.de/wp-content/uploads/2021/03/Zoom-GD-Bild.jpg
END:VEVENT
BEGIN:VEVENT
DTSTART;TZID=Europe/Berlin:20190213T150000
DTEND;TZID=Europe/Berlin:20190213T170000
DTSTAMP:20260426T000858
CREATED:20190110T164840Z
LAST-MODIFIED:20190110T165744Z
UID:2171-1550070000-1550077200@evresi.de
SUMMARY:Seniorenkreis Remagen
DESCRIPTION:Informationen finden Sie hier
URL:https://evresi.de/event/seniorenkreis-remagen/
LOCATION:Gemeindehaus Remagen\, Marktstr. 25\, Remagen\, 53424\, Deutschland
ATTACH;FMTTYPE=image/jpeg:https://evresi.de/wp-content/uploads/2019/01/Seniorenarbeit-Sessel-Kissen-bunt-.jpg
END:VEVENT
BEGIN:VEVENT
DTSTART;TZID=Europe/Berlin:20210418T110000
DTEND;TZID=Europe/Berlin:20210418T120000
DTSTAMP:20260426T000858
CREATED:20210329T075917Z
LAST-MODIFIED:20210404T154209Z
UID:5483-1618743600-1618747200@evresi.de
SUMMARY:Zoom-Gottesdienst am Sonntag\, den 18. April
DESCRIPTION:Zoom-Gottesdienst am Sonntag:\nDie Zugangsdaten:\nThema: Gottesdienst am Sonntag\nUhrzeit: 11:00 Uhr \nBitte melden Sie sich im Gemeindebüro Sinzig an (Tel. 02642-5759; E-Mail: gemeindebuero-sinzig@evresi.de). Der Zugang wird Ihnen dann per E-Mail bekanntgegeben.
URL:https://evresi.de/event/zoom-gottesdienst-am-sonntag-den-11-april-3/
ATTACH;FMTTYPE=image/jpeg:https://evresi.de/wp-content/uploads/2021/03/Zoom-GD-Bild.jpg
END:VEVENT
BEGIN:VEVENT
DTSTART;TZID=Europe/Berlin:20210425T110000
DTEND;TZID=Europe/Berlin:20210425T120000
DTSTAMP:20260426T000858
CREATED:20210329T075917Z
LAST-MODIFIED:20210421T154408Z
UID:5600-1619348400-1619352000@evresi.de
SUMMARY:Zoom-Gottesdienst mit Abendmahl am Sonntag\, den 25. April
DESCRIPTION:Zoom-Gottesdienst am Sonntag:\nDie Zugangsdaten:\nThema: Gottesdienst am Sonntag\nUhrzeit: 11:00 Uhr \nBitte melden Sie sich im Gemeindebüro Sinzig (Tel. 02642-5759; E-Mail: gemeindebuero-sinzig@evresi.de) an. Der Zugang wird Ihnen dann per E-Mail bekanntgegeben. \nWir feiern einen Abendmahlsgottesdienst. Deshalb stellen Sie bitte etwas Brot und ein Glas mit Wein oder mit Traubensaft oder Wasser bereit.
URL:https://evresi.de/event/zoom-gottesdienst-am-sonntag-den-11-april-3-2/
ATTACH;FMTTYPE=image/jpeg:https://evresi.de/wp-content/uploads/2021/03/Zoom-GD-Bild.jpg
END:VEVENT
END:VCALENDAR