BEGIN:VCALENDAR
VERSION:2.0
PRODID:-//Evresi - ECPv6.15.12.1//NONSGML v1.0//EN
CALSCALE:GREGORIAN
METHOD:PUBLISH
X-ORIGINAL-URL:https://evresi.de
X-WR-CALDESC:Veranstaltungen für Evresi
REFRESH-INTERVAL;VALUE=DURATION:PT1H
X-Robots-Tag:noindex
X-PUBLISHED-TTL:PT1H
BEGIN:VTIMEZONE
TZID:Europe/Berlin
BEGIN:DAYLIGHT
TZOFFSETFROM:+0100
TZOFFSETTO:+0200
TZNAME:CEST
DTSTART:20180325T010000
END:DAYLIGHT
BEGIN:STANDARD
TZOFFSETFROM:+0200
TZOFFSETTO:+0100
TZNAME:CET
DTSTART:20181028T010000
END:STANDARD
BEGIN:DAYLIGHT
TZOFFSETFROM:+0100
TZOFFSETTO:+0200
TZNAME:CEST
DTSTART:20190331T010000
END:DAYLIGHT
BEGIN:STANDARD
TZOFFSETFROM:+0200
TZOFFSETTO:+0100
TZNAME:CET
DTSTART:20191027T010000
END:STANDARD
BEGIN:DAYLIGHT
TZOFFSETFROM:+0100
TZOFFSETTO:+0200
TZNAME:CEST
DTSTART:20200329T010000
END:DAYLIGHT
BEGIN:STANDARD
TZOFFSETFROM:+0200
TZOFFSETTO:+0100
TZNAME:CET
DTSTART:20201025T010000
END:STANDARD
BEGIN:DAYLIGHT
TZOFFSETFROM:+0100
TZOFFSETTO:+0200
TZNAME:CEST
DTSTART:20210328T010000
END:DAYLIGHT
BEGIN:STANDARD
TZOFFSETFROM:+0200
TZOFFSETTO:+0100
TZNAME:CET
DTSTART:20211031T010000
END:STANDARD
BEGIN:DAYLIGHT
TZOFFSETFROM:+0100
TZOFFSETTO:+0200
TZNAME:CEST
DTSTART:20220327T010000
END:DAYLIGHT
BEGIN:STANDARD
TZOFFSETFROM:+0200
TZOFFSETTO:+0100
TZNAME:CET
DTSTART:20221030T010000
END:STANDARD
END:VTIMEZONE
BEGIN:VEVENT
DTSTART;TZID=Europe/Berlin:20201201T183000
DTEND;TZID=Europe/Berlin:20201201T190000
DTSTAMP:20260425T173819
CREATED:20201120T184532Z
LAST-MODIFIED:20201217T093145Z
UID:4407-1606847400-1606849200@evresi.de
SUMMARY:Auf dem Weg nach Bethlehem - fällt leider aus
DESCRIPTION:
URL:https://evresi.de/event/auf-dem-weg-nach-bethlehem/
ATTACH;FMTTYPE=image/jpeg:https://evresi.de/wp-content/uploads/2020/11/Adventsstein-Stern-mit-Schweif-2-scaled.jpg
END:VEVENT
BEGIN:VEVENT
DTSTART;TZID=Europe/Berlin:20201203T190000
DTEND;TZID=Europe/Berlin:20201203T213000
DTSTAMP:20260425T173819
CREATED:20201120T183836Z
LAST-MODIFIED:20201125T151449Z
UID:4404-1607022000-1607031000@evresi.de
SUMMARY:Film-Gottesdienst
DESCRIPTION:Kann ein Film zugleich traurig und wunderschön sein? Eine fremde Welt beschreiben und doch Fragen stellen an die eigene Welt? \nEr kann. In dem Film\, um den es in dem Gottesdienst geht\, werden vier Jugendliche und junge Erwachsene begleitet\, die ihr Weihnachtsfest in der Psychiatrie verbringen. Durch das Vertrauen\, das ihr Arzt in sie setzt\, kommen Dinge in Gang\, die sie und andere sich vielleicht nicht gewünscht haben\, aber am Ende haben sie eine Freundschaft und Nähe erfahren\, von der sie am Anfang nicht zu träumen wagten. \nDer Film-Gottesdienst findet statt am \nDonnerstag\, 3. Dezember\, um 19 Uhr\nim Gemeindehaus Sinzig. \nDer Film ist ab 12 Jahren empfohlen\, herzlich Willkommen sind also Jugendliche\, junge Erwachsene und alle anderen Erwachsenen.\nDie Plätze sind begrenzt\, daher muss man sich anmelden. \nDer Titel des Films darf aus rechtlichen Gründen nicht genannt werden\, Ihr und Sie könnt ihn aber gern bei uns erfragen. Die Vorführlizenz haben wir.
URL:https://evresi.de/event/filmabend/
ATTACH;FMTTYPE=image/jpeg:https://evresi.de/wp-content/uploads/2020/11/Adventsstein-Krone-2-scaled-e1605897459186.jpeg
END:VEVENT
BEGIN:VEVENT
DTSTART;TZID=Europe/Berlin:20190201T120000
DTEND;TZID=Europe/Berlin:20190201T140000
DTSTAMP:20260425T173819
CREATED:20190110T165657Z
LAST-MODIFIED:20190110T165657Z
UID:2176-1549022400-1549029600@evresi.de
SUMMARY:Senioren-Mittagstisch
DESCRIPTION:Um Anmeldung wird bis zum davorliegenden Montag gebeten \nWeitere Informationen finden Sie hier
URL:https://evresi.de/event/senioren-mittagstisch/
ATTACH;FMTTYPE=image/jpeg:https://evresi.de/wp-content/uploads/2019/01/Seniorenmittagstisch.jpg
END:VEVENT
BEGIN:VEVENT
DTSTART;TZID=Europe/Berlin:20201204T183000
DTEND;TZID=Europe/Berlin:20201204T193000
DTSTAMP:20260425T173819
CREATED:20201120T185418Z
LAST-MODIFIED:20201214T160355Z
UID:4413-1607106600-1607110200@evresi.de
SUMMARY:Lebendiger Advent: Offenes Singen
DESCRIPTION:In den letzten Jahren haben sich im Advent an jedem Dienstag und Freitag Menschen vor Häusern getroffen. Die Gastgeber hatten ein kleines Programm und Tee oder Punsch vorbereitet. Es wurden zusammen Lieder gesungen\, und es wurden Geschichten vorgelesen. Das konnte zwar manchmal nass oder kalt werden\, aber schön war es immer. Und immer ökumenisch! \nNun\, in diesem Jahr ist dieses persönlich gestaltete Angebot vor einer Haustür oder gemütlich gedrängelt in einer Garage nicht möglich. Doch der Lebendige Adventskalender findet trotzdem statt! Nur in anderer Form: \nDienstagsabends lädt Pfarrerin Johanna Kuhn zu einer adventlichen Besinnung in die Adventskirche ein (eigener Beitrag auf dieser Homepage). \nAn jedem Freitagabend laden wir\, nach der Abendmesse in St. Peter\, um 18.45 Uhr zu einem Adventslieder-Singen auf den Sinziger Kirchplatz ein.\nDer Platz wird mit Flatterband abgesperrt sein\, und Abstände müssen selbstverständlich eingehalten werden (in Singe-Richtung zur Vorderfrau/zum Vordermann 2-3 Meter). Dann bekommen alle ein Liedblatt in die Hand\, und das Singen kann beginnen!
URL:https://evresi.de/event/lebendiger-advent-offenes-singen/
ATTACH;FMTTYPE=image/jpeg:https://evresi.de/wp-content/uploads/2020/11/Engel-mit-Trompete-2-scaled.jpg
END:VEVENT
BEGIN:VEVENT
DTSTART;TZID=Europe/Berlin:20201201T183000
DTEND;TZID=Europe/Berlin:20201201T190000
DTSTAMP:20260425T173819
CREATED:20201120T184532Z
LAST-MODIFIED:20201217T093145Z
UID:4407-1606847400-1606849200@evresi.de
SUMMARY:Auf dem Weg nach Bethlehem - fällt leider aus
DESCRIPTION:
URL:https://evresi.de/event/auf-dem-weg-nach-bethlehem/
ATTACH;FMTTYPE=image/jpeg:https://evresi.de/wp-content/uploads/2020/11/Adventsstein-Stern-mit-Schweif-2-scaled.jpg
END:VEVENT
BEGIN:VEVENT
DTSTART;TZID=Europe/Berlin:20190213T150000
DTEND;TZID=Europe/Berlin:20190213T170000
DTSTAMP:20260425T173819
CREATED:20190110T164840Z
LAST-MODIFIED:20190110T165744Z
UID:2171-1550070000-1550077200@evresi.de
SUMMARY:Seniorenkreis Remagen
DESCRIPTION:Informationen finden Sie hier
URL:https://evresi.de/event/seniorenkreis-remagen/
LOCATION:Gemeindehaus Remagen\, Marktstr. 25\, Remagen\, 53424\, Deutschland
ATTACH;FMTTYPE=image/jpeg:https://evresi.de/wp-content/uploads/2019/01/Seniorenarbeit-Sessel-Kissen-bunt-.jpg
END:VEVENT
BEGIN:VEVENT
DTSTART;TZID=Europe/Berlin:20201210T190000
DTEND;TZID=Europe/Berlin:20201210T203000
DTSTAMP:20260425T173819
CREATED:20201204T200718Z
LAST-MODIFIED:20201204T200749Z
UID:4567-1607626800-1607632200@evresi.de
SUMMARY:Lieblingsgeschichten für Erwachsene
DESCRIPTION:Die Auswahl aus den eingesandten Geschichten fiel schwer.\nDoch nun können Sie zuhören: über Zoom.\nAlso: den Sessel zurechtrücken\, eine Tasse Tee oder Kaffee kochen\, Kerze anzünden\, den Computer einschalten und es sich gemütlich machen.\nEs geht los.
URL:https://evresi.de/event/lieblingsgeschichten-fuer-erwachsene/
ATTACH;FMTTYPE=image/jpeg:https://evresi.de/wp-content/uploads/2020/12/Adventsstein-Ohrensessel-Buch-1-scaled-e1607112140307.jpeg
END:VEVENT
BEGIN:VEVENT
DTSTART;TZID=Europe/Berlin:20201204T183000
DTEND;TZID=Europe/Berlin:20201204T193000
DTSTAMP:20260425T173819
CREATED:20201120T185418Z
LAST-MODIFIED:20201214T160355Z
UID:4413-1607106600-1607110200@evresi.de
SUMMARY:Lebendiger Advent: Offenes Singen
DESCRIPTION:In den letzten Jahren haben sich im Advent an jedem Dienstag und Freitag Menschen vor Häusern getroffen. Die Gastgeber hatten ein kleines Programm und Tee oder Punsch vorbereitet. Es wurden zusammen Lieder gesungen\, und es wurden Geschichten vorgelesen. Das konnte zwar manchmal nass oder kalt werden\, aber schön war es immer. Und immer ökumenisch! \nNun\, in diesem Jahr ist dieses persönlich gestaltete Angebot vor einer Haustür oder gemütlich gedrängelt in einer Garage nicht möglich. Doch der Lebendige Adventskalender findet trotzdem statt! Nur in anderer Form: \nDienstagsabends lädt Pfarrerin Johanna Kuhn zu einer adventlichen Besinnung in die Adventskirche ein (eigener Beitrag auf dieser Homepage). \nAn jedem Freitagabend laden wir\, nach der Abendmesse in St. Peter\, um 18.45 Uhr zu einem Adventslieder-Singen auf den Sinziger Kirchplatz ein.\nDer Platz wird mit Flatterband abgesperrt sein\, und Abstände müssen selbstverständlich eingehalten werden (in Singe-Richtung zur Vorderfrau/zum Vordermann 2-3 Meter). Dann bekommen alle ein Liedblatt in die Hand\, und das Singen kann beginnen!
URL:https://evresi.de/event/lebendiger-advent-offenes-singen/
ATTACH;FMTTYPE=image/jpeg:https://evresi.de/wp-content/uploads/2020/11/Engel-mit-Trompete-2-scaled.jpg
END:VEVENT
BEGIN:VEVENT
DTSTART;TZID=Europe/Berlin:20201213T160000
DTEND;TZID=Europe/Berlin:20201213T173000
DTSTAMP:20260425T173819
CREATED:20201204T201115Z
LAST-MODIFIED:20201204T201141Z
UID:4569-1607875200-1607880600@evresi.de
SUMMARY:Lieblingsgeschichten für Familien
DESCRIPTION:Wer sagt\, dass zu Weihnachten nur Ochs und Esel gehören?!\nUnsere Lieblingsgeschichten wissen es besser.\nAlso: eine Tasse heiße Schokolade\, Tee oder Kaffee kochen\, Kerze anzünden\, den Computer einschalten\, es sich gemütlich machen und aneinanderkuscheln.\nEs geht los.
URL:https://evresi.de/event/lieblingsgeschichten-fuer-familien/
ATTACH;FMTTYPE=image/jpeg:https://evresi.de/wp-content/uploads/2020/12/Adventsstein-Ohrensessel-Buch-1-scaled-e1607112140307.jpeg
END:VEVENT
BEGIN:VEVENT
DTSTART;TZID=Europe/Berlin:20201201T183000
DTEND;TZID=Europe/Berlin:20201201T190000
DTSTAMP:20260425T173819
CREATED:20201120T184532Z
LAST-MODIFIED:20201217T093145Z
UID:4407-1606847400-1606849200@evresi.de
SUMMARY:Auf dem Weg nach Bethlehem - fällt leider aus
DESCRIPTION:
URL:https://evresi.de/event/auf-dem-weg-nach-bethlehem/
ATTACH;FMTTYPE=image/jpeg:https://evresi.de/wp-content/uploads/2020/11/Adventsstein-Stern-mit-Schweif-2-scaled.jpg
END:VEVENT
BEGIN:VEVENT
DTSTART;TZID=Europe/Berlin:20201218T190000
DTEND;TZID=Europe/Berlin:20201218T203000
DTSTAMP:20260425T173819
CREATED:20201207T135908Z
LAST-MODIFIED:20201217T092740Z
UID:4582-1608318000-1608323400@evresi.de
SUMMARY:Silent Night: Die geistliche Abendmusik fällt aus
DESCRIPTION:
URL:https://evresi.de/event/silent-night-musikalische-vesper/
ATTACH;FMTTYPE=image/jpeg:https://evresi.de/wp-content/uploads/2020/12/Adventsstein-Stall-8-Sternenhimmel-5-scaled-e1607349616365.jpg
END:VEVENT
BEGIN:VEVENT
DTSTART;TZID=Europe/Berlin:20201220T093000
DTEND;TZID=Europe/Berlin:20201220T120000
DTSTAMP:20260425T173819
CREATED:20201120T182814Z
LAST-MODIFIED:20201219T175959Z
UID:4395-1608456600-1608465600@evresi.de
SUMMARY:Offene Kirchen am 4. Advent
DESCRIPTION:Gottesdienst können wir leider nicht feiern. \nDoch zu den Gottesdienstzeiten stehen die Adventskirche (von 9.30 Uhr bis 10.30 Uhr) und die Friedenskirche (von 11-12 Uhr) offen\, und Sie können die Wundertüte zum 4. Advent abholen. \nDas offene Singen muss leider ebenfalls ausfallen.
URL:https://evresi.de/event/offene-kirchen-an-den-adventssonntagen/
ATTACH;FMTTYPE=image/jpeg:https://evresi.de/wp-content/uploads/2020/11/Adventsstein-Wundertuete-3.jpg
END:VEVENT
BEGIN:VEVENT
DTSTART;TZID=Europe/Berlin:20201201T183000
DTEND;TZID=Europe/Berlin:20201201T190000
DTSTAMP:20260425T173819
CREATED:20201120T184532Z
LAST-MODIFIED:20201217T093145Z
UID:4407-1606847400-1606849200@evresi.de
SUMMARY:Auf dem Weg nach Bethlehem - fällt leider aus
DESCRIPTION:
URL:https://evresi.de/event/auf-dem-weg-nach-bethlehem/
ATTACH;FMTTYPE=image/jpeg:https://evresi.de/wp-content/uploads/2020/11/Adventsstein-Stern-mit-Schweif-2-scaled.jpg
END:VEVENT
BEGIN:VEVENT
DTSTART;TZID=Europe/Berlin:20201224T143000
DTEND;TZID=Europe/Berlin:20201224T190000
DTSTAMP:20260425T173819
CREATED:20201125T144910Z
LAST-MODIFIED:20201221T155926Z
UID:4434-1608820200-1608836400@evresi.de
SUMMARY:Die Gottesdienste an Heiligabend fallen leider aus
DESCRIPTION:An den Kirchentüren und auf den Wäscheleinen vor den Kirchen und Gemeindehäusern gibt es jedoch „Gottesdienste am Küchentisch“ und Familiengottesdienste für zu Hause zum Mitnehmen. \nAusführlichere Informationen finden Sie unten.
URL:https://evresi.de/event/familiengottesdienste-an-heiligabend/
ATTACH;FMTTYPE=image/jpeg:https://evresi.de/wp-content/uploads/2020/11/Adventsstein-Stall-Traene-Stern-3-bearbeitet-scaled.jpg
END:VEVENT
BEGIN:VEVENT
DTSTART;TZID=Europe/Berlin:20201224T150000
DTEND;TZID=Europe/Berlin:20201224T180000
DTSTAMP:20260425T173819
CREATED:20201219T175700Z
LAST-MODIFIED:20201219T175830Z
UID:4663-1608822000-1608832800@evresi.de
SUMMARY:Das Friedenslicht von Bethlehem wird ausgeteilt
DESCRIPTION:An den offenen Kirchentüren wird das Friedenslicht von Bethlehem ausgeteilt.\nBitte eine Laterne oder ein Windlicht mit Kerze oder Teelicht mitbringen.\nUnd dann das Licht weitertragen.
URL:https://evresi.de/event/das-friedenslicht-von-bethlehem-wird-ausgeteilt/
ATTACH;FMTTYPE=image/jpeg:https://evresi.de/wp-content/uploads/2020/12/Adventsstein-Laterne-mit-Kerze-2-scaled-e1608400697842.jpg
END:VEVENT
BEGIN:VEVENT
DTSTART;TZID=Europe/Berlin:20201224T160000
DTEND;TZID=Europe/Berlin:20201224T163000
DTSTAMP:20260425T173819
CREATED:20201125T145547Z
LAST-MODIFIED:20201222T160447Z
UID:4436-1608825600-1608827400@evresi.de
SUMMARY:Ökumenische Einstimmung in den Heiligabend fällt leider aus
DESCRIPTION:Auf Grund neuer Bestimmungen des Landes Rheinland-Pfalz\, wonach Weihnachtsgottesdienste mit höchstens 100 Teilnehmer*innen stattfinden dürfen\, muss die ökumenische Einstimmung auf dem Kirchplatz leider ausfallen. Es hatten sich schon 200 Menschen angemeldet.\nDiese Absage tut uns sehr leid\, weil sich zu diesem Gottesdienst sehr schnell besonders viele Menschen angemeldet hatten und gerne miteinander Weihnachten gefeiert hätten. \nBesuchen Sie doch in der Zeit\, zu der das ökumenische Angebot stattgefunden hätte\, die Adventskirche oder die Kirche St. Peter. Die Türen stehen offen. \n 
URL:https://evresi.de/event/oekumenische-einstimmung-in-den-heiligabend/
ATTACH;FMTTYPE=image/jpeg:https://evresi.de/wp-content/uploads/2020/11/Adventsstein-Stall-5-Fenster-Maria-Josef-Krippe-Sternenhimmel-scaled-e1608211997569.jpg
END:VEVENT
BEGIN:VEVENT
DTSTART;TZID=Europe/Berlin:20201225T080000
DTEND;TZID=Europe/Berlin:20201226T090000
DTSTAMP:20260425T173819
CREATED:20201225T073832Z
LAST-MODIFIED:20201225T073913Z
UID:4700-1608883200-1608973200@evresi.de
SUMMARY:Musik für den 25. Dezember
DESCRIPTION:https://evresi.de/wp-content/uploads/2020/11/2020-12-25-Morgenstimmung-E.-Grieg.mp3
URL:https://evresi.de/event/musik-fuer-den-25-dezember/
ATTACH;FMTTYPE=image/jpeg:https://evresi.de/wp-content/uploads/2020/11/Adventsstein-Tuer-blau-2-scaled-e1606313912916.jpg
END:VEVENT
BEGIN:VEVENT
DTSTART;TZID=Europe/Berlin:20201226T000000
DTEND;TZID=Europe/Berlin:20201227T083000
DTSTAMP:20260425T173819
CREATED:20201225T232839Z
LAST-MODIFIED:20201225T163032Z
UID:4703-1608940800-1609057800@evresi.de
SUMMARY:Musik für den 2. Weihnachtstag
DESCRIPTION:https://evresi.de/wp-content/uploads/2020/11/2020-12-26-Sapperlot.m4a
URL:https://evresi.de/event/musik-fuer-den-2-weihnachtstag/
ATTACH;FMTTYPE=image/jpeg:https://evresi.de/wp-content/uploads/2020/11/Adventsstein-Tuer-blau-2-scaled-e1606313912916.jpg
END:VEVENT
BEGIN:VEVENT
DTSTART;TZID=Europe/Berlin:20201227T080000
DTEND;TZID=Europe/Berlin:20201228T100000
DTSTAMP:20260425T173819
CREATED:20201226T233049Z
LAST-MODIFIED:20201227T144011Z
UID:4705-1609056000-1609149600@evresi.de
SUMMARY:Musik für den 27. Dezember
DESCRIPTION:Hier ist die Musik: Quem pastores
URL:https://evresi.de/event/musik-fuer-den-27-dezember/
ATTACH;FMTTYPE=image/jpeg:https://evresi.de/wp-content/uploads/2020/11/Adventsstein-Tuer-blau-2-scaled-e1606313912916.jpg
END:VEVENT
BEGIN:VEVENT
DTSTART;TZID=Europe/Berlin:20201228T000000
DTEND;TZID=Europe/Berlin:20201229T083000
DTSTAMP:20260425T173819
CREATED:20201227T235821Z
LAST-MODIFIED:20201226T160001Z
UID:4716-1609113600-1609230600@evresi.de
SUMMARY:Musik für den 28. Dezember
DESCRIPTION:https://evresi.de/wp-content/uploads/2020/12/2020-12-28-Feliz-Navidad-Kopie.mp3
URL:https://evresi.de/event/musik-fuer-den-28-dezember/
ATTACH;FMTTYPE=image/jpeg:https://evresi.de/wp-content/uploads/2020/11/Adventsstein-Tuer-blau-2-scaled-e1606313912916.jpg
END:VEVENT
BEGIN:VEVENT
DTSTART;TZID=Europe/Berlin:20201229T000000
DTEND;TZID=Europe/Berlin:20201230T083000
DTSTAMP:20260425T173819
CREATED:20201228T230027Z
LAST-MODIFIED:20201226T160255Z
UID:4718-1609200000-1609317000@evresi.de
SUMMARY:Musik für den 29. Dezember
DESCRIPTION:https://evresi.de/wp-content/uploads/2020/11/2020-12-29-Haendel-Allegro.mp3
URL:https://evresi.de/event/musik-fuer-den-29-dezember/
ATTACH;FMTTYPE=image/jpeg:https://evresi.de/wp-content/uploads/2020/11/Adventsstein-Tuer-blau-2-scaled-e1606313912916.jpg
END:VEVENT
BEGIN:VEVENT
DTSTART;TZID=Europe/Berlin:20201230T000000
DTEND;TZID=Europe/Berlin:20201231T083000
DTSTAMP:20260425T173819
CREATED:20201229T230305Z
LAST-MODIFIED:20201226T160436Z
UID:4720-1609286400-1609403400@evresi.de
SUMMARY:Musik für den 30. Dezember
DESCRIPTION:https://evresi.de/wp-content/uploads/2020/12/2020-12-30-Engel-haben-Himmelslieder.mp4
URL:https://evresi.de/event/musik-fuer-den-30-dezember/
ATTACH;FMTTYPE=image/jpeg:https://evresi.de/wp-content/uploads/2020/11/Adventsstein-Tuer-blau-2-scaled-e1606313912916.jpg
END:VEVENT
BEGIN:VEVENT
DTSTART;TZID=Europe/Berlin:20201231T000000
DTEND;TZID=Europe/Berlin:20210101T083000
DTSTAMP:20260425T173819
CREATED:20201230T230457Z
LAST-MODIFIED:20201226T160707Z
UID:4722-1609372800-1609489800@evresi.de
SUMMARY:Musik für den 31. Dezember
DESCRIPTION:https://evresi.de/wp-content/uploads/2020/11/2020-12-31-Abide-with-me.mp3
URL:https://evresi.de/event/musik-fuer-den-31-dezember/
ATTACH;FMTTYPE=image/jpeg:https://evresi.de/wp-content/uploads/2020/11/Adventsstein-Tuer-blau-2-scaled-e1606313912916.jpg
END:VEVENT
END:VCALENDAR