BEGIN:VCALENDAR
VERSION:2.0
PRODID:-//Evresi - ECPv6.15.12.1//NONSGML v1.0//EN
CALSCALE:GREGORIAN
METHOD:PUBLISH
X-ORIGINAL-URL:https://evresi.de
X-WR-CALDESC:Veranstaltungen für Evresi
REFRESH-INTERVAL;VALUE=DURATION:PT1H
X-Robots-Tag:noindex
X-PUBLISHED-TTL:PT1H
BEGIN:VTIMEZONE
TZID:Europe/Berlin
BEGIN:DAYLIGHT
TZOFFSETFROM:+0100
TZOFFSETTO:+0200
TZNAME:CEST
DTSTART:20180325T010000
END:DAYLIGHT
BEGIN:STANDARD
TZOFFSETFROM:+0200
TZOFFSETTO:+0100
TZNAME:CET
DTSTART:20181028T010000
END:STANDARD
BEGIN:DAYLIGHT
TZOFFSETFROM:+0100
TZOFFSETTO:+0200
TZNAME:CEST
DTSTART:20190331T010000
END:DAYLIGHT
BEGIN:STANDARD
TZOFFSETFROM:+0200
TZOFFSETTO:+0100
TZNAME:CET
DTSTART:20191027T010000
END:STANDARD
BEGIN:DAYLIGHT
TZOFFSETFROM:+0100
TZOFFSETTO:+0200
TZNAME:CEST
DTSTART:20200329T010000
END:DAYLIGHT
BEGIN:STANDARD
TZOFFSETFROM:+0200
TZOFFSETTO:+0100
TZNAME:CET
DTSTART:20201025T010000
END:STANDARD
BEGIN:DAYLIGHT
TZOFFSETFROM:+0100
TZOFFSETTO:+0200
TZNAME:CEST
DTSTART:20210328T010000
END:DAYLIGHT
BEGIN:STANDARD
TZOFFSETFROM:+0200
TZOFFSETTO:+0100
TZNAME:CET
DTSTART:20211031T010000
END:STANDARD
END:VTIMEZONE
BEGIN:VEVENT
DTSTART;TZID=Europe/Berlin:20190201T120000
DTEND;TZID=Europe/Berlin:20190201T140000
DTSTAMP:20260425T155154
CREATED:20190110T165657Z
LAST-MODIFIED:20190110T165657Z
UID:2176-1549022400-1549029600@evresi.de
SUMMARY:Senioren-Mittagstisch
DESCRIPTION:Um Anmeldung wird bis zum davorliegenden Montag gebeten \nWeitere Informationen finden Sie hier
URL:https://evresi.de/event/senioren-mittagstisch/
ATTACH;FMTTYPE=image/jpeg:https://evresi.de/wp-content/uploads/2019/01/Seniorenmittagstisch.jpg
END:VEVENT
BEGIN:VEVENT
DTSTART;TZID=Europe/Berlin:20201109T110000
DTEND;TZID=Europe/Berlin:20201109T190000
DTSTAMP:20260425T155154
CREATED:20201105T194954Z
LAST-MODIFIED:20201105T194954Z
UID:4367-1604919600-1604948400@evresi.de
SUMMARY:9. November: Mahnwache statt "Stolpergang"
DESCRIPTION:Mahnwache statt „Stolpergang“\nGedenken an die Opfer vom 9. und 10. November 1938 \nIn diesem Jahr wird es in Sinzig keinen „Stolpergang“ wie in den Vorjahren geben\, als jeweils rund 150 Menschen zu den Wohnstätten jüdischer Mitbürger in Sinzig gingen\, um sich vor den Opfern der Reichspogromnacht\, im Volksmund „Reichskristallnacht“ genannt\, vor 82 Jahren zu verneigen. Doch hat sich die Projektgruppe „Erinnerungskultur“ im Bürgerforum Sinzig entschieden\, in Zeiten der Pandemie weder einen Stolpergang noch ein zentrale Zusammenkunft am Kirchplatz zu veranstalten. Stattdessen soll es am 9. November ein stilles Gedenken ohne Versammlung und Ansprachen geben. Wie in den Vorjahren wird am Kirchplatz vor dem Sinziger Rathaus das Banner mit den Namen der jüdischen Opfer zu sehen sein. Auf den Stufen davor werden Kerzen brennen zur Erinnerung an die Opfer und als Mahnung wider das Vergessen\, wohin Ausgrenzung und Rassismus führen können. „Wir werden um 11 Uhr die ersten Kerzen entzünden. Wer will\, kann in der Zeit bis 19 Uhr allein oder in Begleitung weiterer Personen aus dem eigenen Haushalt ebenfalls mit einer Kerze\, die vor Ort bereitsteht\, sich am stillen Gedenken beteiligen. Wir wollen so das Aufeinandertreffen vieler Menschen aus verschiendenen Haushalten vermeiden“\, erläutert Veronika Wiertz\, Sprecherin der Projektgruppe\, das diesjährige Vorgehen.
URL:https://evresi.de/event/9-november-mahnwache-statt-stolpergang/
ATTACH;FMTTYPE=image/jpeg:https://evresi.de/wp-content/uploads/2020/11/272-Davidsstern-Steine-scaled.jpg
END:VEVENT
BEGIN:VEVENT
DTSTART;TZID=Europe/Berlin:20201109T190000
DTEND;TZID=Europe/Berlin:20201109T200000
DTSTAMP:20260425T155154
CREATED:20190107T091724Z
LAST-MODIFIED:20201005T092707Z
UID:4271-1604948400-1604952000@evresi.de
SUMMARY:Ökumenisches Friedensgebet
DESCRIPTION:
URL:https://evresi.de/event/oekumenisches-friedensgebet-2-2019-05-13-2-2-2-2-2-2-2-2-2-2-2/
LOCATION:Friedenskirche Remagen\, Marktstr. 25\, Remagen\, 53424\, Deutschland
ATTACH;FMTTYPE=image/gif:https://evresi.de/wp-content/uploads/2019/01/Bild-Friedensgebet.gif
END:VEVENT
BEGIN:VEVENT
DTSTART;TZID=Europe/Berlin:20190213T150000
DTEND;TZID=Europe/Berlin:20190213T170000
DTSTAMP:20260425T155154
CREATED:20190110T164840Z
LAST-MODIFIED:20190110T165744Z
UID:2171-1550070000-1550077200@evresi.de
SUMMARY:Seniorenkreis Remagen
DESCRIPTION:Informationen finden Sie hier
URL:https://evresi.de/event/seniorenkreis-remagen/
LOCATION:Gemeindehaus Remagen\, Marktstr. 25\, Remagen\, 53424\, Deutschland
ATTACH;FMTTYPE=image/jpeg:https://evresi.de/wp-content/uploads/2019/01/Seniorenarbeit-Sessel-Kissen-bunt-.jpg
END:VEVENT
BEGIN:VEVENT
DTSTART;TZID=Europe/Berlin:20201118T190000
DTEND;TZID=Europe/Berlin:20201118T213000
DTSTAMP:20260425T155154
CREATED:20201107T112532Z
LAST-MODIFIED:20201107T112532Z
UID:4373-1605726000-1605735000@evresi.de
SUMMARY:Gottesdienst am Buß- und Bettag in St. Peter\, Sinzig
DESCRIPTION:Meinen inneren Kompass neu ausrichten\nGottesdienst am Buß- und Bettag \n„Was ist wichtig für mein Leben – in diesen Zeiten der Pandemie?“\nDieser Frage werden wir im Gottesdienst am Buß- und Bettag nachgehen.\nInnehalten\, den inneren Kompass neu ausrichten und sich stärken lassen für den weiteren Weg – dazu laden wir Sie herzlich ein! \nDer Gottesdienst mit Abendmahl findet am Mittwoch\, den 18. November 2020 um 19 Uhr in St. Peter\, Sinzig\, statt.\nWir feiern ihn mit Pfarrerin Johanna Kuhn\, Ev. Kirchengemeinde Sinzig\, und Wolfgang Henn\, kath. Pfarreiengemeinschaft Sinzig\, der die Predigt halten wird. \nIm Anschluss an den Gottesdienst gibt Herr Henn allen Interessierten Auskunft über einige typische Eigenheiten des katholischen Kirchenraumes. \nDer Ökumeneausschuss beider Kirchen lädt Sie herzlich zur Feier des Gottesdienstes ein!\nWichtig: Für den Gottesdienst bitten wir um Anmeldung im Ev. Gemeindebüro Sinzig: Tel. 02642- 5759
URL:https://evresi.de/event/gottesdienst-am-buss-und-bettag-in-st-peter-sinzig/
ATTACH;FMTTYPE=image/jpeg:https://evresi.de/wp-content/uploads/2020/11/Kompass.jpeg
END:VEVENT
BEGIN:VEVENT
DTSTART;TZID=Europe/Berlin:20201129T073000
DTEND;TZID=Europe/Berlin:20201130T073000
DTSTAMP:20260425T155154
CREATED:20201129T064243Z
LAST-MODIFIED:20201130T063925Z
UID:4454-1606635000-1606721400@evresi.de
SUMMARY:Musik hinter dem 1. Türchen
DESCRIPTION:https://evresi.de/wp-content/uploads/2020/11/2020-11-29-Macht-hoch-die-Tuer.mp3
URL:https://evresi.de/event/musik-hinter-dem-1-tuerchen/
ATTACH;FMTTYPE=image/jpeg:https://evresi.de/wp-content/uploads/2020/11/Adventsstein-Tuer-blau-2-scaled-e1606313912916.jpg
END:VEVENT
END:VCALENDAR