BEGIN:VCALENDAR
VERSION:2.0
PRODID:-//Evresi - ECPv6.15.12.1//NONSGML v1.0//EN
CALSCALE:GREGORIAN
METHOD:PUBLISH
X-ORIGINAL-URL:https://evresi.de
X-WR-CALDESC:Veranstaltungen für Evresi
REFRESH-INTERVAL;VALUE=DURATION:PT1H
X-Robots-Tag:noindex
X-PUBLISHED-TTL:PT1H
BEGIN:VTIMEZONE
TZID:Europe/Berlin
BEGIN:DAYLIGHT
TZOFFSETFROM:+0100
TZOFFSETTO:+0200
TZNAME:CEST
DTSTART:20180325T010000
END:DAYLIGHT
BEGIN:STANDARD
TZOFFSETFROM:+0200
TZOFFSETTO:+0100
TZNAME:CET
DTSTART:20181028T010000
END:STANDARD
BEGIN:DAYLIGHT
TZOFFSETFROM:+0100
TZOFFSETTO:+0200
TZNAME:CEST
DTSTART:20190331T010000
END:DAYLIGHT
BEGIN:STANDARD
TZOFFSETFROM:+0200
TZOFFSETTO:+0100
TZNAME:CET
DTSTART:20191027T010000
END:STANDARD
BEGIN:DAYLIGHT
TZOFFSETFROM:+0100
TZOFFSETTO:+0200
TZNAME:CEST
DTSTART:20200329T010000
END:DAYLIGHT
BEGIN:STANDARD
TZOFFSETFROM:+0200
TZOFFSETTO:+0100
TZNAME:CET
DTSTART:20201025T010000
END:STANDARD
BEGIN:DAYLIGHT
TZOFFSETFROM:+0100
TZOFFSETTO:+0200
TZNAME:CEST
DTSTART:20210328T010000
END:DAYLIGHT
BEGIN:STANDARD
TZOFFSETFROM:+0200
TZOFFSETTO:+0100
TZNAME:CET
DTSTART:20211031T010000
END:STANDARD
END:VTIMEZONE
BEGIN:VEVENT
DTSTART;TZID=Europe/Berlin:20200301T110000
DTEND;TZID=Europe/Berlin:20200301T123000
DTSTAMP:20260425T223233
CREATED:20190403T100357Z
LAST-MODIFIED:20200227T175446Z
UID:3462-1583060400-1583065800@evresi.de
SUMMARY:Kindergottesdienst Remagen und Sinzig
DESCRIPTION:Zur Zeit findet der Kindergottesdienst für Remagen und Sinzig gemeinsam im Gemeindehaus in Remagen statt.
URL:https://evresi.de/event/kindergottesdienst-remagen-2-2-2-2-2-2-2-2-2-2-2/
LOCATION:Friedenskirche Remagen\, Marktstr. 25\, Remagen\, 53424\, Deutschland
ATTACH;FMTTYPE=image/jpeg:https://evresi.de/wp-content/uploads/2018/11/Kindergottesdienst.jpeg
END:VEVENT
BEGIN:VEVENT
DTSTART;TZID=Europe/Berlin:20200305T143000
DTEND;TZID=Europe/Berlin:20200305T163000
DTSTAMP:20260425T223233
CREATED:20190107T085806Z
LAST-MODIFIED:20200227T175607Z
UID:3466-1583418600-1583425800@evresi.de
SUMMARY:Frauen-Kreis Sinzig
DESCRIPTION:weitere Informationen finden Sie hier
URL:https://evresi.de/event/frauen-kreis-sinzig-2-2-2-2-3-2-2-2-2-2-2/
LOCATION:Gemeindehaus Sinzig\, Dreifaltigkeitsweg 26\, Sinzig\, 53489\, Deutschland
ATTACH;FMTTYPE=image/jpeg:https://evresi.de/wp-content/uploads/2019/01/Seniorenarbeit-Sessel-Kissen-bunt-.jpg
END:VEVENT
BEGIN:VEVENT
DTSTART;TZID=Europe/Berlin:20200306T120000
DTEND;TZID=Europe/Berlin:20200306T133000
DTSTAMP:20260425T223233
CREATED:20190110T165657Z
LAST-MODIFIED:20200227T175654Z
UID:3468-1583496000-1583501400@evresi.de
SUMMARY:Senioren-Mittagstisch
DESCRIPTION:Um Anmeldung wird bis zum davorliegenden Montag gebeten \nWeitere Informationen finden Sie hier
URL:https://evresi.de/event/senioren-mittagstisch-2-2-2-2-2-2-2-2-2-2-2-2-2/
LOCATION:Gemeindehaus Remagen\, Marktstr. 25\, Remagen\, 53424\, Deutschland
ATTACH;FMTTYPE=image/jpeg:https://evresi.de/wp-content/uploads/2019/01/Seniorenmittagstisch.jpg
END:VEVENT
BEGIN:VEVENT
DTSTART;TZID=Europe/Berlin:20190201T120000
DTEND;TZID=Europe/Berlin:20190201T140000
DTSTAMP:20260425T223233
CREATED:20190110T165657Z
LAST-MODIFIED:20190110T165657Z
UID:2176-1549022400-1549029600@evresi.de
SUMMARY:Senioren-Mittagstisch
DESCRIPTION:Um Anmeldung wird bis zum davorliegenden Montag gebeten \nWeitere Informationen finden Sie hier
URL:https://evresi.de/event/senioren-mittagstisch/
ATTACH;FMTTYPE=image/jpeg:https://evresi.de/wp-content/uploads/2019/01/Seniorenmittagstisch.jpg
END:VEVENT
BEGIN:VEVENT
DTSTART;TZID=Europe/Berlin:20200309T190000
DTEND;TZID=Europe/Berlin:20200309T200000
DTSTAMP:20260425T223233
CREATED:20190107T091724Z
LAST-MODIFIED:20200227T175530Z
UID:3464-1583780400-1583784000@evresi.de
SUMMARY:Ökumenisches Friedensgebet
DESCRIPTION:
URL:https://evresi.de/event/oekumenisches-friedensgebet-2-2019-05-13-2-2-2-2-2-2-2-2/
LOCATION:Friedenskirche Remagen\, Marktstr. 25\, Remagen\, 53424\, Deutschland
ATTACH;FMTTYPE=image/gif:https://evresi.de/wp-content/uploads/2019/01/Bild-Friedensgebet.gif
END:VEVENT
BEGIN:VEVENT
DTSTART;TZID=Europe/Berlin:20200310T193000
DTEND;TZID=Europe/Berlin:20200310T213000
DTSTAMP:20260425T223233
CREATED:20190107T093212Z
LAST-MODIFIED:20200227T175317Z
UID:3460-1583868600-1583875800@evresi.de
SUMMARY:Elternabend Sinziger Konfirmanden
DESCRIPTION:
URL:https://evresi.de/event/elternabend-konfirmanden-sinzig-2-2-2-2-2/
LOCATION:Gemeindehaus Sinzig\, Dreifaltigkeitsweg 26\, Sinzig\, 53489\, Deutschland
ATTACH;FMTTYPE=image/jpeg:https://evresi.de/wp-content/uploads/2019/01/Konfirmandenarbeit1.jpg
END:VEVENT
BEGIN:VEVENT
DTSTART;TZID=Europe/Berlin:20190213T150000
DTEND;TZID=Europe/Berlin:20190213T170000
DTSTAMP:20260425T223233
CREATED:20190110T164840Z
LAST-MODIFIED:20190110T165744Z
UID:2171-1550070000-1550077200@evresi.de
SUMMARY:Seniorenkreis Remagen
DESCRIPTION:Informationen finden Sie hier
URL:https://evresi.de/event/seniorenkreis-remagen/
LOCATION:Gemeindehaus Remagen\, Marktstr. 25\, Remagen\, 53424\, Deutschland
ATTACH;FMTTYPE=image/jpeg:https://evresi.de/wp-content/uploads/2019/01/Seniorenarbeit-Sessel-Kissen-bunt-.jpg
END:VEVENT
BEGIN:VEVENT
DTSTART;TZID=Europe/Berlin:20200311T150000
DTEND;TZID=Europe/Berlin:20200311T170000
DTSTAMP:20260425T223233
CREATED:20190110T164840Z
LAST-MODIFIED:20200227T175800Z
UID:3470-1583938800-1583946000@evresi.de
SUMMARY:Seniorenkreis Remagen
DESCRIPTION:Weitere Informationen finden Sie hier
URL:https://evresi.de/event/seniorenkreis-remagen-2-2-2-2-2-2-2-2-2-2/
LOCATION:Gemeindehaus Remagen\, Marktstr. 25\, Remagen\, 53424\, Deutschland
ATTACH;FMTTYPE=image/jpeg:https://evresi.de/wp-content/uploads/2019/01/Seniorenarbeit-Sessel-Kissen-bunt-.jpg
END:VEVENT
BEGIN:VEVENT
DTSTART;TZID=Europe/Berlin:20200312T170000
DTEND;TZID=Europe/Berlin:20200312T190000
DTSTAMP:20260425T223233
CREATED:20190107T092759Z
LAST-MODIFIED:20200306T084607Z
UID:3496-1584032400-1584039600@evresi.de
SUMMARY:Offener Treff für "Angehörige dementer Menschen"
DESCRIPTION:Informationen finden Sie hier
URL:https://evresi.de/event/offener-treff-angehoerige-dementer-menschen-2-2-2-2-2-2-2-2-2-2-2-2/
LOCATION:Gemeindehaus Sinzig\, Dreifaltigkeitsweg 26\, Sinzig\, 53489\, Deutschland
ATTACH;FMTTYPE=image/jpeg:https://evresi.de/wp-content/uploads/2018/06/Unbenannt-4.jpg
END:VEVENT
BEGIN:VEVENT
DTSTART;TZID=Europe/Berlin:20200313T150000
DTEND;TZID=Europe/Berlin:20200313T170000
DTSTAMP:20260425T223233
CREATED:20181130T111501Z
LAST-MODIFIED:20200128T093649Z
UID:3390-1584111600-1584118800@evresi.de
SUMMARY:Begegnungscafé
DESCRIPTION:Informationen finden sie hier.
URL:https://evresi.de/event/begegnungscafe-2018-12-21-2-2019-03-22-2-2-2-2-2-2-2-2-2-2-2-2-2-2-3-2-2-2-2-2/
LOCATION:Gemeindehaus Sinzig\, Dreifaltigkeitsweg 26\, Sinzig\, 53489\, Deutschland
ATTACH;FMTTYPE=image/jpeg:https://evresi.de/wp-content/uploads/2019/01/Begegnungscafé-Tee-und-Teekanne-.jpg
END:VEVENT
END:VCALENDAR