BEGIN:VCALENDAR
VERSION:2.0
PRODID:-//Evresi - ECPv6.15.12.1//NONSGML v1.0//EN
CALSCALE:GREGORIAN
METHOD:PUBLISH
X-ORIGINAL-URL:https://evresi.de
X-WR-CALDESC:Veranstaltungen für Evresi
REFRESH-INTERVAL;VALUE=DURATION:PT1H
X-Robots-Tag:noindex
X-PUBLISHED-TTL:PT1H
BEGIN:VTIMEZONE
TZID:Europe/Berlin
BEGIN:DAYLIGHT
TZOFFSETFROM:+0100
TZOFFSETTO:+0200
TZNAME:CEST
DTSTART:20180325T010000
END:DAYLIGHT
BEGIN:STANDARD
TZOFFSETFROM:+0200
TZOFFSETTO:+0100
TZNAME:CET
DTSTART:20181028T010000
END:STANDARD
BEGIN:DAYLIGHT
TZOFFSETFROM:+0100
TZOFFSETTO:+0200
TZNAME:CEST
DTSTART:20190331T010000
END:DAYLIGHT
BEGIN:STANDARD
TZOFFSETFROM:+0200
TZOFFSETTO:+0100
TZNAME:CET
DTSTART:20191027T010000
END:STANDARD
BEGIN:DAYLIGHT
TZOFFSETFROM:+0100
TZOFFSETTO:+0200
TZNAME:CEST
DTSTART:20200329T010000
END:DAYLIGHT
BEGIN:STANDARD
TZOFFSETFROM:+0200
TZOFFSETTO:+0100
TZNAME:CET
DTSTART:20201025T010000
END:STANDARD
END:VTIMEZONE
BEGIN:VEVENT
DTSTART;TZID=Europe/Berlin:20191201T093000
DTEND;TZID=Europe/Berlin:20191201T110000
DTSTAMP:20260426T032029
CREATED:20190403T100357Z
LAST-MODIFIED:20191108T083109Z
UID:3092-1575192600-1575198000@evresi.de
SUMMARY:Kindergottesdienst Remagen
DESCRIPTION:Informationen finden Sie hier
URL:https://evresi.de/event/kindergottesdienst-remagen-2-2-2-2-2-2-2-2/
LOCATION:Friedenskirche Remagen\, Marktstr. 25\, Remagen\, 53424\, Deutschland
ATTACH;FMTTYPE=image/jpeg:https://evresi.de/wp-content/uploads/2018/11/Kindergottesdienst.jpeg
END:VEVENT
BEGIN:VEVENT
DTSTART;TZID=Europe/Berlin:20191203T180000
DTEND;TZID=Europe/Berlin:20191203T183000
DTSTAMP:20260426T032029
CREATED:20181130T100919Z
LAST-MODIFIED:20191126T093239Z
UID:3145-1575396000-1575397800@evresi.de
SUMMARY:Lebendiger Adventskalender
DESCRIPTION:Wie in den vergangenen Jahren wollen wir uns\nökumenisch zum lebendigen Adventskalender treffen\nund besuchen.\nWir treffen uns jeweils von 18.00 – 18.30 Uhr am Haus unserer Gastgeber zum\ngemeinsamen Singen\, Hören und Begegnen. Jede und jeder ist eingeladen zum\nInnehalten im Advent. Sagen Sie es bitte weiter; kommen Sie einfach und bringen\nauch noch andere mit. Bitte bringen Sie auch den Becher für ein heißes Getränk mit.\nHerzlichen Dank allen Gastgeberinnen und Gastgebern und auf Wiedersehen vor\nden Türen – im Advent.
URL:https://evresi.de/event/lebendiger-adventskalender-2-2-3/
LOCATION:Fam. S. Schmitt\, Koisdorfer Str. 23\, Sinzig\, 53489\, Deutschland
ATTACH;FMTTYPE=image/jpeg:https://evresi.de/wp-content/uploads/2018/11/Lebendinger_Advent.jpg
END:VEVENT
BEGIN:VEVENT
DTSTART;TZID=Europe/Berlin:20191203T183000
DTEND;TZID=Europe/Berlin:20191203T200000
DTSTAMP:20260426T032029
CREATED:20190812T082318Z
LAST-MODIFIED:20191129T100048Z
UID:3164-1575397800-1575403200@evresi.de
SUMMARY:Elternabend Remagener Konfirmanden
DESCRIPTION:
URL:https://evresi.de/event/elternabend-remagener-konfirmanden-2/
LOCATION:Gemeindehaus Remagen\, Marktstr. 25\, Remagen\, 53424\, Deutschland
ATTACH;FMTTYPE=image/jpeg:https://evresi.de/wp-content/uploads/2019/08/IMG_0459.jpg
END:VEVENT
BEGIN:VEVENT
DTSTART;TZID=Europe/Berlin:20191205T063000
DTEND;TZID=Europe/Berlin:20191205T080000
DTSTAMP:20260426T032029
CREATED:20181109T102349Z
LAST-MODIFIED:20191129T085119Z
UID:3132-1575527400-1575532800@evresi.de
SUMMARY:Taizé Gebet im Advent
DESCRIPTION:An drei Donnerstagmorgen im Advent feiern wir im Gemeindehaus Sinzig wieder ein Taizé-Gebet – mit den wunderbaren Gesängen aus Taizé und Worten und Stille\, die durch den ganzen Tag tragen können. Nach den Gebeten sind alle zum gemeinsamen Frühstück eingeladen.
URL:https://evresi.de/event/taize-gebet-im-advent-2018-12-13-2/
ATTACH;FMTTYPE=image/jpeg:https://evresi.de/wp-content/uploads/2018/06/08-Kreuz-mit-Kerzen.jpg
END:VEVENT
BEGIN:VEVENT
DTSTART;TZID=Europe/Berlin:20191206T120000
DTEND;TZID=Europe/Berlin:20191206T133000
DTSTAMP:20260426T032029
CREATED:20190110T165657Z
LAST-MODIFIED:20191108T100431Z
UID:3096-1575633600-1575639000@evresi.de
SUMMARY:Senioren-Mittagstisch
DESCRIPTION:Um Anmeldung wird bis zum davorliegenden Montag gebeten \nWeitere Informationen finden Sie hier
URL:https://evresi.de/event/senioren-mittagstisch-2-2-2-2-2-2-2-2-2-2/
LOCATION:Gemeindehaus Remagen\, Marktstr. 25\, Remagen\, 53424\, Deutschland
ATTACH;FMTTYPE=image/jpeg:https://evresi.de/wp-content/uploads/2019/01/Seniorenmittagstisch.jpg
END:VEVENT
BEGIN:VEVENT
DTSTART;TZID=Europe/Berlin:20190201T120000
DTEND;TZID=Europe/Berlin:20190201T140000
DTSTAMP:20260426T032029
CREATED:20190110T165657Z
LAST-MODIFIED:20190110T165657Z
UID:2176-1549022400-1549029600@evresi.de
SUMMARY:Senioren-Mittagstisch
DESCRIPTION:Um Anmeldung wird bis zum davorliegenden Montag gebeten \nWeitere Informationen finden Sie hier
URL:https://evresi.de/event/senioren-mittagstisch/
ATTACH;FMTTYPE=image/jpeg:https://evresi.de/wp-content/uploads/2019/01/Seniorenmittagstisch.jpg
END:VEVENT
BEGIN:VEVENT
DTSTART;TZID=Europe/Berlin:20191206T150000
DTEND;TZID=Europe/Berlin:20191206T170000
DTSTAMP:20260426T032029
CREATED:20181130T111501Z
LAST-MODIFIED:20191108T100551Z
UID:2952-1575644400-1575651600@evresi.de
SUMMARY:Begegnungscafé
DESCRIPTION:Informationen finden sie hier.
URL:https://evresi.de/event/begegnungscafe-2018-12-21-2-2019-03-22-2-2-2-2-2-2-2-2-2-2-2-2-2-2-2/
LOCATION:Gemeindehaus Sinzig\, Dreifaltigkeitsweg 26\, Sinzig\, 53489\, Deutschland
ATTACH;FMTTYPE=image/jpeg:https://evresi.de/wp-content/uploads/2019/01/Begegnungscafé-Tee-und-Teekanne-.jpg
END:VEVENT
BEGIN:VEVENT
DTSTART;TZID=Europe/Berlin:20191206T180000
DTEND;TZID=Europe/Berlin:20191206T183000
DTSTAMP:20260426T032029
CREATED:20181130T100919Z
LAST-MODIFIED:20191126T093528Z
UID:3140-1575655200-1575657000@evresi.de
SUMMARY:Lebendiger Adventskalender
DESCRIPTION:Wie in den vergangenen Jahren wollen wir uns\nökumenisch zum lebendigen Adventskalender treffen\nund besuchen.\nWir treffen uns jeweils von 18.00 – 18.30 Uhr am Haus unserer Gastgeber zum\ngemeinsamen Singen\, Hören und Begegnen. Jede und jeder ist eingeladen zum\nInnehalten im Advent. Sagen Sie es bitte weiter; kommen Sie einfach und bringen\nauch noch andere mit. Bitte bringen Sie auch den Becher für ein heißes Getränk mit.\nHerzlichen Dank allen Gastgeberinnen und Gastgebern und auf Wiedersehen vor\nden Türen – im Advent.
URL:https://evresi.de/event/lebendiger-adventskalender-3/
LOCATION:Fam. F. Münch\, St. Georg Str. 11\, Sinzig\, 53489\, Deutschland
ATTACH;FMTTYPE=image/jpeg:https://evresi.de/wp-content/uploads/2018/11/Lebendinger_Advent.jpg
END:VEVENT
BEGIN:VEVENT
DTSTART;TZID=Europe/Berlin:20191209T190000
DTEND;TZID=Europe/Berlin:20191209T200000
DTSTAMP:20260426T032029
CREATED:20190107T091724Z
LAST-MODIFIED:20191108T100749Z
UID:3100-1575918000-1575921600@evresi.de
SUMMARY:Ökumenisches Friedensgebet
DESCRIPTION:
URL:https://evresi.de/event/oekumenisches-friedensgebet-2-2019-05-13-2-2-2-2-2/
LOCATION:Friedenskirche Remagen\, Marktstr. 25\, Remagen\, 53424\, Deutschland
ATTACH;FMTTYPE=image/gif:https://evresi.de/wp-content/uploads/2019/01/Bild-Friedensgebet.gif
END:VEVENT
BEGIN:VEVENT
DTSTART;TZID=Europe/Berlin:20191209T193000
DTEND;TZID=Europe/Berlin:20191209T220000
DTSTAMP:20260426T032029
CREATED:20181130T112352Z
LAST-MODIFIED:20191108T101140Z
UID:3106-1575919800-1575928800@evresi.de
SUMMARY:Frauenabendkreis
DESCRIPTION:Adventliches Beisammensein \nWeitere Informationen finden Sie hier
URL:https://evresi.de/event/frauenabendkreis-2019-05-20-2-2-3-2-2/
LOCATION:Gemeindehaus Sinzig\, Dreifaltigkeitsweg 26\, Sinzig\, 53489\, Deutschland
ATTACH;FMTTYPE=image/jpeg:https://evresi.de/wp-content/uploads/2019/01/Frauenabendkreis-Keramik-Kreise.jpg
END:VEVENT
BEGIN:VEVENT
DTSTART;TZID=Europe/Berlin:20191210T180000
DTEND;TZID=Europe/Berlin:20191210T183000
DTSTAMP:20260426T032029
CREATED:20181130T100919Z
LAST-MODIFIED:20191126T091830Z
UID:3143-1576000800-1576002600@evresi.de
SUMMARY:Lebendiger Adventskalender
DESCRIPTION:Wie in den vergangenen Jahren wollen wir uns\nökumenisch zum lebendigen Adventskalender treffen\nund besuchen.\nWir treffen uns jeweils von 18.00 – 18.30 Uhr am Haus unserer Gastgeber zum\ngemeinsamen Singen\, Hören und Begegnen. Jede und jeder ist eingeladen zum\nInnehalten im Advent. Sagen Sie es bitte weiter; kommen Sie einfach und bringen\nauch noch andere mit. Bitte bringen Sie auch den Becher für ein heißes Getränk mit.\nHerzlichen Dank allen Gastgeberinnen und Gastgebern und auf Wiedersehen vor\nden Türen – im Advent.
URL:https://evresi.de/event/lebendiger-adventskalender-2-3/
LOCATION:Frau Güthe\, Mühlenbergweg 5\, Sinzig\, 53489\, Deutschland
ATTACH;FMTTYPE=image/jpeg:https://evresi.de/wp-content/uploads/2018/11/Lebendinger_Advent.jpg
END:VEVENT
BEGIN:VEVENT
DTSTART;TZID=Europe/Berlin:20191211T150000
DTEND;TZID=Europe/Berlin:20191211T170000
DTSTAMP:20260426T032029
CREATED:20190110T164840Z
LAST-MODIFIED:20191024T161258Z
UID:2854-1576076400-1576083600@evresi.de
SUMMARY:Seniorenkreis Remagen
DESCRIPTION:Weitere Informationen finden Sie hier
URL:https://evresi.de/event/seniorenkreis-remagen-2-2-2-2-2-2-2/
LOCATION:Gemeindehaus Remagen\, Marktstr. 25\, Remagen\, 53424\, Deutschland
ATTACH;FMTTYPE=image/jpeg:https://evresi.de/wp-content/uploads/2019/01/Seniorenarbeit-Sessel-Kissen-bunt-.jpg
END:VEVENT
BEGIN:VEVENT
DTSTART;TZID=Europe/Berlin:20190213T150000
DTEND;TZID=Europe/Berlin:20190213T170000
DTSTAMP:20260426T032029
CREATED:20190110T164840Z
LAST-MODIFIED:20190110T165744Z
UID:2171-1550070000-1550077200@evresi.de
SUMMARY:Seniorenkreis Remagen
DESCRIPTION:Informationen finden Sie hier
URL:https://evresi.de/event/seniorenkreis-remagen/
LOCATION:Gemeindehaus Remagen\, Marktstr. 25\, Remagen\, 53424\, Deutschland
ATTACH;FMTTYPE=image/jpeg:https://evresi.de/wp-content/uploads/2019/01/Seniorenarbeit-Sessel-Kissen-bunt-.jpg
END:VEVENT
BEGIN:VEVENT
DTSTART;TZID=Europe/Berlin:20191212T063000
DTEND;TZID=Europe/Berlin:20191212T080000
DTSTAMP:20260426T032029
CREATED:20181109T102349Z
LAST-MODIFIED:20191129T085148Z
UID:3136-1576132200-1576137600@evresi.de
SUMMARY:Taizé Gebet im Advent
DESCRIPTION:An drei Donnerstagmorgen im Advent feiern wir im Gemeindehaus Sinzig wieder ein Taizé-Gebet – mit den wunderbaren Gesängen aus Taizé und Worten und Stille\, die durch den ganzen Tag tragen können. Nach den Gebeten sind alle zum gemeinsamen Frühstück eingeladen.
URL:https://evresi.de/event/taize-gebet-im-advent-2018-12-13-2-2/
ATTACH;FMTTYPE=image/jpeg:https://evresi.de/wp-content/uploads/2018/06/08-Kreuz-mit-Kerzen.jpg
END:VEVENT
BEGIN:VEVENT
DTSTART;TZID=Europe/Berlin:20191212T143000
DTEND;TZID=Europe/Berlin:20191212T163000
DTSTAMP:20260426T032029
CREATED:20190107T085806Z
LAST-MODIFIED:20191108T083248Z
UID:3094-1576161000-1576168200@evresi.de
SUMMARY:Frauen-Kreis Sinzig
DESCRIPTION:Adventsfeier \nweitere Informationen finden Sie hier
URL:https://evresi.de/event/frauen-kreis-sinzig-2-2-2-2-3-2-2-2/
LOCATION:Gemeindehaus Sinzig\, Dreifaltigkeitsweg 26\, Sinzig\, 53489\, Deutschland
ATTACH;FMTTYPE=image/jpeg:https://evresi.de/wp-content/uploads/2019/01/Seniorenarbeit-Sessel-Kissen-bunt-.jpg
END:VEVENT
BEGIN:VEVENT
DTSTART;TZID=Europe/Berlin:20191212T170000
DTEND;TZID=Europe/Berlin:20191212T190000
DTSTAMP:20260426T032029
CREATED:20190107T092759Z
LAST-MODIFIED:20191108T101004Z
UID:3104-1576170000-1576177200@evresi.de
SUMMARY:Offener Treff für "Angehörige dementer Menschen"
DESCRIPTION:Informationen finden Sie hier
URL:https://evresi.de/event/offener-treff-angehoerige-dementer-menschen-2-2-2-2-2-2-2-2-2/
LOCATION:Gemeindehaus Sinzig\, Dreifaltigkeitsweg 26\, Sinzig\, 53489\, Deutschland
ATTACH;FMTTYPE=image/jpeg:https://evresi.de/wp-content/uploads/2018/06/Unbenannt-4.jpg
END:VEVENT
BEGIN:VEVENT
DTSTART;TZID=Europe/Berlin:20191213T180000
DTEND;TZID=Europe/Berlin:20191213T183000
DTSTAMP:20260426T032029
CREATED:20181130T100919Z
LAST-MODIFIED:20191126T093706Z
UID:3146-1576260000-1576261800@evresi.de
SUMMARY:Lebendiger Adventskalender
DESCRIPTION:Wie in den vergangenen Jahren wollen wir uns\nökumenisch zum lebendigen Adventskalender treffen\nund besuchen.\nWir treffen uns jeweils von 18.00 – 18.30 Uhr am Haus unserer Gastgeber zum\ngemeinsamen Singen\, Hören und Begegnen. Jede und jeder ist eingeladen zum\nInnehalten im Advent. Sagen Sie es bitte weiter; kommen Sie einfach und bringen\nauch noch andere mit. Bitte bringen Sie auch den Becher für ein heißes Getränk mit.\nHerzlichen Dank allen Gastgeberinnen und Gastgebern und auf Wiedersehen vor\nden Türen – im Advent.
URL:https://evresi.de/event/lebendiger-adventskalender-2-2-2-3/
LOCATION:Fam. M. Vogel\, Goldguldenweg 2\, Sinzig\, 53489\, Deutschland
ATTACH;FMTTYPE=image/jpeg:https://evresi.de/wp-content/uploads/2018/11/Lebendinger_Advent.jpg
END:VEVENT
BEGIN:VEVENT
DTSTART;TZID=Europe/Berlin:20191214T170000
DTEND;TZID=Europe/Berlin:20191214T190000
DTSTAMP:20260426T032029
CREATED:20190107T090147Z
LAST-MODIFIED:20191210T090931Z
UID:3201-1576342800-1576350000@evresi.de
SUMMARY:Kindergottesdienst in Sinzig
DESCRIPTION:Kleine Adventsfeier im Kindergottesdienst Sinzig\nAm Samstag\, 14. Dezember 2019\, findet um 17 Uhr vorerst zum letzten Mal der Kindergottesdienst in Sinzig statt. \nWir hören Geschichten\, überlegen\, was warum zum Advent dazugehört\, trinken Kinderpunsch und essen Gebäck mit kostbaren Gewürzen. \nWeil man sich im Advent Zeit nehmen muss\, dauert der Kindergottesdienst etwas länger: anderthalb bis zwei Stunden. \nIm Januar sind alle Kinder zum Kindergottesdienst in Remagen eingeladen: am 1. Sonntag im Monat um 11 Uhr in die Friedenskirche. \nHerzlich Willkommen!
URL:https://evresi.de/event/kindergottesdienst-in-sinzig-2-2-2-2-2-2-2-2-2/
LOCATION:Gemeindehaus Sinzig\, Dreifaltigkeitsweg 26\, Sinzig\, 53489\, Deutschland
ATTACH;FMTTYPE=image/jpeg:https://evresi.de/wp-content/uploads/2018/11/Kindergottesdienst.jpeg
END:VEVENT
BEGIN:VEVENT
DTSTART;TZID=Europe/Berlin:20191217T180000
DTEND;TZID=Europe/Berlin:20191217T183000
DTSTAMP:20260426T032029
CREATED:20181130T100919Z
LAST-MODIFIED:20191126T092805Z
UID:3147-1576605600-1576607400@evresi.de
SUMMARY:Lebendiger Adventskalender
DESCRIPTION:Wie in den vergangenen Jahren wollen wir uns\nökumenisch zum lebendigen Adventskalender treffen\nund besuchen.\nWir treffen uns jeweils von 18.00 – 18.30 Uhr am Haus unserer Gastgeber zum\ngemeinsamen Singen\, Hören und Begegnen. Jede und jeder ist eingeladen zum\nInnehalten im Advent. Sagen Sie es bitte weiter; kommen Sie einfach und bringen\nauch noch andere mit. Bitte bringen Sie auch den Becher für ein heißes Getränk mit.\nHerzlichen Dank allen Gastgeberinnen und Gastgebern und auf Wiedersehen vor\nden Türen – im Advent.
URL:https://evresi.de/event/lebendiger-adventskalender-2-2-2-2-3/
LOCATION:Gemeindehaus Sinzig\, Dreifaltigkeitsweg 26\, Sinzig\, 53489\, Deutschland
ATTACH;FMTTYPE=image/jpeg:https://evresi.de/wp-content/uploads/2018/11/Lebendinger_Advent.jpg
END:VEVENT
BEGIN:VEVENT
DTSTART;TZID=Europe/Berlin:20191217T193000
DTEND;TZID=Europe/Berlin:20191217T213000
DTSTAMP:20260426T032029
CREATED:20181130T112918Z
LAST-MODIFIED:20191108T101245Z
UID:3108-1576611000-1576618200@evresi.de
SUMMARY:Männergruppe
DESCRIPTION:Adventsabend \nWeitere Informationen finden Sie hier
URL:https://evresi.de/event/maennergruppe-2-2-2-2-2-2-2-2-2-2-2/
LOCATION:Fam. Heym\, Assessorenweg 16\, Sinzig\, 53489\, Deutschland
ATTACH;FMTTYPE=image/jpeg:https://evresi.de/wp-content/uploads/2019/01/Bild-Männergruppe.jpg
END:VEVENT
BEGIN:VEVENT
DTSTART;TZID=Europe/Berlin:20191218T180000
DTEND;TZID=Europe/Berlin:20191218T190000
DTSTAMP:20260426T032029
CREATED:20181206T175251Z
LAST-MODIFIED:20191216T081851Z
UID:3175-1576692000-1576695600@evresi.de
SUMMARY:Weihnachtsliederprobe in Sinzig
DESCRIPTION:Weihnachtsliederprobe in der Adventskirche \nSie singen gerne die wunderschönen Advents- und Weihnachtslieder? Und am liebsten mit anderen zusammen? \nDann sind Sie herzlich eingeladen zur Weihnachtsliederprobe in die Adventskirche in Sinzig. \nSchüler der Blockkflöten- und Klavierklassen der Musikpädagoginnen Irmgard Morschhausen und Miriam Deres-Krowke begleiten zahlreiche Weihnachtslieder\, die für das nahende Fest mit der singenden Mithilfe des Publikums noch einmal geprobt werden wollen. Abgerundet wird das Programm von Instrumentalstücken\, die auf die Winter- und Weihnachtszeit einstimmen sollen.
URL:https://evresi.de/event/weihnachtsliederprobe-2/
LOCATION:Adventskirche Sinzig
ATTACH;FMTTYPE=image/jpeg:https://evresi.de/wp-content/uploads/2019/12/2019-Weihnachtsliederprobe.jpg
END:VEVENT
BEGIN:VEVENT
DTSTART;TZID=Europe/Berlin:20191219T063000
DTEND;TZID=Europe/Berlin:20191219T080000
DTSTAMP:20260426T032029
CREATED:20181109T102349Z
LAST-MODIFIED:20191129T085221Z
UID:3138-1576737000-1576742400@evresi.de
SUMMARY:Taizé Gebet im Advent
DESCRIPTION:An drei Donnerstagmorgen im Advent feiern wir im Gemeindehaus Sinzig wieder ein Taizé-Gebet – mit den wunderbaren Gesängen aus Taizé und Worten und Stille\, die durch den ganzen Tag tragen können. Nach den Gebeten sind alle zum gemeinsamen Frühstück eingeladen.
URL:https://evresi.de/event/taize-gebet-im-advent-2018-12-13-2-2-2/
ATTACH;FMTTYPE=image/jpeg:https://evresi.de/wp-content/uploads/2018/06/08-Kreuz-mit-Kerzen.jpg
END:VEVENT
BEGIN:VEVENT
DTSTART;TZID=Europe/Berlin:20191220T150000
DTEND;TZID=Europe/Berlin:20191220T170000
DTSTAMP:20260426T032029
CREATED:20181130T111501Z
LAST-MODIFIED:20191108T100631Z
UID:3098-1576854000-1576861200@evresi.de
SUMMARY:Begegnungscafé
DESCRIPTION:Informationen finden sie hier.
URL:https://evresi.de/event/begegnungscafe-2018-12-21-2-2019-03-22-2-2-2-2-2-2-2-2-2-2-2-2-2-2-3/
LOCATION:Gemeindehaus Sinzig\, Dreifaltigkeitsweg 26\, Sinzig\, 53489\, Deutschland
ATTACH;FMTTYPE=image/jpeg:https://evresi.de/wp-content/uploads/2019/01/Begegnungscafé-Tee-und-Teekanne-.jpg
END:VEVENT
BEGIN:VEVENT
DTSTART;TZID=Europe/Berlin:20191220T180000
DTEND;TZID=Europe/Berlin:20191220T183000
DTSTAMP:20260426T032029
CREATED:20181130T100919Z
LAST-MODIFIED:20191213T112358Z
UID:3141-1576864800-1576866600@evresi.de
SUMMARY:Lebendiger Adventskalender - Termin fällt aus
DESCRIPTION:Dieser Termin muss leider ausfallen
URL:https://evresi.de/event/lebendiger-adventskalender-2-2-2-2-2-2/
LOCATION:Fam. Knieps/Nitsche\, Reinald-v.-Dassel-Str. 3\, Sinzig\, 53489\, Deutschland
ATTACH;FMTTYPE=image/jpeg:https://evresi.de/wp-content/uploads/2018/11/Lebendinger_Advent.jpg
END:VEVENT
BEGIN:VEVENT
DTSTART;TZID=Europe/Berlin:20191221T180000
DTEND;TZID=Europe/Berlin:20191221T200000
DTSTAMP:20260426T032029
CREATED:20191108T082919Z
LAST-MODIFIED:20191108T082919Z
UID:3090-1576951200-1576958400@evresi.de
SUMMARY:Weihnachtskonzert
DESCRIPTION:
URL:https://evresi.de/event/weihnachtskonzert/
LOCATION:Friedenskirche Remagen\, Marktstr. 25\, Remagen\, 53424\, Deutschland
ATTACH;FMTTYPE=image/jpeg:https://evresi.de/wp-content/uploads/2019/11/Adventskonzert-Kantorei-2019.jpg
END:VEVENT
BEGIN:VEVENT
DTSTART;TZID=Europe/Berlin:20191229T110000
DTEND;TZID=Europe/Berlin:20191229T120000
DTSTAMP:20260426T032029
CREATED:20191223T092819Z
LAST-MODIFIED:20191223T092819Z
UID:3299-1577617200-1577620800@evresi.de
SUMMARY:Gottesdienst zum Musik-Machen in Oberwinter
DESCRIPTION:Gottesdienst zum Musik-Machen\nAm 29. Dezember\, dem Sonntag nach Weihnachten\, dürfen alle\, die wollen\, im Gottesdienst Musik machen. \nWir feiern den Gottesdienst um 11 Uhr in der evangelischen Kirche in Oberwinter. \nAlle dürfen ihr Musikinstrument mitbringen und die Lieder mit begleiten. \nWelche Lieder? Die Noten haben wir im Gemeindebüro Sinzig\, da kann man nachfragen\, und dann schicken wir die Noten zu. \nWer aber schon einmal im Gesangbuch nachschauen will – diese Lieder werden wir singen: \n\nLobt Gott\, ihr Christen\, alle gleich (EG 27\, allerdings in einer anderen Tonart\, nämlich in D-Dur)\nNun singet und seid froh (EG 35)\nWisst ihr noch\, wie es geschehen (EG 52) und\nBethlehem\, du kleine Stadt (EG 55).\n\nAlso: Die Geige\, Flöte\, Gitarre\, Klarinette\, Oboe\, das Akkordeon\, das Cello\, die Mundharmonika\, die Triangel oder was auch immer rausholen\, üben und mitmusizieren. \nWir freuen uns!
URL:https://evresi.de/event/gottesdienst-zum-musik-machen-in-oberwinter/
ATTACH;FMTTYPE=image/jpeg:https://evresi.de/wp-content/uploads/2019/12/176_5504_rgb-Geige-zugeschnitten-scaled.jpg
END:VEVENT
END:VCALENDAR