BEGIN:VCALENDAR
VERSION:2.0
PRODID:-//Evresi - ECPv6.15.12.1//NONSGML v1.0//EN
CALSCALE:GREGORIAN
METHOD:PUBLISH
X-ORIGINAL-URL:https://evresi.de
X-WR-CALDESC:Veranstaltungen für Evresi
REFRESH-INTERVAL;VALUE=DURATION:PT1H
X-Robots-Tag:noindex
X-PUBLISHED-TTL:PT1H
BEGIN:VTIMEZONE
TZID:Europe/Berlin
BEGIN:DAYLIGHT
TZOFFSETFROM:+0100
TZOFFSETTO:+0200
TZNAME:CEST
DTSTART:20180325T010000
END:DAYLIGHT
BEGIN:STANDARD
TZOFFSETFROM:+0200
TZOFFSETTO:+0100
TZNAME:CET
DTSTART:20181028T010000
END:STANDARD
BEGIN:DAYLIGHT
TZOFFSETFROM:+0100
TZOFFSETTO:+0200
TZNAME:CEST
DTSTART:20190331T010000
END:DAYLIGHT
BEGIN:STANDARD
TZOFFSETFROM:+0200
TZOFFSETTO:+0100
TZNAME:CET
DTSTART:20191027T010000
END:STANDARD
BEGIN:DAYLIGHT
TZOFFSETFROM:+0100
TZOFFSETTO:+0200
TZNAME:CEST
DTSTART:20200329T010000
END:DAYLIGHT
BEGIN:STANDARD
TZOFFSETFROM:+0200
TZOFFSETTO:+0100
TZNAME:CET
DTSTART:20201025T010000
END:STANDARD
END:VTIMEZONE
BEGIN:VEVENT
DTSTART;TZID=Europe/Berlin:20190201T120000
DTEND;TZID=Europe/Berlin:20190201T140000
DTSTAMP:20260426T045823
CREATED:20190110T165657Z
LAST-MODIFIED:20190110T165657Z
UID:2176-1549022400-1549029600@evresi.de
SUMMARY:Senioren-Mittagstisch
DESCRIPTION:Um Anmeldung wird bis zum davorliegenden Montag gebeten \nWeitere Informationen finden Sie hier
URL:https://evresi.de/event/senioren-mittagstisch/
ATTACH;FMTTYPE=image/jpeg:https://evresi.de/wp-content/uploads/2019/01/Seniorenmittagstisch.jpg
END:VEVENT
BEGIN:VEVENT
DTSTART;TZID=Europe/Berlin:20191103T093000
DTEND;TZID=Europe/Berlin:20191103T110000
DTSTAMP:20260426T045823
CREATED:20190403T100357Z
LAST-MODIFIED:20191014T092420Z
UID:2970-1572773400-1572778800@evresi.de
SUMMARY:Kindergottesdienst Remagen
DESCRIPTION:Informationen finden Sie hier
URL:https://evresi.de/event/kindergottesdienst-remagen-2-2-2-2-2-2-2/
LOCATION:Friedenskirche Remagen\, Marktstr. 25\, Remagen\, 53424\, Deutschland
ATTACH;FMTTYPE=image/jpeg:https://evresi.de/wp-content/uploads/2018/11/Kindergottesdienst.jpeg
END:VEVENT
BEGIN:VEVENT
DTSTART;TZID=Europe/Berlin:20191107T143000
DTEND;TZID=Europe/Berlin:20191107T163000
DTSTAMP:20260426T045823
CREATED:20190107T085806Z
LAST-MODIFIED:20191014T092527Z
UID:2972-1573137000-1573144200@evresi.de
SUMMARY:Frauen-Kreis Sinzig
DESCRIPTION:weitere Informationen finden Sie hier
URL:https://evresi.de/event/frauen-kreis-sinzig-2-2-2-2-3-2-2/
LOCATION:Gemeindehaus Sinzig\, Dreifaltigkeitsweg 26\, Sinzig\, 53489\, Deutschland
ATTACH;FMTTYPE=image/jpeg:https://evresi.de/wp-content/uploads/2019/01/Seniorenarbeit-Sessel-Kissen-bunt-.jpg
END:VEVENT
BEGIN:VEVENT
DTSTART;TZID=Europe/Berlin:20191108T120000
DTEND;TZID=Europe/Berlin:20191108T133000
DTSTAMP:20260426T045823
CREATED:20190110T165657Z
LAST-MODIFIED:20191014T092319Z
UID:2968-1573214400-1573219800@evresi.de
SUMMARY:Senioren-Mittagstisch
DESCRIPTION:Um Anmeldung wird bis zum davorliegenden Montag gebeten \nWeitere Informationen finden Sie hier
URL:https://evresi.de/event/senioren-mittagstisch-2-2-2-2-2-2-2-2-2/
LOCATION:Gemeindehaus Remagen\, Marktstr. 25\, Remagen\, 53424\, Deutschland
ATTACH;FMTTYPE=image/jpeg:https://evresi.de/wp-content/uploads/2019/01/Seniorenmittagstisch.jpg
END:VEVENT
BEGIN:VEVENT
DTSTART;TZID=Europe/Berlin:20191108T150000
DTEND;TZID=Europe/Berlin:20191108T170000
DTSTAMP:20260426T045823
CREATED:20181130T111501Z
LAST-MODIFIED:20191002T073758Z
UID:2950-1573225200-1573232400@evresi.de
SUMMARY:Begegnungscafé
DESCRIPTION:Informationen finden sie hier.
URL:https://evresi.de/event/begegnungscafe-2018-12-21-2-2019-03-22-2-2-2-2-2-2-2-2-2-2-2-2-2-2/
LOCATION:Gemeindehaus Sinzig\, Dreifaltigkeitsweg 26\, Sinzig\, 53489\, Deutschland
ATTACH;FMTTYPE=image/jpeg:https://evresi.de/wp-content/uploads/2019/01/Begegnungscafé-Tee-und-Teekanne-.jpg
END:VEVENT
BEGIN:VEVENT
DTSTART;TZID=Europe/Berlin:20191111T190000
DTEND;TZID=Europe/Berlin:20191111T200000
DTSTAMP:20260426T045823
CREATED:20190107T091724Z
LAST-MODIFIED:20191014T092622Z
UID:2974-1573498800-1573502400@evresi.de
SUMMARY:Ökumenisches Friedensgebet
DESCRIPTION:
URL:https://evresi.de/event/oekumenisches-friedensgebet-2-2019-05-13-2-2-2-2/
LOCATION:Friedenskirche Remagen\, Marktstr. 25\, Remagen\, 53424\, Deutschland
ATTACH;FMTTYPE=image/gif:https://evresi.de/wp-content/uploads/2019/01/Bild-Friedensgebet.gif
END:VEVENT
BEGIN:VEVENT
DTSTART;TZID=Europe/Berlin:20190213T150000
DTEND;TZID=Europe/Berlin:20190213T170000
DTSTAMP:20260426T045823
CREATED:20190110T164840Z
LAST-MODIFIED:20190110T165744Z
UID:2171-1550070000-1550077200@evresi.de
SUMMARY:Seniorenkreis Remagen
DESCRIPTION:Informationen finden Sie hier
URL:https://evresi.de/event/seniorenkreis-remagen/
LOCATION:Gemeindehaus Remagen\, Marktstr. 25\, Remagen\, 53424\, Deutschland
ATTACH;FMTTYPE=image/jpeg:https://evresi.de/wp-content/uploads/2019/01/Seniorenarbeit-Sessel-Kissen-bunt-.jpg
END:VEVENT
BEGIN:VEVENT
DTSTART;TZID=Europe/Berlin:20191114T170000
DTEND;TZID=Europe/Berlin:20191114T190000
DTSTAMP:20260426T045823
CREATED:20190107T092759Z
LAST-MODIFIED:20191014T092956Z
UID:2976-1573750800-1573758000@evresi.de
SUMMARY:Offener Treff für "Angehörige dementer Menschen"
DESCRIPTION:Informationen finden Sie hier
URL:https://evresi.de/event/offener-treff-angehoerige-dementer-menschen-2-2-2-2-2-2-2-2/
LOCATION:Gemeindehaus Sinzig\, Dreifaltigkeitsweg 26\, Sinzig\, 53489\, Deutschland
ATTACH;FMTTYPE=image/jpeg:https://evresi.de/wp-content/uploads/2018/06/Unbenannt-4.jpg
END:VEVENT
BEGIN:VEVENT
DTSTART;TZID=Europe/Berlin:20191118T193000
DTEND;TZID=Europe/Berlin:20191118T220000
DTSTAMP:20260426T045823
CREATED:20181130T112352Z
LAST-MODIFIED:20191014T095838Z
UID:2981-1574105400-1574114400@evresi.de
SUMMARY:Frauenabendkreis
DESCRIPTION:Thema: „Die Vertreibung aus dem Paradies – Bibelarbeit mit Egli-Figuren“ \nReferentinnen: Dorit Ockenfels und Dr. Petra-Liane Pohl \nWeitere Informationen finden Sie hier
URL:https://evresi.de/event/frauenabendkreis-2019-05-20-2-2-3-2/
LOCATION:Gemeindehaus Sinzig\, Dreifaltigkeitsweg 26\, Sinzig\, 53489\, Deutschland
ATTACH;FMTTYPE=image/jpeg:https://evresi.de/wp-content/uploads/2019/01/Frauenabendkreis-Keramik-Kreise.jpg
END:VEVENT
BEGIN:VEVENT
DTSTART;TZID=Europe/Berlin:20191120T190000
DTEND;TZID=Europe/Berlin:20191120T213000
DTSTAMP:20260426T045823
CREATED:20191014T100631Z
LAST-MODIFIED:20191014T100631Z
UID:2985-1574276400-1574285400@evresi.de
SUMMARY:Ökumenischer Gottesdienst zum Buß- und Bettag
DESCRIPTION:Im Anschluss: Gesprächsabend über ev. Kirchenbauten
URL:https://evresi.de/event/oekumenischer-gottesdienst-zum-buss-und-bettag/
LOCATION:Adventskirche Sinzig
ATTACH;FMTTYPE=image/jpeg:https://evresi.de/wp-content/uploads/2018/06/16-Kirchraum-Antependien-grün-neu.jpg
END:VEVENT
BEGIN:VEVENT
DTSTART;TZID=Europe/Berlin:20191122T150000
DTEND;TZID=Europe/Berlin:20191122T170000
DTSTAMP:20260426T045823
CREATED:20181130T111501Z
LAST-MODIFIED:20191108T100837Z
UID:3102-1574434800-1574442000@evresi.de
SUMMARY:Begegnungscafé
DESCRIPTION:Informationen finden sie hier.
URL:https://evresi.de/event/begegnungscafe-2018-12-21-2-2019-03-22-2-2-2-2-2-2-2-2-2-2-2-2-2-2-4/
LOCATION:Gemeindehaus Sinzig\, Dreifaltigkeitsweg 26\, Sinzig\, 53489\, Deutschland
ATTACH;FMTTYPE=image/jpeg:https://evresi.de/wp-content/uploads/2019/01/Begegnungscafé-Tee-und-Teekanne-.jpg
END:VEVENT
BEGIN:VEVENT
DTSTART;TZID=Europe/Berlin:20191126T193000
DTEND;TZID=Europe/Berlin:20191126T213000
DTSTAMP:20260426T045823
CREATED:20181130T112918Z
LAST-MODIFIED:20191025T094952Z
UID:2983-1574796600-1574803800@evresi.de
SUMMARY:Männergruppe
DESCRIPTION:Thema: „Retter auf See – Die deutsche Gesellschaft zur Rettung Schiffbrüchiger in Geschichte und Gegenwart“ \nWeitere Informationen finden Sie hier
URL:https://evresi.de/event/maennergruppe-2-2-2-2-2-2-2-2-2-2/
LOCATION:Fam. Heym\, Assessorenweg 16\, Sinzig\, 53489\, Deutschland
ATTACH;FMTTYPE=image/jpeg:https://evresi.de/wp-content/uploads/2019/01/Bild-Männergruppe.jpg
END:VEVENT
END:VCALENDAR