BEGIN:VCALENDAR
VERSION:2.0
PRODID:-//Evresi - ECPv6.15.12.1//NONSGML v1.0//EN
CALSCALE:GREGORIAN
METHOD:PUBLISH
X-WR-CALNAME:Evresi
X-ORIGINAL-URL:https://evresi.de
X-WR-CALDESC:Veranstaltungen für Evresi
REFRESH-INTERVAL;VALUE=DURATION:PT1H
X-Robots-Tag:noindex
X-PUBLISHED-TTL:PT1H
BEGIN:VTIMEZONE
TZID:Europe/Berlin
BEGIN:DAYLIGHT
TZOFFSETFROM:+0100
TZOFFSETTO:+0200
TZNAME:CEST
DTSTART:20180325T010000
END:DAYLIGHT
BEGIN:STANDARD
TZOFFSETFROM:+0200
TZOFFSETTO:+0100
TZNAME:CET
DTSTART:20181028T010000
END:STANDARD
BEGIN:DAYLIGHT
TZOFFSETFROM:+0100
TZOFFSETTO:+0200
TZNAME:CEST
DTSTART:20190331T010000
END:DAYLIGHT
BEGIN:STANDARD
TZOFFSETFROM:+0200
TZOFFSETTO:+0100
TZNAME:CET
DTSTART:20191027T010000
END:STANDARD
BEGIN:DAYLIGHT
TZOFFSETFROM:+0100
TZOFFSETTO:+0200
TZNAME:CEST
DTSTART:20200329T010000
END:DAYLIGHT
BEGIN:STANDARD
TZOFFSETFROM:+0200
TZOFFSETTO:+0100
TZNAME:CET
DTSTART:20201025T010000
END:STANDARD
END:VTIMEZONE
BEGIN:VEVENT
DTSTART;TZID=Europe/Berlin:20190705T120000
DTEND;TZID=Europe/Berlin:20190705T133000
DTSTAMP:20260426T014910
CREATED:20190110T165657Z
LAST-MODIFIED:20190603T084750Z
UID:2587-1562328000-1562333400@evresi.de
SUMMARY:Senioren-Mittagstisch
DESCRIPTION:Um Anmeldung wird bis zum davorliegenden Montag gebeten \nWeitere Informationen finden Sie hier
URL:https://evresi.de/event/senioren-mittagstisch-2-2-2-2-2/
LOCATION:Gemeindehaus Remagen\, Marktstr. 25\, Remagen\, 53424\, Deutschland
ATTACH;FMTTYPE=image/jpeg:https://evresi.de/wp-content/uploads/2019/01/Seniorenmittagstisch.jpg
END:VEVENT
BEGIN:VEVENT
DTSTART;TZID=Europe/Berlin:20190201T120000
DTEND;TZID=Europe/Berlin:20190201T140000
DTSTAMP:20260426T014910
CREATED:20190110T165657Z
LAST-MODIFIED:20190110T165657Z
UID:2176-1549022400-1549029600@evresi.de
SUMMARY:Senioren-Mittagstisch
DESCRIPTION:Um Anmeldung wird bis zum davorliegenden Montag gebeten \nWeitere Informationen finden Sie hier
URL:https://evresi.de/event/senioren-mittagstisch/
ATTACH;FMTTYPE=image/jpeg:https://evresi.de/wp-content/uploads/2019/01/Seniorenmittagstisch.jpg
END:VEVENT
BEGIN:VEVENT
DTSTART;TZID=Europe/Berlin:20190707T093000
DTEND;TZID=Europe/Berlin:20190707T110000
DTSTAMP:20260426T014910
CREATED:20190403T100357Z
LAST-MODIFIED:20190603T084448Z
UID:2583-1562491800-1562497200@evresi.de
SUMMARY:Kindergottesdienst Remagen
DESCRIPTION:Informationen finden Sie hier
URL:https://evresi.de/event/kindergottesdienst-remagen-2-2-2/
LOCATION:Friedenskirche Remagen\, Marktstr. 25\, Remagen\, 53424\, Deutschland
ATTACH;FMTTYPE=image/jpeg:https://evresi.de/wp-content/uploads/2018/11/Kindergottesdienst.jpeg
END:VEVENT
BEGIN:VEVENT
DTSTART;TZID=Europe/Berlin:20190213T150000
DTEND;TZID=Europe/Berlin:20190213T170000
DTSTAMP:20260426T014910
CREATED:20190110T164840Z
LAST-MODIFIED:20190110T165744Z
UID:2171-1550070000-1550077200@evresi.de
SUMMARY:Seniorenkreis Remagen
DESCRIPTION:Informationen finden Sie hier
URL:https://evresi.de/event/seniorenkreis-remagen/
LOCATION:Gemeindehaus Remagen\, Marktstr. 25\, Remagen\, 53424\, Deutschland
ATTACH;FMTTYPE=image/jpeg:https://evresi.de/wp-content/uploads/2019/01/Seniorenarbeit-Sessel-Kissen-bunt-.jpg
END:VEVENT
BEGIN:VEVENT
DTSTART;TZID=Europe/Berlin:20190710T150000
DTEND;TZID=Europe/Berlin:20190710T170000
DTSTAMP:20260426T014910
CREATED:20190110T164840Z
LAST-MODIFIED:20190603T084900Z
UID:2589-1562770800-1562778000@evresi.de
SUMMARY:Seniorenkreis Remagen
DESCRIPTION:Weitere Informationen finden Sie hier
URL:https://evresi.de/event/seniorenkreis-remagen-2-2-2-2-2/
LOCATION:Gemeindehaus Remagen\, Marktstr. 25\, Remagen\, 53424\, Deutschland
ATTACH;FMTTYPE=image/jpeg:https://evresi.de/wp-content/uploads/2019/01/Seniorenarbeit-Sessel-Kissen-bunt-.jpg
END:VEVENT
BEGIN:VEVENT
DTSTART;TZID=Europe/Berlin:20190718T170000
DTEND;TZID=Europe/Berlin:20190718T190000
DTSTAMP:20260426T014910
CREATED:20190107T092759Z
LAST-MODIFIED:20190603T085101Z
UID:2591-1563469200-1563476400@evresi.de
SUMMARY:Offener Treff für "Angehörige dementer Menschen"
DESCRIPTION:Informationen finden Sie hier
URL:https://evresi.de/event/offener-treff-angehoerige-dementer-menschen-2-2-2-2-2/
LOCATION:Gemeindehaus Sinzig\, Dreifaltigkeitsweg 26\, Sinzig\, 53489\, Deutschland
ATTACH;FMTTYPE=image/jpeg:https://evresi.de/wp-content/uploads/2018/06/Unbenannt-4.jpg
END:VEVENT
BEGIN:VEVENT
DTSTART;TZID=Europe/Berlin:20190719T150000
DTEND;TZID=Europe/Berlin:20190719T170000
DTSTAMP:20260426T014910
CREATED:20181130T111501Z
LAST-MODIFIED:20190701T083845Z
UID:2467-1563548400-1563555600@evresi.de
SUMMARY:Begegnungscafé
DESCRIPTION:Informationen finden sie hier.
URL:https://evresi.de/event/begegnungscafe-2018-12-21-2-2019-03-22-2-2-2-2-2-2/
LOCATION:Gemeindehaus Sinzig\, Dreifaltigkeitsweg 26\, Sinzig\, 53489\, Deutschland
ATTACH;FMTTYPE=image/jpeg:https://evresi.de/wp-content/uploads/2019/01/Begegnungscafé-Tee-und-Teekanne-.jpg
END:VEVENT
BEGIN:VEVENT
DTSTART;TZID=Europe/Berlin:20190721T110000
DTEND;TZID=Europe/Berlin:20190721T123000
DTSTAMP:20260426T014910
CREATED:20190107T090147Z
LAST-MODIFIED:20190704T165110Z
UID:2652-1563706800-1563712200@evresi.de
SUMMARY:Kindergottesdienst in Sinzig
DESCRIPTION:Informationen finden Sie hier
URL:https://evresi.de/event/kindergottesdienst-in-sinzig-2-2-2-2-2-2/
LOCATION:Gemeindehaus Sinzig\, Dreifaltigkeitsweg 26\, Sinzig\, 53489\, Deutschland
ATTACH;FMTTYPE=image/jpeg:https://evresi.de/wp-content/uploads/2018/11/Kindergottesdienst.jpeg
END:VEVENT
BEGIN:VEVENT
DTSTART;TZID=Europe/Berlin:20190723T193000
DTEND;TZID=Europe/Berlin:20190723T213000
DTSTAMP:20260426T014910
CREATED:20181130T112918Z
LAST-MODIFIED:20190704T153739Z
UID:2594-1563910200-1563917400@evresi.de
SUMMARY:Männergruppe
DESCRIPTION:Thema: Jahresplanung und „Männerthema der EKD“ \nUllrich Heym \nWeitere Informationen finden Sie hier
URL:https://evresi.de/event/maennergruppe-2-2-2-2-2-2-2/
LOCATION:Fam. Heym\, Assessorenweg 16\, Sinzig\, 53489\, Deutschland
ATTACH;FMTTYPE=image/jpeg:https://evresi.de/wp-content/uploads/2019/01/Bild-Männergruppe.jpg
END:VEVENT
END:VCALENDAR