BEGIN:VCALENDAR
VERSION:2.0
PRODID:-//Evresi - ECPv6.15.12.1//NONSGML v1.0//EN
CALSCALE:GREGORIAN
METHOD:PUBLISH
X-WR-CALNAME:Evresi
X-ORIGINAL-URL:https://evresi.de
X-WR-CALDESC:Veranstaltungen für Evresi
REFRESH-INTERVAL;VALUE=DURATION:PT1H
X-Robots-Tag:noindex
X-PUBLISHED-TTL:PT1H
BEGIN:VTIMEZONE
TZID:Europe/Berlin
BEGIN:DAYLIGHT
TZOFFSETFROM:+0100
TZOFFSETTO:+0200
TZNAME:CEST
DTSTART:20180325T010000
END:DAYLIGHT
BEGIN:STANDARD
TZOFFSETFROM:+0200
TZOFFSETTO:+0100
TZNAME:CET
DTSTART:20181028T010000
END:STANDARD
BEGIN:DAYLIGHT
TZOFFSETFROM:+0100
TZOFFSETTO:+0200
TZNAME:CEST
DTSTART:20190331T010000
END:DAYLIGHT
BEGIN:STANDARD
TZOFFSETFROM:+0200
TZOFFSETTO:+0100
TZNAME:CET
DTSTART:20191027T010000
END:STANDARD
BEGIN:DAYLIGHT
TZOFFSETFROM:+0100
TZOFFSETTO:+0200
TZNAME:CEST
DTSTART:20200329T010000
END:DAYLIGHT
BEGIN:STANDARD
TZOFFSETFROM:+0200
TZOFFSETTO:+0100
TZNAME:CET
DTSTART:20201025T010000
END:STANDARD
END:VTIMEZONE
BEGIN:VEVENT
DTSTART;TZID=Europe/Berlin:20190502T143000
DTEND;TZID=Europe/Berlin:20190502T163000
DTSTAMP:20260425T224328
CREATED:20190107T085806Z
LAST-MODIFIED:20190325T095628Z
UID:2411-1556807400-1556814600@evresi.de
SUMMARY:Frauen-Kreis Sinzig
DESCRIPTION:weitere Informationen finden Sie hier
URL:https://evresi.de/event/frauen-kreis-sinzig-2-2-2/
LOCATION:Gemeindehaus Sinzig\, Dreifaltigkeitsweg 26\, Sinzig\, 53489\, Deutschland
ATTACH;FMTTYPE=image/jpeg:https://evresi.de/wp-content/uploads/2019/01/Seniorenarbeit-Sessel-Kissen-bunt-.jpg
END:VEVENT
BEGIN:VEVENT
DTSTART;TZID=Europe/Berlin:20190503T120000
DTEND;TZID=Europe/Berlin:20190503T133000
DTSTAMP:20260425T224328
CREATED:20190110T165657Z
LAST-MODIFIED:20190411T155435Z
UID:2449-1556884800-1556890200@evresi.de
SUMMARY:Senioren-Mittagstisch
DESCRIPTION:Um Anmeldung wird bis zum davorliegenden Montag gebeten \nWeitere Informationen finden Sie hier
URL:https://evresi.de/event/senioren-mittagstisch-2-2-2/
LOCATION:Gemeindehaus Remagen\, Marktstr. 25\, Remagen\, 53424\, Deutschland
ATTACH;FMTTYPE=image/jpeg:https://evresi.de/wp-content/uploads/2019/01/Seniorenmittagstisch.jpg
END:VEVENT
BEGIN:VEVENT
DTSTART;TZID=Europe/Berlin:20190201T120000
DTEND;TZID=Europe/Berlin:20190201T140000
DTSTAMP:20260425T224328
CREATED:20190110T165657Z
LAST-MODIFIED:20190110T165657Z
UID:2176-1549022400-1549029600@evresi.de
SUMMARY:Senioren-Mittagstisch
DESCRIPTION:Um Anmeldung wird bis zum davorliegenden Montag gebeten \nWeitere Informationen finden Sie hier
URL:https://evresi.de/event/senioren-mittagstisch/
ATTACH;FMTTYPE=image/jpeg:https://evresi.de/wp-content/uploads/2019/01/Seniorenmittagstisch.jpg
END:VEVENT
BEGIN:VEVENT
DTSTART;TZID=Europe/Berlin:20190505T093000
DTEND;TZID=Europe/Berlin:20190505T110000
DTSTAMP:20260425T224328
CREATED:20190403T100357Z
LAST-MODIFIED:20190411T155048Z
UID:2447-1557048600-1557054000@evresi.de
SUMMARY:Kindergottesdienst Remagen
DESCRIPTION:Informationen finden Sie hier
URL:https://evresi.de/event/kindergottesdienst-remagen-2/
LOCATION:Friedenskirche Remagen\, Marktstr. 25\, Remagen\, 53424\, Deutschland
ATTACH;FMTTYPE=image/jpeg:https://evresi.de/wp-content/uploads/2018/11/Kindergottesdienst.jpeg
END:VEVENT
BEGIN:VEVENT
DTSTART;TZID=Europe/Berlin:20190213T150000
DTEND;TZID=Europe/Berlin:20190213T170000
DTSTAMP:20260425T224328
CREATED:20190110T164840Z
LAST-MODIFIED:20190110T165744Z
UID:2171-1550070000-1550077200@evresi.de
SUMMARY:Seniorenkreis Remagen
DESCRIPTION:Informationen finden Sie hier
URL:https://evresi.de/event/seniorenkreis-remagen/
LOCATION:Gemeindehaus Remagen\, Marktstr. 25\, Remagen\, 53424\, Deutschland
ATTACH;FMTTYPE=image/jpeg:https://evresi.de/wp-content/uploads/2019/01/Seniorenarbeit-Sessel-Kissen-bunt-.jpg
END:VEVENT
BEGIN:VEVENT
DTSTART;TZID=Europe/Berlin:20190508T150000
DTEND;TZID=Europe/Berlin:20190508T170000
DTSTAMP:20260425T224328
CREATED:20190110T164840Z
LAST-MODIFIED:20190411T155547Z
UID:2451-1557327600-1557334800@evresi.de
SUMMARY:Seniorenkreis Remagen
DESCRIPTION:Weitere Informationen finden Sie hier
URL:https://evresi.de/event/seniorenkreis-remagen-2-2-2/
LOCATION:Gemeindehaus Remagen\, Marktstr. 25\, Remagen\, 53424\, Deutschland
ATTACH;FMTTYPE=image/jpeg:https://evresi.de/wp-content/uploads/2019/01/Seniorenarbeit-Sessel-Kissen-bunt-.jpg
END:VEVENT
BEGIN:VEVENT
DTSTART;TZID=Europe/Berlin:20190510T150000
DTEND;TZID=Europe/Berlin:20190510T170000
DTSTAMP:20260425T224328
CREATED:20181130T111501Z
LAST-MODIFIED:20190425T142106Z
UID:2461-1557500400-1557507600@evresi.de
SUMMARY:Begegnungscafé
DESCRIPTION:Informationen finden sie hier.
URL:https://evresi.de/event/begegnungscafe-2018-12-21-2-2019-03-22-2-2-2/
LOCATION:Gemeindehaus Sinzig\, Dreifaltigkeitsweg 26\, Sinzig\, 53489\, Deutschland
ATTACH;FMTTYPE=image/jpeg:https://evresi.de/wp-content/uploads/2019/01/Begegnungscafé-Tee-und-Teekanne-.jpg
END:VEVENT
BEGIN:VEVENT
DTSTART;TZID=Europe/Berlin:20190516T170000
DTEND;TZID=Europe/Berlin:20190516T190000
DTSTAMP:20260425T224328
CREATED:20190107T092759Z
LAST-MODIFIED:20190322T083433Z
UID:2306-1558026000-1558033200@evresi.de
SUMMARY:Offener Treff "Angehörige dementer Menschen"
DESCRIPTION:Informationen finden Sie hier
URL:https://evresi.de/event/offener-treff-angehoerige-dementer-menschen-2-2-2/
LOCATION:Gemeindehaus Sinzig\, Dreifaltigkeitsweg 26\, Sinzig\, 53489\, Deutschland
ATTACH;FMTTYPE=image/jpeg:https://evresi.de/wp-content/uploads/2018/06/Unbenannt-4.jpg
END:VEVENT
BEGIN:VEVENT
DTSTART;TZID=Europe/Berlin:20190518T190000
DTEND;TZID=Europe/Berlin:20190518T220000
DTSTAMP:20260425T224328
CREATED:20190404T145509Z
LAST-MODIFIED:20190509T161754Z
UID:2427-1558206000-1558216800@evresi.de
SUMMARY:Theater: Oscar and the Diamonds präsentieren "Blind Date"
DESCRIPTION:Die Theatergruppe entführt sie auf ein „Blind Date“ \nEndlich ist es wieder soweit! Nach einem Jahr Pause präsentiert die Jugendtheatergruppe „Oscar and the Diamonds“ ihr neues Stück „Blinddate“ von Clemens Schäfer!\nZwei Jahre sind seit unserer letzten Aufführung vergangen. Nachdem uns viele ältere Schauspieler zu ihrem Studien- oder Ausbildungsbeginn verlassen hatten\, begrüßt Sie dieses Jahr ein Ensemble mit vielen neuen unsd talentierten Gesichtern. Wir hatten in vielen Stunden gemeinsamer Probe und einem Workshop Zeit\, uns gegenseitig (neu) kennenzulernen\, haben an unseren Techniken gearbeitet und gefeilt\, aber natürlich auch das Stück mit vielen künstlerischen Elementen aufgewertet.\nDieses Jahr erwartet Sie in den Räumen unseres Gemeindehauses\, keine Kriminalkomödie\, wie wir sie in den letzten Jahren gespielt haben. Wie sagte Pfarrerin Laubmann so treffend: Die Theatergruppe ist auch erwachsener geworden! Und das wird an der Auswahl des Stückes deutlich. „Blinddate“ vermag es\, Sie in die Welt des Theaters zu entführen und lädt Sie ein\, das Theater auf eine andere Art und Weise zu erfahren. Dabei werden Sie prächtig unterhalten\, denn wir möchten mit Ihnen über die Dörfer gehen\, wo Ihnen bestimmt die ein oder andere Kuriosität begegnet. Versprochen!\n\nDie Theatergruppe „Oscar and the Diamonds“ sowie die Gemeinde lädt sie herzlich ein sich ein eigenes Bild zu machen! Die Premiere findet am 18.05.2019 statt; der Einlass ist ab 18 Uhr. Bis zum Beginn des ca. 60 minütigen  Stückes können Sie sich mit den Schauspielern und andern gerne bei Getränken und Snacks unterhalten.\n\nPremiere: 18.05 19 Uhr  Einlass 18 Uhr\n2. Aufführung: 19.05 17 Uhr  Einlass 16 Uhr\nLetzte Chance: 24.05 20 Uhr  Einlass 19 Uhr\n\nWeitere Informationen finden Sie auf unserer Homepage www.evresi.de oder jugend.evresi.de\nWir freuen uns darauf ihnen einen unterhaltsamen Abend bereiten zu dürfen!
URL:https://evresi.de/event/theaterstueck-blind-date/
LOCATION:gemeindehaus remagen
END:VEVENT
BEGIN:VEVENT
DTSTART;TZID=Europe/Berlin:20190519T110000
DTEND;TZID=Europe/Berlin:20190519T123000
DTSTAMP:20260425T224328
CREATED:20190107T090147Z
LAST-MODIFIED:20190516T162009Z
UID:2544-1558263600-1558269000@evresi.de
SUMMARY:Kindergottesdienst in Sinzig
DESCRIPTION:Informationen finden Sie hier
URL:https://evresi.de/event/kindergottesdienst-in-sinzig-2-2-2-2/
LOCATION:Gemeindehaus Sinzig\, Dreifaltigkeitsweg 26\, Sinzig\, 53489\, Deutschland
ATTACH;FMTTYPE=image/jpeg:https://evresi.de/wp-content/uploads/2018/11/Kindergottesdienst.jpeg
END:VEVENT
BEGIN:VEVENT
DTSTART;TZID=Europe/Berlin:20190519T170000
DTEND;TZID=Europe/Berlin:20190519T200000
DTSTAMP:20260425T224328
CREATED:20190404T145509Z
LAST-MODIFIED:20190509T161827Z
UID:2432-1558285200-1558296000@evresi.de
SUMMARY:Theater: Oscar and the Diamonds präsentieren "Blind Date"
DESCRIPTION:Die Theatergruppe entführt sie auf ein „Blind Date“ \nEndlich ist es wieder soweit! Nach einem Jahr Pause präsentiert die Jugendtheatergruppe „Oscar and the Diamonds“ ihr neues Stück „Blinddate“ von Clemens Schäfer!\nZwei Jahre sind seit unserer letzten Aufführung vergangen. Nachdem uns viele ältere Schauspieler zu ihrem Studien- oder Ausbildungsbeginn verlassen hatten\, begrüßt Sie dieses Jahr ein Ensemble mit vielen neuen unsd talentierten Gesichtern. Wir hatten in vielen Stunden gemeinsamer Probe und einem Workshop Zeit\, uns gegenseitig (neu) kennenzulernen\, haben an unseren Techniken gearbeitet und gefeilt\, aber natürlich auch das Stück mit vielen künstlerischen Elementen aufgewertet.\nDieses Jahr erwartet Sie in den Räumen unseres Gemeindehauses\, keine Kriminalkomödie\, wie wir sie in den letzten Jahren gespielt haben. Wie sagte Pfarrerin Laubmann so treffend: Die Theatergruppe ist auch erwachsener geworden! Und das wird an der Auswahl des Stückes deutlich. „Blinddate“ vermag es\, Sie in die Welt des Theaters zu entführen und lädt Sie ein\, das Theater auf eine andere Art und Weise zu erfahren. Dabei werden Sie prächtig unterhalten\, denn wir möchten mit Ihnen über die Dörfer gehen\, wo Ihnen bestimmt die ein oder andere Kuriosität begegnet. Versprochen!\n\nDie Theatergruppe „Oscar and the Diamonds“ sowie die Gemeinde lädt sie herzlich ein sich ein eigenes Bild zu machen! Die Premiere findet am 18.05.2019 statt; der Einlass ist ab 18 Uhr. Bis zum Beginn des ca. 60 minütigen  Stückes können Sie sich mit den Schauspielern und andern gerne bei Getränken und Snacks unterhalten.\n\nPremiere: 18.05 19 Uhr  Einlass 18 Uhr\n2. Aufführung: 19.05 17 Uhr  Einlass 16 Uhr\nLetzte Chance: 24.05 20 Uhr  Einlass 19 Uhr\n\nWeitere Informationen finden Sie auf unserer Homepage www.evresi.de oder jugend.evresi.de\nWir freuen uns darauf ihnen einen unterhaltsamen Abend bereiten zu dürfen!
URL:https://evresi.de/event/theaterstueck-blind-date-2-2/
LOCATION:gemeindehaus remagen
END:VEVENT
BEGIN:VEVENT
DTSTART;TZID=Europe/Berlin:20190520T193000
DTEND;TZID=Europe/Berlin:20190520T220000
DTSTAMP:20260425T224328
CREATED:20181130T112352Z
LAST-MODIFIED:20190128T100517Z
UID:2013-1558380600-1558389600@evresi.de
SUMMARY:Frauenabendkreis
DESCRIPTION:Thema: „Mensch ärgere Dich nicht – Wir spielen“ \nWeitere Informationen finden Sie hier
URL:https://evresi.de/event/frauenabendkreis-2019-05-20/
LOCATION:Gemeindehaus Sinzig\, Dreifaltigkeitsweg 26\, Sinzig\, 53489\, Deutschland
ATTACH;FMTTYPE=image/jpeg:https://evresi.de/wp-content/uploads/2019/01/Frauenabendkreis-Keramik-Kreise.jpg
END:VEVENT
BEGIN:VEVENT
DTSTART;TZID=Europe/Berlin:20190521T193000
DTEND;TZID=Europe/Berlin:20190521T213000
DTSTAMP:20260425T224328
CREATED:20181130T112918Z
LAST-MODIFIED:20190325T095902Z
UID:2413-1558467000-1558474200@evresi.de
SUMMARY:Männergruppe
DESCRIPTION:Thema: „Karl Barth – Leben im Widerspruch“ \nReferentin: Frau Grub \nWeitere Informationen finden Sie hier
URL:https://evresi.de/event/maennergruppe-2-2-2-2-2/
LOCATION:Gemeindehaus Sinzig\, Dreifaltigkeitsweg 26\, Sinzig\, 53489\, Deutschland
ATTACH;FMTTYPE=image/jpeg:https://evresi.de/wp-content/uploads/2019/01/Bild-Männergruppe.jpg
END:VEVENT
BEGIN:VEVENT
DTSTART;TZID=Europe/Berlin:20190523T200000
DTEND;TZID=Europe/Berlin:20190523T220000
DTSTAMP:20260425T224328
CREATED:20190214T174243Z
LAST-MODIFIED:20190502T155757Z
UID:2469-1558641600-1558648800@evresi.de
SUMMARY:Mitten im Leben
DESCRIPTION:weitere Informationen finden Sie hier
URL:https://evresi.de/event/mitten-im-leben-2-2/
ATTACH;FMTTYPE=image/jpeg:https://evresi.de/wp-content/uploads/2018/10/asd213fghcv213.jpg
END:VEVENT
BEGIN:VEVENT
DTSTART;TZID=Europe/Berlin:20190524T150000
DTEND;TZID=Europe/Berlin:20190524T170000
DTSTAMP:20260425T224328
CREATED:20181130T111501Z
LAST-MODIFIED:20190425T142234Z
UID:2463-1558710000-1558717200@evresi.de
SUMMARY:Begegnungscafé
DESCRIPTION:Informationen finden sie hier.
URL:https://evresi.de/event/begegnungscafe-2018-12-21-2-2019-03-22-2-2-2-2/
LOCATION:Gemeindehaus Sinzig\, Dreifaltigkeitsweg 26\, Sinzig\, 53489\, Deutschland
ATTACH;FMTTYPE=image/jpeg:https://evresi.de/wp-content/uploads/2019/01/Begegnungscafé-Tee-und-Teekanne-.jpg
END:VEVENT
BEGIN:VEVENT
DTSTART;TZID=Europe/Berlin:20190524T200000
DTEND;TZID=Europe/Berlin:20190524T220000
DTSTAMP:20260425T224328
CREATED:20190404T145509Z
LAST-MODIFIED:20190509T161851Z
UID:2434-1558728000-1558735200@evresi.de
SUMMARY:Theater: Oscar and the Diamonds präsentieren "Blind Date"
DESCRIPTION:Die Theatergruppe entführt sie auf ein „Blind Date“ \nEndlich ist es wieder soweit! Nach einem Jahr Pause präsentiert die Jugendtheatergruppe „Oscar and the Diamonds“ ihr neues Stück „Blinddate“ von Clemens Schäfer!\nZwei Jahre sind seit unserer letzten Aufführung vergangen. Nachdem uns viele ältere Schauspieler zu ihrem Studien- oder Ausbildungsbeginn verlassen hatten\, begrüßt Sie dieses Jahr ein Ensemble mit vielen neuen unsd talentierten Gesichtern. Wir hatten in vielen Stunden gemeinsamer Probe und einem Workshop Zeit\, uns gegenseitig (neu) kennenzulernen\, haben an unseren Techniken gearbeitet und gefeilt\, aber natürlich auch das Stück mit vielen künstlerischen Elementen aufgewertet.\nDieses Jahr erwartet Sie in den Räumen unseres Gemeindehauses\, keine Kriminalkomödie\, wie wir sie in den letzten Jahren gespielt haben. Wie sagte Pfarrerin Laubmann so treffend: Die Theatergruppe ist auch erwachsener geworden! Und das wird an der Auswahl des Stückes deutlich. „Blinddate“ vermag es\, Sie in die Welt des Theaters zu entführen und lädt Sie ein\, das Theater auf eine andere Art und Weise zu erfahren. Dabei werden Sie prächtig unterhalten\, denn wir möchten mit Ihnen über die Dörfer gehen\, wo Ihnen bestimmt die ein oder andere Kuriosität begegnet. Versprochen!\n\nDie Theatergruppe „Oscar and the Diamonds“ sowie die Gemeinde lädt sie herzlich ein sich ein eigenes Bild zu machen! Die Premiere findet am 18.05.2019 statt; der Einlass ist ab 18 Uhr. Bis zum Beginn des ca. 60 minütigen  Stückes können Sie sich mit den Schauspielern und andern gerne bei Getränken und Snacks unterhalten.\n\nPremiere: 18.05 19 Uhr  Einlass 18 Uhr\n2. Aufführung: 19.05 17 Uhr  Einlass 16 Uhr\nLetzte Chance: 24.05 20 Uhr  Einlass 19 Uhr\n\nWeitere Informationen finden Sie auf unserer Homepage www.evresi.de oder jugend.evresi.de\nWir freuen uns darauf ihnen einen unterhaltsamen Abend bereiten zu dürfen!
URL:https://evresi.de/event/theaterstueck-blind-date-2/
LOCATION:gemeindehaus remagen
END:VEVENT
END:VCALENDAR