BEGIN:VCALENDAR
VERSION:2.0
PRODID:-//Evresi - ECPv6.15.12.1//NONSGML v1.0//EN
CALSCALE:GREGORIAN
METHOD:PUBLISH
X-WR-CALNAME:Evresi
X-ORIGINAL-URL:https://evresi.de
X-WR-CALDESC:Veranstaltungen für Evresi
REFRESH-INTERVAL;VALUE=DURATION:PT1H
X-Robots-Tag:noindex
X-PUBLISHED-TTL:PT1H
BEGIN:VTIMEZONE
TZID:Europe/Berlin
BEGIN:DAYLIGHT
TZOFFSETFROM:+0100
TZOFFSETTO:+0200
TZNAME:CEST
DTSTART:20180325T010000
END:DAYLIGHT
BEGIN:STANDARD
TZOFFSETFROM:+0200
TZOFFSETTO:+0100
TZNAME:CET
DTSTART:20181028T010000
END:STANDARD
BEGIN:DAYLIGHT
TZOFFSETFROM:+0100
TZOFFSETTO:+0200
TZNAME:CEST
DTSTART:20190331T010000
END:DAYLIGHT
BEGIN:STANDARD
TZOFFSETFROM:+0200
TZOFFSETTO:+0100
TZNAME:CET
DTSTART:20191027T010000
END:STANDARD
BEGIN:DAYLIGHT
TZOFFSETFROM:+0100
TZOFFSETTO:+0200
TZNAME:CEST
DTSTART:20200329T010000
END:DAYLIGHT
BEGIN:STANDARD
TZOFFSETFROM:+0200
TZOFFSETTO:+0100
TZNAME:CET
DTSTART:20201025T010000
END:STANDARD
END:VTIMEZONE
BEGIN:VEVENT
DTSTART;TZID=Europe/Berlin:20190301T120000
DTEND;TZID=Europe/Berlin:20190301T133000
DTSTAMP:20260425T191300
CREATED:20190110T165657Z
LAST-MODIFIED:20190215T084133Z
UID:2338-1551441600-1551447000@evresi.de
SUMMARY:Senioren-Mittagstisch
DESCRIPTION:Um Anmeldung wird bis zum davorliegenden Montag gebeten \nWeitere Informationen finden Sie hier
URL:https://evresi.de/event/senioren-mittagstisch-2/
ATTACH;FMTTYPE=image/jpeg:https://evresi.de/wp-content/uploads/2019/01/Seniorenmittagstisch.jpg
END:VEVENT
BEGIN:VEVENT
DTSTART;TZID=Europe/Berlin:20190201T120000
DTEND;TZID=Europe/Berlin:20190201T140000
DTSTAMP:20260425T191300
CREATED:20190110T165657Z
LAST-MODIFIED:20190110T165657Z
UID:2176-1549022400-1549029600@evresi.de
SUMMARY:Senioren-Mittagstisch
DESCRIPTION:Um Anmeldung wird bis zum davorliegenden Montag gebeten \nWeitere Informationen finden Sie hier
URL:https://evresi.de/event/senioren-mittagstisch/
ATTACH;FMTTYPE=image/jpeg:https://evresi.de/wp-content/uploads/2019/01/Seniorenmittagstisch.jpg
END:VEVENT
BEGIN:VEVENT
DTSTART;TZID=Europe/Berlin:20190307T103000
DTEND;TZID=Europe/Berlin:20190307T123000
DTSTAMP:20260425T191300
CREATED:20190131T163550Z
LAST-MODIFIED:20190131T163844Z
UID:2280-1551954600-1551961800@evresi.de
SUMMARY:Ökumenisches Frauenforum
DESCRIPTION:Thema: „Judas – Freund Jesu oder Verräter?“ \nReferent: Pfr.i.R. Grub
URL:https://evresi.de/event/oekumenisches-frauenforum-2/
ATTACH;FMTTYPE=image/jpeg:https://evresi.de/wp-content/uploads/2018/06/Ökumene-Logo-Schiff.jpg
END:VEVENT
BEGIN:VEVENT
DTSTART;TZID=Europe/Berlin:20190111T150000
DTEND;TZID=Europe/Berlin:20190111T170000
DTSTAMP:20260425T191300
CREATED:20181130T111501Z
LAST-MODIFIED:20190117T162926Z
UID:2117-1547218800-1547226000@evresi.de
SUMMARY:Begegnungscafé
DESCRIPTION:Informationen finden sie hier.
URL:https://evresi.de/event/begegnungscafe-2018-12-21-2/
LOCATION:Gemeindehaus Sinzig\, Dreifaltigkeitsweg 26\, Sinzig\, 53489\, Deutschland
ATTACH;FMTTYPE=image/jpeg:https://evresi.de/wp-content/uploads/2019/01/Begegnungscafé-Tee-und-Teekanne-.jpg
END:VEVENT
BEGIN:VEVENT
DTSTART;TZID=Europe/Berlin:20190310T110000
DTEND;TZID=Europe/Berlin:20190310T120000
DTSTAMP:20260425T191300
CREATED:20190107T090147Z
LAST-MODIFIED:20190212T102546Z
UID:2331-1552215600-1552219200@evresi.de
SUMMARY:Kindergottesdienst in Sinzig
DESCRIPTION:Informationen finden Sie hier
URL:https://evresi.de/event/kindergottesdienst-in-sinzig-2-2/
LOCATION:Gemeindehaus Sinzig\, Dreifaltigkeitsweg 26\, Sinzig\, 53489\, Deutschland
ATTACH;FMTTYPE=image/jpeg:https://evresi.de/wp-content/uploads/2018/11/Kindergottesdienst.jpeg
END:VEVENT
BEGIN:VEVENT
DTSTART;TZID=Europe/Berlin:20190114T190000
DTEND;TZID=Europe/Berlin:20190114T200000
DTSTAMP:20260425T191300
CREATED:20190107T091724Z
LAST-MODIFIED:20190114T105442Z
UID:2142-1547492400-1547496000@evresi.de
SUMMARY:Ökumenisches Friedensgebet
DESCRIPTION:
URL:https://evresi.de/event/oekumenisches-friedensgebet-2/
LOCATION:Friedenskirche Remagen\, Marktstr. 25\, Remagen\, 53424\, Deutschland
END:VEVENT
BEGIN:VEVENT
DTSTART;TZID=Europe/Berlin:20190311T193000
DTEND;TZID=Europe/Berlin:20190311T220000
DTSTAMP:20260425T191300
CREATED:20181130T112352Z
LAST-MODIFIED:20190212T091839Z
UID:2011-1552332600-1552341600@evresi.de
SUMMARY:Frauenabendkreis
DESCRIPTION:Thema: „Qigong – Grundlagen und Übungen“ \nmit Dorothea Sulzer \nInformationen finden Sie hier
URL:https://evresi.de/event/frauenabendkreis-2019-03-18/
LOCATION:Gemeindehaus Sinzig\, Dreifaltigkeitsweg 26\, Sinzig\, 53489\, Deutschland
ATTACH;FMTTYPE=image/jpeg:https://evresi.de/wp-content/uploads/2019/01/Frauenabendkreis-Keramik-Kreise.jpg
END:VEVENT
BEGIN:VEVENT
DTSTART;TZID=Europe/Berlin:20190312T193000
DTEND;TZID=Europe/Berlin:20190312T213000
DTSTAMP:20260425T191300
CREATED:20190107T093212Z
LAST-MODIFIED:20190305T104140Z
UID:2364-1552419000-1552426200@evresi.de
SUMMARY:Elternabend Konfirmanden Sinzig
DESCRIPTION:
URL:https://evresi.de/event/elternabend-konfirmanden-sinzig-2/
LOCATION:Gemeindehaus Sinzig\, Dreifaltigkeitsweg 26\, Sinzig\, 53489\, Deutschland
ATTACH;FMTTYPE=image/jpeg:https://evresi.de/wp-content/uploads/2019/01/Konfirmandenarbeit1.jpg
END:VEVENT
BEGIN:VEVENT
DTSTART;TZID=Europe/Berlin:20190213T150000
DTEND;TZID=Europe/Berlin:20190213T170000
DTSTAMP:20260425T191300
CREATED:20190110T164840Z
LAST-MODIFIED:20190110T165744Z
UID:2171-1550070000-1550077200@evresi.de
SUMMARY:Seniorenkreis Remagen
DESCRIPTION:Informationen finden Sie hier
URL:https://evresi.de/event/seniorenkreis-remagen/
LOCATION:Gemeindehaus Remagen\, Marktstr. 25\, Remagen\, 53424\, Deutschland
ATTACH;FMTTYPE=image/jpeg:https://evresi.de/wp-content/uploads/2019/01/Seniorenarbeit-Sessel-Kissen-bunt-.jpg
END:VEVENT
BEGIN:VEVENT
DTSTART;TZID=Europe/Berlin:20190313T150000
DTEND;TZID=Europe/Berlin:20190313T170000
DTSTAMP:20260425T191300
CREATED:20190110T164840Z
LAST-MODIFIED:20190308T100716Z
UID:2378-1552489200-1552496400@evresi.de
SUMMARY:Seniorenkreis Remagen
DESCRIPTION:Erzählungen Monika Niessen \nWeitere Informationen finden Sie hier
URL:https://evresi.de/event/seniorenkreis-remagen-2/
LOCATION:Gemeindehaus Remagen\, Marktstr. 25\, Remagen\, 53424\, Deutschland
ATTACH;FMTTYPE=image/jpeg:https://evresi.de/wp-content/uploads/2019/01/Seniorenarbeit-Sessel-Kissen-bunt-.jpg
END:VEVENT
BEGIN:VEVENT
DTSTART;TZID=Europe/Berlin:20190314T170000
DTEND;TZID=Europe/Berlin:20190314T190000
DTSTAMP:20260425T191300
CREATED:20190107T092759Z
LAST-MODIFIED:20190208T094600Z
UID:2304-1552582800-1552590000@evresi.de
SUMMARY:Offener Treff "Angehörige dementer Menschen"
DESCRIPTION:Informationen finden Sie hier
URL:https://evresi.de/event/offener-treff-angehoerige-dementer-menschen-2-2/
LOCATION:Gemeindehaus Sinzig\, Dreifaltigkeitsweg 26\, Sinzig\, 53489\, Deutschland
ATTACH;FMTTYPE=image/jpeg:https://evresi.de/wp-content/uploads/2018/06/Unbenannt-4.jpg
END:VEVENT
BEGIN:VEVENT
DTSTART;TZID=Europe/Berlin:20190319T193000
DTEND;TZID=Europe/Berlin:20190319T213000
DTSTAMP:20260425T191300
CREATED:20181130T112918Z
LAST-MODIFIED:20190128T093516Z
UID:2127-1553023800-1553031000@evresi.de
SUMMARY:Männergruppe
DESCRIPTION:  \nThema: „Politik unter Präsident Trump: Auswirkungen auf die transatlantischen Beziehungen und die europäische Sicherheit“\, Referent: Herr Gottzein \n  \nWeitere Informationen finden Sie hier
URL:https://evresi.de/event/maennergruppe-2-2-2/
LOCATION:Gemeindehaus Sinzig\, Dreifaltigkeitsweg 26\, Sinzig\, 53489\, Deutschland
ATTACH;FMTTYPE=image/jpeg:https://evresi.de/wp-content/uploads/2019/01/Bild-Männergruppe.jpg
END:VEVENT
BEGIN:VEVENT
DTSTART;TZID=Europe/Berlin:20190321T200000
DTEND;TZID=Europe/Berlin:20190321T220000
DTSTAMP:20260425T191300
CREATED:20190214T174243Z
LAST-MODIFIED:20190314T174228Z
UID:2387-1553198400-1553205600@evresi.de
SUMMARY:Mitten im Leben
DESCRIPTION:weitere Informationen finden Sie hier
URL:https://evresi.de/event/mitten-im-leben-2/
ATTACH;FMTTYPE=image/jpeg:https://evresi.de/wp-content/uploads/2018/10/asd213fghcv213.jpg
END:VEVENT
BEGIN:VEVENT
DTSTART;TZID=Europe/Berlin:20190324T093000
DTEND;TZID=Europe/Berlin:20190324T103000
DTSTAMP:20260425T191300
CREATED:20190318T095040Z
LAST-MODIFIED:20190318T095040Z
UID:2392-1553419800-1553423400@evresi.de
SUMMARY:!Achtung geänderte Zeit für Gottesdienst in Löhndorf!
DESCRIPTION:Entgegen der veröffentlichten Zeit beginnt der Katholische Gottesdienst in der St. Georg Kirche in Löhndorf\, der im Rahmen der Ökumenischen Bibelwoche stattfindet\, bereits um 9.30 Uhr. \nDie Predigt hält Pfarrerin Laubmann.
URL:https://evresi.de/event/achtung-geaenderte-zeit-fuer-gottesdienst-in-loehndorf/
ATTACH;FMTTYPE=image/jpeg:https://evresi.de/wp-content/uploads/2019/03/185_4604-Ökumen.-Bibelwoche.jpg
END:VEVENT
BEGIN:VEVENT
DTSTART;TZID=Europe/Berlin:20190331T100000
DTEND;TZID=Europe/Berlin:20190331T110000
DTSTAMP:20260425T191300
CREATED:20190325T094911Z
LAST-MODIFIED:20190325T094911Z
UID:2405-1554026400-1554030000@evresi.de
SUMMARY:Taizé-Gottesdienst
DESCRIPTION:Am fünften Sonntag im März feiern wir mit der Kirchengemeinde Oberwinter zusammen einen besonderen Gottesdienst in der Friedenskirche in Remagen: \neinen Gottesdienst mit Gesängen aus Taizé. Nach dem Gottesdienst sind alle ins Kirchencafé eingeladen\, das Jugendleiterin Nadine Huss mit Jugendlichen vorbereitet.
URL:https://evresi.de/event/taize-gottesdienst/
LOCATION:Friedenskirche Remagen\, Marktstr. 25\, Remagen\, 53424\, Deutschland
ATTACH;FMTTYPE=image/jpeg:https://evresi.de/wp-content/uploads/2019/03/Taizé.jpg
END:VEVENT
END:VCALENDAR