BEGIN:VCALENDAR
VERSION:2.0
PRODID:-//Evresi - ECPv6.15.12.1//NONSGML v1.0//EN
CALSCALE:GREGORIAN
METHOD:PUBLISH
X-ORIGINAL-URL:https://evresi.de
X-WR-CALDESC:Veranstaltungen für Evresi
REFRESH-INTERVAL;VALUE=DURATION:PT1H
X-Robots-Tag:noindex
X-PUBLISHED-TTL:PT1H
BEGIN:VTIMEZONE
TZID:Europe/Berlin
BEGIN:DAYLIGHT
TZOFFSETFROM:+0100
TZOFFSETTO:+0200
TZNAME:CEST
DTSTART:20180325T010000
END:DAYLIGHT
BEGIN:STANDARD
TZOFFSETFROM:+0200
TZOFFSETTO:+0100
TZNAME:CET
DTSTART:20181028T010000
END:STANDARD
BEGIN:DAYLIGHT
TZOFFSETFROM:+0100
TZOFFSETTO:+0200
TZNAME:CEST
DTSTART:20190331T010000
END:DAYLIGHT
BEGIN:STANDARD
TZOFFSETFROM:+0200
TZOFFSETTO:+0100
TZNAME:CET
DTSTART:20191027T010000
END:STANDARD
BEGIN:DAYLIGHT
TZOFFSETFROM:+0100
TZOFFSETTO:+0200
TZNAME:CEST
DTSTART:20200329T010000
END:DAYLIGHT
BEGIN:STANDARD
TZOFFSETFROM:+0200
TZOFFSETTO:+0100
TZNAME:CET
DTSTART:20201025T010000
END:STANDARD
END:VTIMEZONE
BEGIN:VEVENT
DTSTART;TZID=Europe/Berlin:20190201T120000
DTEND;TZID=Europe/Berlin:20190201T140000
DTSTAMP:20260425T173820
CREATED:20190110T165657Z
LAST-MODIFIED:20190110T165657Z
UID:2176-1549022400-1549029600@evresi.de
SUMMARY:Senioren-Mittagstisch
DESCRIPTION:Um Anmeldung wird bis zum davorliegenden Montag gebeten \nWeitere Informationen finden Sie hier
URL:https://evresi.de/event/senioren-mittagstisch/
ATTACH;FMTTYPE=image/jpeg:https://evresi.de/wp-content/uploads/2019/01/Seniorenmittagstisch.jpg
END:VEVENT
BEGIN:VEVENT
DTSTART;TZID=Europe/Berlin:20190207T103000
DTEND;TZID=Europe/Berlin:20190207T123000
DTSTAMP:20260425T173820
CREATED:20190131T163550Z
LAST-MODIFIED:20190131T163550Z
UID:2278-1549535400-1549542600@evresi.de
SUMMARY:Ökumenisches Frauenforum
DESCRIPTION:Thema: „Felix Mendelssohn Bartholdy“ Teil 2 \nReferentin: Gerhild Keith
URL:https://evresi.de/event/oekumenisches-frauenforum/
ATTACH;FMTTYPE=image/jpeg:https://evresi.de/wp-content/uploads/2018/06/Ökumene-Logo-Schiff.jpg
END:VEVENT
BEGIN:VEVENT
DTSTART;TZID=Europe/Berlin:20190207T143000
DTEND;TZID=Europe/Berlin:20190207T163000
DTSTAMP:20260425T173820
CREATED:20190107T085806Z
LAST-MODIFIED:20190129T103756Z
UID:2210-1549549800-1549557000@evresi.de
SUMMARY:Frauen-Kreis Sinzig
DESCRIPTION:weitere Informationen finden Sie hier
URL:https://evresi.de/event/frauen-kreis-sinzig-2/
LOCATION:Gemeindehaus Sinzig\, Dreifaltigkeitsweg 26\, Sinzig\, 53489\, Deutschland
ATTACH;FMTTYPE=image/jpeg:https://evresi.de/wp-content/uploads/2019/01/Seniorenarbeit-Sessel-Kissen-bunt-.jpg
END:VEVENT
BEGIN:VEVENT
DTSTART;TZID=Europe/Berlin:20190111T150000
DTEND;TZID=Europe/Berlin:20190111T170000
DTSTAMP:20260425T173820
CREATED:20181130T111501Z
LAST-MODIFIED:20190117T162926Z
UID:2117-1547218800-1547226000@evresi.de
SUMMARY:Begegnungscafé
DESCRIPTION:Informationen finden sie hier.
URL:https://evresi.de/event/begegnungscafe-2018-12-21-2/
LOCATION:Gemeindehaus Sinzig\, Dreifaltigkeitsweg 26\, Sinzig\, 53489\, Deutschland
ATTACH;FMTTYPE=image/jpeg:https://evresi.de/wp-content/uploads/2019/01/Begegnungscafé-Tee-und-Teekanne-.jpg
END:VEVENT
BEGIN:VEVENT
DTSTART;TZID=Europe/Berlin:20190210T110000
DTEND;TZID=Europe/Berlin:20190210T120000
DTSTAMP:20260425T173820
CREATED:20190107T090147Z
LAST-MODIFIED:20190128T092018Z
UID:2251-1549796400-1549800000@evresi.de
SUMMARY:Kindergottesdienst in Sinzig
DESCRIPTION:Informationen finden Sie hier
URL:https://evresi.de/event/kindergottesdienst-in-sinzig-2/
LOCATION:Gemeindehaus Sinzig\, Dreifaltigkeitsweg 26\, Sinzig\, 53489\, Deutschland
ATTACH;FMTTYPE=image/jpeg:https://evresi.de/wp-content/uploads/2018/11/Kindergottesdienst.jpeg
END:VEVENT
BEGIN:VEVENT
DTSTART;TZID=Europe/Berlin:20190114T190000
DTEND;TZID=Europe/Berlin:20190114T200000
DTSTAMP:20260425T173820
CREATED:20190107T091724Z
LAST-MODIFIED:20190114T105442Z
UID:2142-1547492400-1547496000@evresi.de
SUMMARY:Ökumenisches Friedensgebet
DESCRIPTION:
URL:https://evresi.de/event/oekumenisches-friedensgebet-2/
LOCATION:Friedenskirche Remagen\, Marktstr. 25\, Remagen\, 53424\, Deutschland
END:VEVENT
BEGIN:VEVENT
DTSTART;TZID=Europe/Berlin:20190213T150000
DTEND;TZID=Europe/Berlin:20190213T170000
DTSTAMP:20260425T173820
CREATED:20190110T164840Z
LAST-MODIFIED:20190110T165744Z
UID:2171-1550070000-1550077200@evresi.de
SUMMARY:Seniorenkreis Remagen
DESCRIPTION:Informationen finden Sie hier
URL:https://evresi.de/event/seniorenkreis-remagen/
LOCATION:Gemeindehaus Remagen\, Marktstr. 25\, Remagen\, 53424\, Deutschland
ATTACH;FMTTYPE=image/jpeg:https://evresi.de/wp-content/uploads/2019/01/Seniorenarbeit-Sessel-Kissen-bunt-.jpg
END:VEVENT
BEGIN:VEVENT
DTSTART;TZID=Europe/Berlin:20190214T170000
DTEND;TZID=Europe/Berlin:20190214T190000
DTSTAMP:20260425T173820
CREATED:20190107T092759Z
LAST-MODIFIED:20190208T094336Z
UID:2302-1550163600-1550170800@evresi.de
SUMMARY:Offener Treff "Angehörige dementer Menschen"
DESCRIPTION:Informationen finden Sie hier
URL:https://evresi.de/event/offener-treff-angehoerige-dementer-menschen-2/
LOCATION:Gemeindehaus Sinzig\, Dreifaltigkeitsweg 26\, Sinzig\, 53489\, Deutschland
ATTACH;FMTTYPE=image/jpeg:https://evresi.de/wp-content/uploads/2018/06/Unbenannt-4.jpg
END:VEVENT
BEGIN:VEVENT
DTSTART;TZID=Europe/Berlin:20190219T193000
DTEND;TZID=Europe/Berlin:20190219T213000
DTSTAMP:20260425T173820
CREATED:20181130T112918Z
LAST-MODIFIED:20190128T093243Z
UID:2114-1550604600-1550611800@evresi.de
SUMMARY:Männergruppe
DESCRIPTION:  \nThema: „Sprachverwirrung am Beispiel der Schlagworte Rassismus und Antisemitismus“ \nReferentin: Pfrin.i.R. Erdmute Wittmann \nWeitere Informationen finden Sie hier
URL:https://evresi.de/event/maennergruppe-2-2/
LOCATION:Gemeindehaus Sinzig\, Dreifaltigkeitsweg 26\, Sinzig\, 53489\, Deutschland
ATTACH;FMTTYPE=image/jpeg:https://evresi.de/wp-content/uploads/2019/01/Bild-Männergruppe.jpg
END:VEVENT
BEGIN:VEVENT
DTSTART;TZID=Europe/Berlin:20190221T200000
DTEND;TZID=Europe/Berlin:20190221T220000
DTSTAMP:20260425T173820
CREATED:20190214T174243Z
LAST-MODIFIED:20190214T174309Z
UID:2336-1550779200-1550786400@evresi.de
SUMMARY:Mitten im Leben
DESCRIPTION:Thema: „Die Gemeinschaft von Taizé“ \nReferentin ist Pfarrerin Laubmann \nweitere Informationen finden Sie hier
URL:https://evresi.de/event/mitten-im-leben/
ATTACH;FMTTYPE=image/jpeg:https://evresi.de/wp-content/uploads/2018/10/asd213fghcv213.jpg
END:VEVENT
BEGIN:VEVENT
DTSTART;TZID=Europe/Berlin:20190111T150000
DTEND;TZID=Europe/Berlin:20190111T170000
DTSTAMP:20260425T173820
CREATED:20181130T111501Z
LAST-MODIFIED:20190117T162926Z
UID:2117-1547218800-1547226000@evresi.de
SUMMARY:Begegnungscafé
DESCRIPTION:Informationen finden sie hier.
URL:https://evresi.de/event/begegnungscafe-2018-12-21-2/
LOCATION:Gemeindehaus Sinzig\, Dreifaltigkeitsweg 26\, Sinzig\, 53489\, Deutschland
ATTACH;FMTTYPE=image/jpeg:https://evresi.de/wp-content/uploads/2019/01/Begegnungscafé-Tee-und-Teekanne-.jpg
END:VEVENT
BEGIN:VEVENT
DTSTART;TZID=Europe/Berlin:20190225T183000
DTEND;TZID=Europe/Berlin:20190225T220000
DTSTAMP:20260425T173820
CREATED:20181130T112352Z
LAST-MODIFIED:20190211T083731Z
UID:2010-1551119400-1551132000@evresi.de
SUMMARY:Frauenabendkreis
DESCRIPTION:Thema: „Weltgebetstag – Ein Abend zu Slowenien“ \nReferentin: Pfrin. Laubmann \nInformationen finden Sie hier
URL:https://evresi.de/event/frauenabendkreis-2019-02-18/
LOCATION:Gemeindehaus Sinzig\, Dreifaltigkeitsweg 26\, Sinzig\, 53489\, Deutschland
ATTACH;FMTTYPE=image/jpeg:https://evresi.de/wp-content/uploads/2019/01/Frauenabendkreis-Keramik-Kreise.jpg
END:VEVENT
END:VCALENDAR