BEGIN:VCALENDAR
VERSION:2.0
PRODID:-//Evresi - ECPv6.15.12.1//NONSGML v1.0//EN
CALSCALE:GREGORIAN
METHOD:PUBLISH
X-WR-CALNAME:Evresi
X-ORIGINAL-URL:https://evresi.de
X-WR-CALDESC:Veranstaltungen für Evresi
REFRESH-INTERVAL;VALUE=DURATION:PT1H
X-Robots-Tag:noindex
X-PUBLISHED-TTL:PT1H
BEGIN:VTIMEZONE
TZID:Europe/Berlin
BEGIN:DAYLIGHT
TZOFFSETFROM:+0100
TZOFFSETTO:+0200
TZNAME:CEST
DTSTART:20200329T010000
END:DAYLIGHT
BEGIN:STANDARD
TZOFFSETFROM:+0200
TZOFFSETTO:+0100
TZNAME:CET
DTSTART:20201025T010000
END:STANDARD
BEGIN:DAYLIGHT
TZOFFSETFROM:+0100
TZOFFSETTO:+0200
TZNAME:CEST
DTSTART:20210328T010000
END:DAYLIGHT
BEGIN:STANDARD
TZOFFSETFROM:+0200
TZOFFSETTO:+0100
TZNAME:CET
DTSTART:20211031T010000
END:STANDARD
BEGIN:DAYLIGHT
TZOFFSETFROM:+0100
TZOFFSETTO:+0200
TZNAME:CEST
DTSTART:20220327T010000
END:DAYLIGHT
BEGIN:STANDARD
TZOFFSETFROM:+0200
TZOFFSETTO:+0100
TZNAME:CET
DTSTART:20221030T010000
END:STANDARD
END:VTIMEZONE
BEGIN:VEVENT
DTSTART;TZID=Europe/Berlin:20210725T093000
DTEND;TZID=Europe/Berlin:20210725T103000
DTSTAMP:20260426T061200
CREATED:20210716T111738Z
LAST-MODIFIED:20210722T075244Z
UID:5884-1627205400-1627209000@evresi.de
SUMMARY:Offene Kirche und Andacht in Remagen
DESCRIPTION:Liebe Remagener Gemeinde\, \nAlle Wege zwischen Sinzig und Remagen sind im Augenblick unpassierbar. Zug könnte man fahren. Doch das schafft eine Predigerin am Sonntag nicht\, soll sie zwei Gottesdienste halten\, einen in Remagen und einen in Sinzig. \nDeshalb findet der Gottesdienst mit der im Gemeindebrief angekündigten Predigerin am Sonntag nur in Sinzig statt. In Remagen steht jedoch die Kirchentür zur Gottesdienstzeit offen\, und Pfarrer Schankweiler wird wieder einen kleinen Gottesdienst feiern. Herzliche Einladung!
URL:https://evresi.de/event/gottesdienst-in-remagen-faellt-aus-2/
ATTACH;FMTTYPE=image/jpeg:https://evresi.de/wp-content/uploads/2021/07/31-Fenster-blau-scaled.jpg
END:VEVENT
BEGIN:VEVENT
DTSTART;TZID=Europe/Berlin:20210725T110000
DTEND;TZID=Europe/Berlin:20210725T120000
DTSTAMP:20260426T061200
CREATED:20210722T145130Z
LAST-MODIFIED:20210722T145228Z
UID:5890-1627210800-1627214400@evresi.de
SUMMARY:Sonntagsgottesdienst in Sinzig
DESCRIPTION:Gerade in diesen Zeiten tut es gut\, Gottesdienst zu feiern.\nZu singen und zu beten.\nMiteinander.\nUnd füreinander. \nIn der Adventskirche feiern wir Gottesdienst um 11 Uhr.\nHerzliche Einladung! \n 
URL:https://evresi.de/event/sonntagsgottesdienst-in-sinzig/
ATTACH;FMTTYPE=image/jpeg:https://evresi.de/wp-content/uploads/2021/07/01-Altarraum-abends-scaled.jpg
END:VEVENT
END:VCALENDAR