BEGIN:VCALENDAR
VERSION:2.0
PRODID:-//Evresi - ECPv6.15.12.1//NONSGML v1.0//EN
CALSCALE:GREGORIAN
METHOD:PUBLISH
X-ORIGINAL-URL:https://evresi.de
X-WR-CALDESC:Veranstaltungen für Evresi
REFRESH-INTERVAL;VALUE=DURATION:PT1H
X-Robots-Tag:noindex
X-PUBLISHED-TTL:PT1H
BEGIN:VTIMEZONE
TZID:Europe/Berlin
BEGIN:DAYLIGHT
TZOFFSETFROM:+0100
TZOFFSETTO:+0200
TZNAME:CEST
DTSTART:20200329T010000
END:DAYLIGHT
BEGIN:STANDARD
TZOFFSETFROM:+0200
TZOFFSETTO:+0100
TZNAME:CET
DTSTART:20201025T010000
END:STANDARD
BEGIN:DAYLIGHT
TZOFFSETFROM:+0100
TZOFFSETTO:+0200
TZNAME:CEST
DTSTART:20210328T010000
END:DAYLIGHT
BEGIN:STANDARD
TZOFFSETFROM:+0200
TZOFFSETTO:+0100
TZNAME:CET
DTSTART:20211031T010000
END:STANDARD
BEGIN:DAYLIGHT
TZOFFSETFROM:+0100
TZOFFSETTO:+0200
TZNAME:CEST
DTSTART:20220327T010000
END:DAYLIGHT
BEGIN:STANDARD
TZOFFSETFROM:+0200
TZOFFSETTO:+0100
TZNAME:CET
DTSTART:20221030T010000
END:STANDARD
END:VTIMEZONE
BEGIN:VEVENT
DTSTART;TZID=Europe/Berlin:20210716T200000
DTEND;TZID=Europe/Berlin:20210716T210000
DTSTAMP:20260426T061512
CREATED:20210716T172413Z
LAST-MODIFIED:20210716T172413Z
UID:5861-1626465600-1626469200@evresi.de
SUMMARY:Trauergottesdienst für die Opfer des Hochwassers
DESCRIPTION:Um 20 Uhr findet ein ökumenischer Trauergottesdienst in St. Peter\, Sinzig\, statt.
URL:https://evresi.de/event/trauergottesdienst-fuer-die-opfer-des-hochwassers/
ATTACH;FMTTYPE=image/jpeg:https://evresi.de/wp-content/uploads/2021/07/18-Kerzen-im-Sand-scaled.jpg
END:VEVENT
END:VCALENDAR