BEGIN:VCALENDAR
VERSION:2.0
PRODID:-//Evresi - ECPv6.15.12.1//NONSGML v1.0//EN
CALSCALE:GREGORIAN
METHOD:PUBLISH
X-ORIGINAL-URL:https://evresi.de
X-WR-CALDESC:Veranstaltungen für Evresi
REFRESH-INTERVAL;VALUE=DURATION:PT1H
X-Robots-Tag:noindex
X-PUBLISHED-TTL:PT1H
BEGIN:VTIMEZONE
TZID:Europe/Berlin
BEGIN:DAYLIGHT
TZOFFSETFROM:+0100
TZOFFSETTO:+0200
TZNAME:CEST
DTSTART:20200329T010000
END:DAYLIGHT
BEGIN:STANDARD
TZOFFSETFROM:+0200
TZOFFSETTO:+0100
TZNAME:CET
DTSTART:20201025T010000
END:STANDARD
BEGIN:DAYLIGHT
TZOFFSETFROM:+0100
TZOFFSETTO:+0200
TZNAME:CEST
DTSTART:20210328T010000
END:DAYLIGHT
BEGIN:STANDARD
TZOFFSETFROM:+0200
TZOFFSETTO:+0100
TZNAME:CET
DTSTART:20211031T010000
END:STANDARD
BEGIN:DAYLIGHT
TZOFFSETFROM:+0100
TZOFFSETTO:+0200
TZNAME:CEST
DTSTART:20220327T010000
END:DAYLIGHT
BEGIN:STANDARD
TZOFFSETFROM:+0200
TZOFFSETTO:+0100
TZNAME:CET
DTSTART:20221030T010000
END:STANDARD
END:VTIMEZONE
BEGIN:VEVENT
DTSTART;TZID=Europe/Berlin:20210524T100000
DTEND;TZID=Europe/Berlin:20210524T110000
DTSTAMP:20260426T025800
CREATED:20210507T180543Z
LAST-MODIFIED:20210520T171734Z
UID:5714-1621850400-1621854000@evresi.de
SUMMARY:Ökumenischer Gottesdienst: Pfingstmontag ... to go
DESCRIPTION:Pfingstmontag … to go\n„To go“ heißt\, wörtlich übersetzt\, „zum Gehen“. Übertragen heißt es: „zum Mitnehmen“. Für Pfingstmontag heißt es mehrerlei: \n\nGehen Sie los und feiern Sie mit uns einen Ökumenischen Gottesdienst! Am Pfingstmontag\, dem 24. Mai\, beginnt um 10 Uhr der Gottesdienst in der katholischen Kirche St. Georg in Löhndorf.\n„To go“ ist auch das Thema dieses Gottesdienstes. Lassen Sie sich überraschen!\n„To go“: Und dann gehen wir nach Hause … Ja\, sonst sind wir immer nach dem Gottesdienst zusammengeblieben – zum Erzählen\, mit einem Glas Wein Beisammenstehen\, sich an der Ökumene Freuen. Das wird in diesem Jahr noch nicht wieder möglich sein. Und doch werden wir anders gehen\, als wir gekommen sind – versprochen!\n\nZu dem Gottesdienst musste man sich anmelden. Die Anmeldung über die Homepage der katholischen Kirche Sinzig ist aber eigentlich abgelaufen. Wenn Sie sich dennoch anmelden wollen\, rufen bitte bis Donnerstag im Gemeindebüro Sinzig an (Tel. 02642-5759) oder im katholischen Pfarrbüro. \nAm besten nicht lange warten\, denn die Plätze sind begrenzt (40)!
URL:https://evresi.de/event/oekumenischer-gottesdienst-pfingstmontag-to-go/
ATTACH;FMTTYPE=image/jpeg:https://evresi.de/wp-content/uploads/2021/05/Becher-to-go-scaled.jpg
END:VEVENT
END:VCALENDAR