BEGIN:VCALENDAR
VERSION:2.0
PRODID:-//Evresi - ECPv6.15.12.1//NONSGML v1.0//EN
CALSCALE:GREGORIAN
METHOD:PUBLISH
X-ORIGINAL-URL:https://evresi.de
X-WR-CALDESC:Veranstaltungen für Evresi
REFRESH-INTERVAL;VALUE=DURATION:PT1H
X-Robots-Tag:noindex
X-PUBLISHED-TTL:PT1H
BEGIN:VTIMEZONE
TZID:Europe/Berlin
BEGIN:DAYLIGHT
TZOFFSETFROM:+0100
TZOFFSETTO:+0200
TZNAME:CEST
DTSTART:20200329T010000
END:DAYLIGHT
BEGIN:STANDARD
TZOFFSETFROM:+0200
TZOFFSETTO:+0100
TZNAME:CET
DTSTART:20201025T010000
END:STANDARD
BEGIN:DAYLIGHT
TZOFFSETFROM:+0100
TZOFFSETTO:+0200
TZNAME:CEST
DTSTART:20210328T010000
END:DAYLIGHT
BEGIN:STANDARD
TZOFFSETFROM:+0200
TZOFFSETTO:+0100
TZNAME:CET
DTSTART:20211031T010000
END:STANDARD
BEGIN:DAYLIGHT
TZOFFSETFROM:+0100
TZOFFSETTO:+0200
TZNAME:CEST
DTSTART:20220327T010000
END:DAYLIGHT
BEGIN:STANDARD
TZOFFSETFROM:+0200
TZOFFSETTO:+0100
TZNAME:CET
DTSTART:20221030T010000
END:STANDARD
END:VTIMEZONE
BEGIN:VEVENT
DTSTART;TZID=Europe/Berlin:20210508T110000
DTEND;TZID=Europe/Berlin:20210508T130000
DTSTAMP:20260426T025642
CREATED:20210429T140819Z
LAST-MODIFIED:20210429T142051Z
UID:5680-1620471600-1620478800@evresi.de
SUMMARY:Kochen wie die Großen über Zoom
DESCRIPTION:Am Samstag\, den 08.05.2021 um 11 Uhr wird wieder gekocht! Und da dieser Termin kurz vor Muttertag ist\, dreht sich alles darum den Mamas vielleicht ein kleines Dinner zu kochen. Wir kochen ein 3 Gänge Menü mit Vorspeise\, Hauptgang und Nachtisch. Alles so\, dass ihr Kinder am Sonntag in der Lage seid alles ganz alleine nochmal zu kochen\, nur für eure Mamas! \nDie Zutatenliste findet ihr ab Samstag\, 01.05.2021 auf der Jugendhomepage und den Link zum virtuellen Kochstudio ab Samstag\, 08.05.2021 10.30 Uhr. \nWir freuen uns riesig mit euch gemeinsam zu kochen!
URL:https://evresi.de/event/kochen-wie-die-grossen/
ATTACH;FMTTYPE=image/jpeg:https://evresi.de/wp-content/uploads/2021/04/Kochen-wie-die-Grossen.jpg
END:VEVENT
END:VCALENDAR