BEGIN:VCALENDAR
VERSION:2.0
PRODID:-//Evresi - ECPv6.15.12.1//NONSGML v1.0//EN
CALSCALE:GREGORIAN
METHOD:PUBLISH
X-WR-CALNAME:Evresi
X-ORIGINAL-URL:https://evresi.de
X-WR-CALDESC:Veranstaltungen für Evresi
REFRESH-INTERVAL;VALUE=DURATION:PT1H
X-Robots-Tag:noindex
X-PUBLISHED-TTL:PT1H
BEGIN:VTIMEZONE
TZID:Europe/Berlin
BEGIN:DAYLIGHT
TZOFFSETFROM:+0100
TZOFFSETTO:+0200
TZNAME:CEST
DTSTART:20200329T010000
END:DAYLIGHT
BEGIN:STANDARD
TZOFFSETFROM:+0200
TZOFFSETTO:+0100
TZNAME:CET
DTSTART:20201025T010000
END:STANDARD
BEGIN:DAYLIGHT
TZOFFSETFROM:+0100
TZOFFSETTO:+0200
TZNAME:CEST
DTSTART:20210328T010000
END:DAYLIGHT
BEGIN:STANDARD
TZOFFSETFROM:+0200
TZOFFSETTO:+0100
TZNAME:CET
DTSTART:20211031T010000
END:STANDARD
BEGIN:DAYLIGHT
TZOFFSETFROM:+0100
TZOFFSETTO:+0200
TZNAME:CEST
DTSTART:20220327T010000
END:DAYLIGHT
BEGIN:STANDARD
TZOFFSETFROM:+0200
TZOFFSETTO:+0100
TZNAME:CET
DTSTART:20221030T010000
END:STANDARD
END:VTIMEZONE
BEGIN:VEVENT
DTSTART;TZID=Europe/Berlin:20210504T190000
DTEND;TZID=Europe/Berlin:20210504T200000
DTSTAMP:20260426T025315
CREATED:20210422T161109Z
LAST-MODIFIED:20210427T060444Z
UID:5632-1620154800-1620158400@evresi.de
SUMMARY:Anmeldung zum Konfi-Unterricht in Sinzig per Zoom
DESCRIPTION:Das aktuelle Konfi-Jahr neigt sich so langsam dem Ende zu – das heißt auch: Bald startet der neue Jahrgang! Vielleicht ja auch mit Euch! \nIhr seid 13 Jahre alt\, aus Sinzig und wollt im nächsten Jahr Konfirmation feiern? Ihr überlegt noch\, ob Ihr am Konfirmand*innenunterricht teilnehmen wollt? Ihr seid interessiert\, aber wisst noch nicht so genau\, ob das etwas für euch ist? \nDann merkt euch schon mal diese beiden Termine vor: \nDienstag\, 4. Mai 2021\, 19 Uhr: Anmeldeabend per Zoom und \nDienstag\, 22. Juni\, 16.30 Uhr: Erster Konfi-Nachmittag \nZum Anmeldeabend seid Ihr zusammen mit euren Eltern eingeladen. Der Abend wird als Zoom-Konferenz stattfinden\, weil das sonst in unseren Räumlichkeiten mit den Abständen schwierig wird. An diesem Abend werden Pfarrerin Laubmann und Pfarrerin Kuhn über den Ablauf des Konfi-Jahres informieren und eure Fragen beantworten. Danach könnt Ihr euch fest zum Konfi-Unterricht anmelden\, wenn Ihr euch dafür entscheidet. \nWenn Ihr schon getauft seid und zu unserer Gemeinde gehört\, dann habt Ihr nach Ostern auch noch einen Einladungsbrief für den Anmeldeabend bekommen. Darin findet Ihr dann den Link für die Zoom-Konferenz. Wenn Ihr keinen Brief bekommen habt\, meldet Euch bitte im Gemeindebüro Sinzig (gemeindebuero-sinzig@evresi.de) an. Dann wird Euch der Link zugeschickt. \nWir freuen uns auf Euch! \nPfarrerin Johanna Kuhn und Pfarrerin Kerstin Laubmann \nP.S. Um Euch anzumelden\, müsst Ihr und müssen Sie als Eltern unser Anmeldeformular ausfüllen und uns dann per Post zukommen lassen.\nDas Formular findet sich hier.
URL:https://evresi.de/event/anmeldung-zum-konfi-unterricht-in-sinzig-per-zoom/
ATTACH;FMTTYPE=image/jpeg:https://evresi.de/wp-content/uploads/2021/04/Einladung-KU-2022-Sinzig-scaled.jpg
END:VEVENT
END:VCALENDAR