BEGIN:VCALENDAR
VERSION:2.0
PRODID:-//Evresi - ECPv6.15.12.1//NONSGML v1.0//EN
CALSCALE:GREGORIAN
METHOD:PUBLISH
X-ORIGINAL-URL:https://evresi.de
X-WR-CALDESC:Veranstaltungen für Evresi
REFRESH-INTERVAL;VALUE=DURATION:PT1H
X-Robots-Tag:noindex
X-PUBLISHED-TTL:PT1H
BEGIN:VTIMEZONE
TZID:Europe/Berlin
BEGIN:DAYLIGHT
TZOFFSETFROM:+0100
TZOFFSETTO:+0200
TZNAME:CEST
DTSTART:20200329T010000
END:DAYLIGHT
BEGIN:STANDARD
TZOFFSETFROM:+0200
TZOFFSETTO:+0100
TZNAME:CET
DTSTART:20201025T010000
END:STANDARD
BEGIN:DAYLIGHT
TZOFFSETFROM:+0100
TZOFFSETTO:+0200
TZNAME:CEST
DTSTART:20210328T010000
END:DAYLIGHT
BEGIN:STANDARD
TZOFFSETFROM:+0200
TZOFFSETTO:+0100
TZNAME:CET
DTSTART:20211031T010000
END:STANDARD
BEGIN:DAYLIGHT
TZOFFSETFROM:+0100
TZOFFSETTO:+0200
TZNAME:CEST
DTSTART:20220327T010000
END:DAYLIGHT
BEGIN:STANDARD
TZOFFSETFROM:+0200
TZOFFSETTO:+0100
TZNAME:CET
DTSTART:20221030T010000
END:STANDARD
END:VTIMEZONE
BEGIN:VEVENT
DTSTART;TZID=Europe/Berlin:20210128T080000
DTEND;TZID=Europe/Berlin:20210213T210000
DTSTAMP:20260425T223158
CREATED:20210128T133701Z
LAST-MODIFIED:20210213T203222Z
UID:5082-1611820800-1613250000@evresi.de
SUMMARY:Wahlgottesdienst für Sinzig am 13. Februar
DESCRIPTION:Vor fast drei Jahren kam Pfarrerin Johanna Kuhn in unsere Kirchengemeinde: zunächst für ein Sondervikariat\, dessen größten Teil sie bei der Vereinten Evangelischen Mission in Wuppertal absolvierte\, und im Anschluss für den Probedienst\, bevor sie dann selbst eine Pfarrstelle übernehmen könnte. \nAls Pfarrerin Laubmann im letzten Jahr das Presbyterium bat\, aus persönlichen Gründen nur noch im Umfang einer halben Pfarrstelle zu arbeiten\, gab es daraufhin Gespräche mit Pfarrerin Kuhn. Und dann ging alles ganz schnell: Das Presbyterium stimmte der Reduzierung des Dienstes von Pfarrerin Laubmann zu\, und es entschied zugleich\, Pfarrerin Kuhn die zweite halbe Pfarrstelle in Sinzig zu übertragen. Auch der Kirchenkreis und die Landeskirche reagierten sehr schnell und stimmten den Plänen zu. \nNun steht der Gottesdienst an\, in dem Pfarrerin Kuhn auf die Pfarrstelle in Sinzig gewählt werden soll. Damit alle Mitglieder des Presbyteriums ihre Stimme abgeben können und damit die Gemeinde möglichst zahlreich an dem Gottesdienst teilnehmen kann\, wird der Gottesdienst im Internet stattfinden\, und zwar im Stil einer Zoom-Konferenz: \nam Samstag\, 13. Februar 2021\, um 18 Uhr.\nWer an diesem Gottesdienst teilnehmen\, will\, melde sich bitte in den Gemeindebüros. Man braucht dazu einen Computer\, am besten mit Kamera. Pfarrerin Laubmann wird Ihnen dann einen Link zuschicken\, mit dem Sie an dem Gottesdienst teilnehmen können. Für alle\, die mit Zoom noch nicht vertraut sind\, wird es außerdem eine schriftliche Anleitung geben\, mit der es gelingen sollte\, sich dem Gottesdienst zuzuschalten. \nDas Presbyterium freut sich auf eine zahlreiche Teilnahme! \n 
URL:https://evresi.de/event/wahlgottesdienst-fuer-sinzig-am-13-februar/
ATTACH;FMTTYPE=image/jpeg:https://evresi.de/wp-content/uploads/2021/01/Johanna-Kuhn-e1611841251885.jpg
END:VEVENT
BEGIN:VEVENT
DTSTART;TZID=Europe/Berlin:20210205T000000
DTEND;TZID=Europe/Berlin:20210306T190000
DTSTAMP:20260425T223158
CREATED:20210205T070107Z
LAST-MODIFIED:20210205T072620Z
UID:5140-1612483200-1615057200@evresi.de
SUMMARY:Radio Vanuatu
DESCRIPTION:So hört (sich) Vanuatu (an):\nWollen Sie mal reinhören?\nDas können Sie mit drei Radiosendern:\nBuzz\nRadio Vanuatu\nParadise\nWobei es sich so anhört\, als sendeten die letzten beiden Sender dasselbe\, nur auf verschiedenen Frequenzen. \nVanuatu ist uns genau 10 Stunden voraus.\nDie Radiosender sind nicht immer erreichbar. Doch wenn sie senden und man sie empfangen kann\, dann hört sich manches seltsam vertraut an – so landete ich um kurz vor 20 Uhr unserer Zeit in einer Rundfunk-Andacht. Und viele Musik-Titel auf Buzz habe ich auch bei uns schon im Radio gehört. Anderes klingt\, wie es ist: sehr weit weg.\nDoch hören Sie selbst! \nFoto: Heiner Heine
URL:https://evresi.de/event/radio-vanuatu/
ATTACH;FMTTYPE=image/jpeg:https://evresi.de/wp-content/uploads/2021/02/85_Bambusklavier.jpg
END:VEVENT
BEGIN:VEVENT
DTSTART;TZID=Europe/Berlin:20210206T000000
DTEND;TZID=Europe/Berlin:20210206T235900
DTSTAMP:20260425T223158
CREATED:20210205T230052Z
LAST-MODIFIED:20210206T095114Z
UID:4805-1612569600-1612655940@evresi.de
SUMMARY:Countdown für Vanuatu
DESCRIPTION:6. Februar 2021\nInsel-Hopping\n\nFoto: WGT e.V.\nSo sieht Vanuatu aus: wie ein Ypsilon aus 83 Inseln.\nIm Querformat findet man dieses Ypsilon auch auf der Flagge von Vanuatu wieder. \n\nFoto: Katja Buck\n67 der Inseln sind (noch) bewohnt.\nWarum „noch“? Dazu gibt es später etwas in unserem Countdown.\nSo\, wie es heute ist\, erstreckt sich Vanuatu von Norden nach Süden über 1.300 Kilometer. \nWenn Sie mehr über die Inseln erfahren und auch ein paar Bilder sehen wollen\, dann klicken Sie hier: Insel-Hopping \nUnd ein ganz eigenes Insel-Hopping mit Klängen von Vanuatu gibt es hier: Video „Sounds of Vanuatu“ \nText: Wir danken Andrea Weber für ihre Vorlage!\n  \n5. Februar 2021\nVanuatu – Wo liegt das denn?!\nVanuatu … Noch nie gehört? \nDas ging mir genauso. Eine Ahnung davon\, wo Vanuatu liegen könnte\, bekam ich\, ohne es zu wissen\, Ende 2019. Da zerbrach ich mir den Kopf über dem Weihnachtsrätsel der Süddeutschen Zeitung. Mein Kopf rauchte\, mehr als alle ausgeblasenen Kerzen zusammen. \nDoch dann kam ich des Rätsels Lösung sehr nahe. Sie hatte zu tun mit den Inseln\, die auf der ganzen Seite verteilt waren und die zu einer Inselgruppe mit neun Inseln gehörten\, obwohl im Namen der Inselgruppe nur von acht Inseln die Rede war. Der Name dieser Inselgruppe ließ sich finden: Tuvalu\, ganz klein\, irgendwo im Pazifischen Ozean\, in der „Nähe“ von Australien – was immer „Nähe“ in diesem riesigen Ozean auch bedeuten mag. \nAls ich nun hörte\, dass der nächste Weltgebetstag aus Vanuatu kommen würde\, dachte ich sofort wieder an Tuvalu. „Vanuatu“\, das hörte sich so an\, als könne es in derselben Richtung liegen. Und tatsächlich. Die Fidschi-Inseln sind bekannter\, aber da\, genau zwischen den Fidschi-Inseln und Australien\, da liegt eben Vanuatu (Tuvalu\, nur falls es Sie interessiert\, liegt nördlich der Fidschi-Inseln).\nJetzt wissen Sie\, wohin wir uns aufmachen. \n \nFotos: privat
URL:https://evresi.de/event/countdown-fuer-vanuatu-3/
ATTACH;FMTTYPE=image/jpeg:https://evresi.de/wp-content/uploads/2021/02/22-Schirm-Rechte.jpg
END:VEVENT
END:VCALENDAR