BEGIN:VCALENDAR
VERSION:2.0
PRODID:-//Evresi - ECPv6.15.12.1//NONSGML v1.0//EN
CALSCALE:GREGORIAN
METHOD:PUBLISH
X-WR-CALNAME:Evresi
X-ORIGINAL-URL:https://evresi.de
X-WR-CALDESC:Veranstaltungen für Evresi
REFRESH-INTERVAL;VALUE=DURATION:PT1H
X-Robots-Tag:noindex
X-PUBLISHED-TTL:PT1H
BEGIN:VTIMEZONE
TZID:Europe/Berlin
BEGIN:DAYLIGHT
TZOFFSETFROM:+0100
TZOFFSETTO:+0200
TZNAME:CEST
DTSTART:20200329T010000
END:DAYLIGHT
BEGIN:STANDARD
TZOFFSETFROM:+0200
TZOFFSETTO:+0100
TZNAME:CET
DTSTART:20201025T010000
END:STANDARD
BEGIN:DAYLIGHT
TZOFFSETFROM:+0100
TZOFFSETTO:+0200
TZNAME:CEST
DTSTART:20210328T010000
END:DAYLIGHT
BEGIN:STANDARD
TZOFFSETFROM:+0200
TZOFFSETTO:+0100
TZNAME:CET
DTSTART:20211031T010000
END:STANDARD
BEGIN:DAYLIGHT
TZOFFSETFROM:+0100
TZOFFSETTO:+0200
TZNAME:CEST
DTSTART:20220327T010000
END:DAYLIGHT
BEGIN:STANDARD
TZOFFSETFROM:+0200
TZOFFSETTO:+0100
TZNAME:CET
DTSTART:20221030T010000
END:STANDARD
END:VTIMEZONE
BEGIN:VEVENT
DTSTART;TZID=Europe/Berlin:20210106T000000
DTEND;TZID=Europe/Berlin:20210107T083000
DTSTAMP:20260425T204757
CREATED:20210105T231956Z
LAST-MODIFIED:20210106T083020Z
UID:4734-1609891200-1610008200@evresi.de
SUMMARY:Zum Abschied Musik für den 6. Januar
DESCRIPTION:https://evresi.de/wp-content/uploads/2020/12/2021-01-06-In-dulci-jubilo.mp4\nDamit endet unser musikalischer Adventskalender.\nWir hoffen\, Sie hatten so viel Freude beim täglichen Öffnen der Türchen und beim Zuhören wie wir beim Musikmachen und Musik-Zusammenstellen.\nGehen Sie behütet und gesegnet in die kommende Zeit.
URL:https://evresi.de/event/zum-abschied-musik-fuer-den-6-januar/
ATTACH;FMTTYPE=image/jpeg:https://evresi.de/wp-content/uploads/2020/11/Adventsstein-Tuer-blau-2-scaled-e1606313912916.jpg
END:VEVENT
END:VCALENDAR