BEGIN:VCALENDAR
VERSION:2.0
PRODID:-//Evresi - ECPv6.15.12.1//NONSGML v1.0//EN
CALSCALE:GREGORIAN
METHOD:PUBLISH
X-WR-CALNAME:Evresi
X-ORIGINAL-URL:https://evresi.de
X-WR-CALDESC:Veranstaltungen für Evresi
REFRESH-INTERVAL;VALUE=DURATION:PT1H
X-Robots-Tag:noindex
X-PUBLISHED-TTL:PT1H
BEGIN:VTIMEZONE
TZID:Europe/Berlin
BEGIN:DAYLIGHT
TZOFFSETFROM:+0100
TZOFFSETTO:+0200
TZNAME:CEST
DTSTART:20200329T010000
END:DAYLIGHT
BEGIN:STANDARD
TZOFFSETFROM:+0200
TZOFFSETTO:+0100
TZNAME:CET
DTSTART:20201025T010000
END:STANDARD
BEGIN:DAYLIGHT
TZOFFSETFROM:+0100
TZOFFSETTO:+0200
TZNAME:CEST
DTSTART:20210328T010000
END:DAYLIGHT
BEGIN:STANDARD
TZOFFSETFROM:+0200
TZOFFSETTO:+0100
TZNAME:CET
DTSTART:20211031T010000
END:STANDARD
BEGIN:DAYLIGHT
TZOFFSETFROM:+0100
TZOFFSETTO:+0200
TZNAME:CEST
DTSTART:20220327T010000
END:DAYLIGHT
BEGIN:STANDARD
TZOFFSETFROM:+0200
TZOFFSETTO:+0100
TZNAME:CET
DTSTART:20221030T010000
END:STANDARD
END:VTIMEZONE
BEGIN:VEVENT
DTSTART;TZID=Europe/Berlin:20210103T000000
DTEND;TZID=Europe/Berlin:20210104T083000
DTSTAMP:20260425T204756
CREATED:20210102T231244Z
LAST-MODIFIED:20201226T161533Z
UID:4728-1609632000-1609749000@evresi.de
SUMMARY:Musik für den 3. Januar
DESCRIPTION:https://evresi.de/wp-content/uploads/2020/11/2021-01-03-Geminiani-Largo-01a-b02.mp3
URL:https://evresi.de/event/musik-fuer-den-3-januar/
ATTACH;FMTTYPE=image/jpeg:https://evresi.de/wp-content/uploads/2020/11/Adventsstein-Tuer-blau-2-scaled-e1606313912916.jpg
END:VEVENT
BEGIN:VEVENT
DTSTART;TZID=Europe/Berlin:20210104T000000
DTEND;TZID=Europe/Berlin:20210105T083000
DTSTAMP:20260425T204756
CREATED:20210103T231547Z
LAST-MODIFIED:20210102T101027Z
UID:4730-1609718400-1609835400@evresi.de
SUMMARY:Musik für den 4. Januar
DESCRIPTION:Hier geht es zum Lied aus Taizé „Bei Gott bin ich geborgen“ \nBei Gott bin ich geborgen\, still wie ein Kind\,\nbei ihm ist Trost und Heil.\nJa\, hin zu Gott verzehrt sich meine Seele\,\nkehrt in Frieden ein.
URL:https://evresi.de/event/musik-fuer-den-4-januar/
ATTACH;FMTTYPE=image/jpeg:https://evresi.de/wp-content/uploads/2020/11/Adventsstein-Tuer-blau-2-scaled-e1606313912916.jpg
END:VEVENT
END:VCALENDAR