BEGIN:VCALENDAR
VERSION:2.0
PRODID:-//Evresi - ECPv6.15.12.1//NONSGML v1.0//EN
CALSCALE:GREGORIAN
METHOD:PUBLISH
X-WR-CALNAME:Evresi
X-ORIGINAL-URL:https://evresi.de
X-WR-CALDESC:Veranstaltungen für Evresi
REFRESH-INTERVAL;VALUE=DURATION:PT1H
X-Robots-Tag:noindex
X-PUBLISHED-TTL:PT1H
BEGIN:VTIMEZONE
TZID:Europe/Berlin
BEGIN:DAYLIGHT
TZOFFSETFROM:+0100
TZOFFSETTO:+0200
TZNAME:CEST
DTSTART:20190331T010000
END:DAYLIGHT
BEGIN:STANDARD
TZOFFSETFROM:+0200
TZOFFSETTO:+0100
TZNAME:CET
DTSTART:20191027T010000
END:STANDARD
BEGIN:DAYLIGHT
TZOFFSETFROM:+0100
TZOFFSETTO:+0200
TZNAME:CEST
DTSTART:20200329T010000
END:DAYLIGHT
BEGIN:STANDARD
TZOFFSETFROM:+0200
TZOFFSETTO:+0100
TZNAME:CET
DTSTART:20201025T010000
END:STANDARD
BEGIN:DAYLIGHT
TZOFFSETFROM:+0100
TZOFFSETTO:+0200
TZNAME:CEST
DTSTART:20210328T010000
END:DAYLIGHT
BEGIN:STANDARD
TZOFFSETFROM:+0200
TZOFFSETTO:+0100
TZNAME:CET
DTSTART:20211031T010000
END:STANDARD
END:VTIMEZONE
BEGIN:VEVENT
DTSTART;TZID=Europe/Berlin:20201224T143000
DTEND;TZID=Europe/Berlin:20201224T190000
DTSTAMP:20260425T191328
CREATED:20201125T144910Z
LAST-MODIFIED:20201221T155926Z
UID:4434-1608820200-1608836400@evresi.de
SUMMARY:Die Gottesdienste an Heiligabend fallen leider aus
DESCRIPTION:An den Kirchentüren und auf den Wäscheleinen vor den Kirchen und Gemeindehäusern gibt es jedoch „Gottesdienste am Küchentisch“ und Familiengottesdienste für zu Hause zum Mitnehmen. \nAusführlichere Informationen finden Sie unten.
URL:https://evresi.de/event/familiengottesdienste-an-heiligabend/
ATTACH;FMTTYPE=image/jpeg:https://evresi.de/wp-content/uploads/2020/11/Adventsstein-Stall-Traene-Stern-3-bearbeitet-scaled.jpg
END:VEVENT
BEGIN:VEVENT
DTSTART;TZID=Europe/Berlin:20201224T150000
DTEND;TZID=Europe/Berlin:20201224T180000
DTSTAMP:20260425T191328
CREATED:20201219T175700Z
LAST-MODIFIED:20201219T175830Z
UID:4663-1608822000-1608832800@evresi.de
SUMMARY:Das Friedenslicht von Bethlehem wird ausgeteilt
DESCRIPTION:An den offenen Kirchentüren wird das Friedenslicht von Bethlehem ausgeteilt.\nBitte eine Laterne oder ein Windlicht mit Kerze oder Teelicht mitbringen.\nUnd dann das Licht weitertragen.
URL:https://evresi.de/event/das-friedenslicht-von-bethlehem-wird-ausgeteilt/
ATTACH;FMTTYPE=image/jpeg:https://evresi.de/wp-content/uploads/2020/12/Adventsstein-Laterne-mit-Kerze-2-scaled-e1608400697842.jpg
END:VEVENT
BEGIN:VEVENT
DTSTART;TZID=Europe/Berlin:20201224T160000
DTEND;TZID=Europe/Berlin:20201224T163000
DTSTAMP:20260425T191328
CREATED:20201125T145547Z
LAST-MODIFIED:20201222T160447Z
UID:4436-1608825600-1608827400@evresi.de
SUMMARY:Ökumenische Einstimmung in den Heiligabend fällt leider aus
DESCRIPTION:Auf Grund neuer Bestimmungen des Landes Rheinland-Pfalz\, wonach Weihnachtsgottesdienste mit höchstens 100 Teilnehmer*innen stattfinden dürfen\, muss die ökumenische Einstimmung auf dem Kirchplatz leider ausfallen. Es hatten sich schon 200 Menschen angemeldet.\nDiese Absage tut uns sehr leid\, weil sich zu diesem Gottesdienst sehr schnell besonders viele Menschen angemeldet hatten und gerne miteinander Weihnachten gefeiert hätten. \nBesuchen Sie doch in der Zeit\, zu der das ökumenische Angebot stattgefunden hätte\, die Adventskirche oder die Kirche St. Peter. Die Türen stehen offen. \n 
URL:https://evresi.de/event/oekumenische-einstimmung-in-den-heiligabend/
ATTACH;FMTTYPE=image/jpeg:https://evresi.de/wp-content/uploads/2020/11/Adventsstein-Stall-5-Fenster-Maria-Josef-Krippe-Sternenhimmel-scaled-e1608211997569.jpg
END:VEVENT
END:VCALENDAR