BEGIN:VCALENDAR
VERSION:2.0
PRODID:-//Evresi - ECPv6.15.12.1//NONSGML v1.0//EN
CALSCALE:GREGORIAN
METHOD:PUBLISH
X-WR-CALNAME:Evresi
X-ORIGINAL-URL:https://evresi.de
X-WR-CALDESC:Veranstaltungen für Evresi
REFRESH-INTERVAL;VALUE=DURATION:PT1H
X-Robots-Tag:noindex
X-PUBLISHED-TTL:PT1H
BEGIN:VTIMEZONE
TZID:Europe/Berlin
BEGIN:DAYLIGHT
TZOFFSETFROM:+0100
TZOFFSETTO:+0200
TZNAME:CEST
DTSTART:20190331T010000
END:DAYLIGHT
BEGIN:STANDARD
TZOFFSETFROM:+0200
TZOFFSETTO:+0100
TZNAME:CET
DTSTART:20191027T010000
END:STANDARD
BEGIN:DAYLIGHT
TZOFFSETFROM:+0100
TZOFFSETTO:+0200
TZNAME:CEST
DTSTART:20200329T010000
END:DAYLIGHT
BEGIN:STANDARD
TZOFFSETFROM:+0200
TZOFFSETTO:+0100
TZNAME:CET
DTSTART:20201025T010000
END:STANDARD
BEGIN:DAYLIGHT
TZOFFSETFROM:+0100
TZOFFSETTO:+0200
TZNAME:CEST
DTSTART:20210328T010000
END:DAYLIGHT
BEGIN:STANDARD
TZOFFSETFROM:+0200
TZOFFSETTO:+0100
TZNAME:CET
DTSTART:20211031T010000
END:STANDARD
END:VTIMEZONE
BEGIN:VEVENT
DTSTART;TZID=Europe/Berlin:20201012T190000
DTEND;TZID=Europe/Berlin:20201012T200000
DTSTAMP:20260425T172338
CREATED:20190107T091724Z
LAST-MODIFIED:20200930T095228Z
UID:4249-1602529200-1602532800@evresi.de
SUMMARY:Ökumenisches Friedensgebet
DESCRIPTION:
URL:https://evresi.de/event/oekumenisches-friedensgebet-2-2019-05-13-2-2-2-2-2-2-2-2-2-2/
LOCATION:Friedenskirche Remagen\, Marktstr. 25\, Remagen\, 53424\, Deutschland
ATTACH;FMTTYPE=image/gif:https://evresi.de/wp-content/uploads/2019/01/Bild-Friedensgebet.gif
END:VEVENT
END:VCALENDAR