BEGIN:VCALENDAR
VERSION:2.0
PRODID:-//Evresi - ECPv6.15.12.1//NONSGML v1.0//EN
CALSCALE:GREGORIAN
METHOD:PUBLISH
X-WR-CALNAME:Evresi
X-ORIGINAL-URL:https://evresi.de
X-WR-CALDESC:Veranstaltungen für Evresi
REFRESH-INTERVAL;VALUE=DURATION:PT1H
X-Robots-Tag:noindex
X-PUBLISHED-TTL:PT1H
BEGIN:VTIMEZONE
TZID:Europe/Berlin
BEGIN:DAYLIGHT
TZOFFSETFROM:+0100
TZOFFSETTO:+0200
TZNAME:CEST
DTSTART:20190331T010000
END:DAYLIGHT
BEGIN:STANDARD
TZOFFSETFROM:+0200
TZOFFSETTO:+0100
TZNAME:CET
DTSTART:20191027T010000
END:STANDARD
BEGIN:DAYLIGHT
TZOFFSETFROM:+0100
TZOFFSETTO:+0200
TZNAME:CEST
DTSTART:20200329T010000
END:DAYLIGHT
BEGIN:STANDARD
TZOFFSETFROM:+0200
TZOFFSETTO:+0100
TZNAME:CET
DTSTART:20201025T010000
END:STANDARD
BEGIN:DAYLIGHT
TZOFFSETFROM:+0100
TZOFFSETTO:+0200
TZNAME:CEST
DTSTART:20210328T010000
END:DAYLIGHT
BEGIN:STANDARD
TZOFFSETFROM:+0200
TZOFFSETTO:+0100
TZNAME:CET
DTSTART:20211031T010000
END:STANDARD
END:VTIMEZONE
BEGIN:VEVENT
DTSTART;TZID=Europe/Berlin:20200929T113000
DTEND;TZID=Europe/Berlin:20201007T210000
DTSTAMP:20260425T153434
CREATED:20200903T131821Z
LAST-MODIFIED:20200929T094723Z
UID:4159-1601379000-1602104400@evresi.de
SUMMARY:Chagall in Sinzig
DESCRIPTION:Chagall in Sinzig \nVom 18. September bis zum 7. Oktober findet in der katholischen Kirche St. Peter in Sinzig eine Ausstellung mit Bilder von Marc Chagall zur Bibel statt. Dazu gibt es ein umfangreiches Begleitprogramm. \nWichtig: Wenn man an einer der Veranstaltungen teilnehmen möchte\, muss man sich vorher über die Homepage der katholischen Kirche anmelden (http://www.kath-kirche-sinzig.org). Der dortige Link zur Anmeldung wird zum ersten September-Wochenende freigeschaltet. \n  \nHier finden Sie den Prospekt mit allen Veranstaltungen: Prospekt
URL:https://evresi.de/event/chagall-in-sinzig/
ATTACH;FMTTYPE=image/jpeg:https://evresi.de/wp-content/uploads/2020/09/147-Fenster-nach-Chagalls-Skizzen-Ausschnitt.jpg
END:VEVENT
END:VCALENDAR