BEGIN:VCALENDAR
VERSION:2.0
PRODID:-//Evresi - ECPv6.15.12.1//NONSGML v1.0//EN
CALSCALE:GREGORIAN
METHOD:PUBLISH
X-ORIGINAL-URL:https://evresi.de
X-WR-CALDESC:Veranstaltungen für Evresi
REFRESH-INTERVAL;VALUE=DURATION:PT1H
X-Robots-Tag:noindex
X-PUBLISHED-TTL:PT1H
BEGIN:VTIMEZONE
TZID:Europe/Berlin
BEGIN:DAYLIGHT
TZOFFSETFROM:+0100
TZOFFSETTO:+0200
TZNAME:CEST
DTSTART:20190331T010000
END:DAYLIGHT
BEGIN:STANDARD
TZOFFSETFROM:+0200
TZOFFSETTO:+0100
TZNAME:CET
DTSTART:20191027T010000
END:STANDARD
BEGIN:DAYLIGHT
TZOFFSETFROM:+0100
TZOFFSETTO:+0200
TZNAME:CEST
DTSTART:20200329T010000
END:DAYLIGHT
BEGIN:STANDARD
TZOFFSETFROM:+0200
TZOFFSETTO:+0100
TZNAME:CET
DTSTART:20201025T010000
END:STANDARD
BEGIN:DAYLIGHT
TZOFFSETFROM:+0100
TZOFFSETTO:+0200
TZNAME:CEST
DTSTART:20210328T010000
END:DAYLIGHT
BEGIN:STANDARD
TZOFFSETFROM:+0200
TZOFFSETTO:+0100
TZNAME:CET
DTSTART:20211031T010000
END:STANDARD
END:VTIMEZONE
BEGIN:VEVENT
DTSTART;TZID=Europe/Berlin:20200927T110000
DTEND;TZID=Europe/Berlin:20200927T120000
DTSTAMP:20260425T140330
CREATED:20200924T180503Z
LAST-MODIFIED:20200924T180616Z
UID:4236-1601204400-1601208000@evresi.de
SUMMARY:Erntedank x 2
DESCRIPTION:Weil so viele am Sonntag\, 27. September\, in Sinzig Erntedank-Gottesdienst feiern wollen\, laden wir um 11 Uhr zu einem zweiten Gottesdienst in die Adventskirche ein. Kommen Sie gerne! Wir werden im Gottesdienst auch das Abendmahl feiern.\nWer sich sicherheitshalber anmelden möchte: Dies ist am Freitag noch bis 12 Uhr in den Gemeindebüros möglich (Sinzig Tel. 5759\, Remagen Tel. 3051).
URL:https://evresi.de/event/erntedank-x-2/
ATTACH;FMTTYPE=image/jpeg:https://evresi.de/wp-content/uploads/2020/09/19-Erntedankaltar-Kopie-scaled.jpg
END:VEVENT
END:VCALENDAR