BEGIN:VCALENDAR
VERSION:2.0
PRODID:-//Evresi - ECPv6.15.12.1//NONSGML v1.0//EN
CALSCALE:GREGORIAN
METHOD:PUBLISH
X-ORIGINAL-URL:https://evresi.de
X-WR-CALDESC:Veranstaltungen für Evresi
REFRESH-INTERVAL;VALUE=DURATION:PT1H
X-Robots-Tag:noindex
X-PUBLISHED-TTL:PT1H
BEGIN:VTIMEZONE
TZID:Europe/Berlin
BEGIN:DAYLIGHT
TZOFFSETFROM:+0100
TZOFFSETTO:+0200
TZNAME:CEST
DTSTART:20190331T010000
END:DAYLIGHT
BEGIN:STANDARD
TZOFFSETFROM:+0200
TZOFFSETTO:+0100
TZNAME:CET
DTSTART:20191027T010000
END:STANDARD
BEGIN:DAYLIGHT
TZOFFSETFROM:+0100
TZOFFSETTO:+0200
TZNAME:CEST
DTSTART:20200329T010000
END:DAYLIGHT
BEGIN:STANDARD
TZOFFSETFROM:+0200
TZOFFSETTO:+0100
TZNAME:CET
DTSTART:20201025T010000
END:STANDARD
BEGIN:DAYLIGHT
TZOFFSETFROM:+0100
TZOFFSETTO:+0200
TZNAME:CEST
DTSTART:20210328T010000
END:DAYLIGHT
BEGIN:STANDARD
TZOFFSETFROM:+0200
TZOFFSETTO:+0100
TZNAME:CET
DTSTART:20211031T010000
END:STANDARD
END:VTIMEZONE
BEGIN:VEVENT
DTSTART;TZID=Europe/Berlin:20200120T193000
DTEND;TZID=Europe/Berlin:20200120T220000
DTSTAMP:20260426T031951
CREATED:20181130T112352Z
LAST-MODIFIED:20191212T163251Z
UID:3216-1579548600-1579557600@evresi.de
SUMMARY:Frauenabendkreis
DESCRIPTION:Thema: Die weibliche Seite Gottes im Judentum \nReferentin: Pfrin. Laubmann \nWeitere Informationen finden Sie hier
URL:https://evresi.de/event/frauenabendkreis-2019-05-20-2-2-3-2-2-2/
LOCATION:Gemeindehaus Sinzig\, Dreifaltigkeitsweg 26\, Sinzig\, 53489\, Deutschland
ATTACH;FMTTYPE=image/jpeg:https://evresi.de/wp-content/uploads/2019/01/Frauenabendkreis-Keramik-Kreise.jpg
END:VEVENT
END:VCALENDAR