BEGIN:VCALENDAR
VERSION:2.0
PRODID:-//Evresi - ECPv6.15.12.1//NONSGML v1.0//EN
CALSCALE:GREGORIAN
METHOD:PUBLISH
X-ORIGINAL-URL:https://evresi.de
X-WR-CALDESC:Veranstaltungen für Evresi
REFRESH-INTERVAL;VALUE=DURATION:PT1H
X-Robots-Tag:noindex
X-PUBLISHED-TTL:PT1H
BEGIN:VTIMEZONE
TZID:Europe/Berlin
BEGIN:DAYLIGHT
TZOFFSETFROM:+0100
TZOFFSETTO:+0200
TZNAME:CEST
DTSTART:20180325T010000
END:DAYLIGHT
BEGIN:STANDARD
TZOFFSETFROM:+0200
TZOFFSETTO:+0100
TZNAME:CET
DTSTART:20181028T010000
END:STANDARD
BEGIN:DAYLIGHT
TZOFFSETFROM:+0100
TZOFFSETTO:+0200
TZNAME:CEST
DTSTART:20190331T010000
END:DAYLIGHT
BEGIN:STANDARD
TZOFFSETFROM:+0200
TZOFFSETTO:+0100
TZNAME:CET
DTSTART:20191027T010000
END:STANDARD
BEGIN:DAYLIGHT
TZOFFSETFROM:+0100
TZOFFSETTO:+0200
TZNAME:CEST
DTSTART:20200329T010000
END:DAYLIGHT
BEGIN:STANDARD
TZOFFSETFROM:+0200
TZOFFSETTO:+0100
TZNAME:CET
DTSTART:20201025T010000
END:STANDARD
END:VTIMEZONE
BEGIN:VEVENT
DTSTART;TZID=Europe/Berlin:20190820T190000
DTEND;TZID=Europe/Berlin:20190820T203000
DTSTAMP:20260426T045714
CREATED:20190812T082318Z
LAST-MODIFIED:20190813T133651Z
UID:2727-1566327600-1566333000@evresi.de
SUMMARY:Elternabend Remagener Konfirmanden
DESCRIPTION:
URL:https://evresi.de/event/elternabend-remagener-konfirmanden/
LOCATION:Gemeindehaus Remagen\, Marktstr. 25\, Remagen\, 53424\, Deutschland
ATTACH;FMTTYPE=image/jpeg:https://evresi.de/wp-content/uploads/2019/08/IMG_0459.jpg
END:VEVENT
BEGIN:VEVENT
DTSTART;TZID=Europe/Berlin:20190820T193000
DTEND;TZID=Europe/Berlin:20190820T213000
DTSTAMP:20260426T045714
CREATED:20190107T093212Z
LAST-MODIFIED:20190812T082428Z
UID:2694-1566329400-1566336600@evresi.de
SUMMARY:Elternabend Sinziger Konfirmanden
DESCRIPTION:
URL:https://evresi.de/event/elternabend-konfirmanden-sinzig-2-2-2/
LOCATION:Gemeindehaus Sinzig\, Dreifaltigkeitsweg 26\, Sinzig\, 53489\, Deutschland
ATTACH;FMTTYPE=image/jpeg:https://evresi.de/wp-content/uploads/2019/01/Konfirmandenarbeit1.jpg
END:VEVENT
END:VCALENDAR