BEGIN:VCALENDAR
VERSION:2.0
PRODID:-//Evresi - ECPv6.15.12.1//NONSGML v1.0//EN
CALSCALE:GREGORIAN
METHOD:PUBLISH
X-ORIGINAL-URL:https://evresi.de
X-WR-CALDESC:Veranstaltungen für Evresi
REFRESH-INTERVAL;VALUE=DURATION:PT1H
X-Robots-Tag:noindex
X-PUBLISHED-TTL:PT1H
BEGIN:VTIMEZONE
TZID:Europe/Berlin
BEGIN:DAYLIGHT
TZOFFSETFROM:+0100
TZOFFSETTO:+0200
TZNAME:CEST
DTSTART:20180325T010000
END:DAYLIGHT
BEGIN:STANDARD
TZOFFSETFROM:+0200
TZOFFSETTO:+0100
TZNAME:CET
DTSTART:20181028T010000
END:STANDARD
BEGIN:DAYLIGHT
TZOFFSETFROM:+0100
TZOFFSETTO:+0200
TZNAME:CEST
DTSTART:20190331T010000
END:DAYLIGHT
BEGIN:STANDARD
TZOFFSETFROM:+0200
TZOFFSETTO:+0100
TZNAME:CET
DTSTART:20191027T010000
END:STANDARD
BEGIN:DAYLIGHT
TZOFFSETFROM:+0100
TZOFFSETTO:+0200
TZNAME:CEST
DTSTART:20200329T010000
END:DAYLIGHT
BEGIN:STANDARD
TZOFFSETFROM:+0200
TZOFFSETTO:+0100
TZNAME:CET
DTSTART:20201025T010000
END:STANDARD
END:VTIMEZONE
BEGIN:VEVENT
DTSTART;TZID=Europe/Berlin:20190416T193000
DTEND;TZID=Europe/Berlin:20190416T213000
DTSTAMP:20260425T224602
CREATED:20181130T112918Z
LAST-MODIFIED:20190128T093742Z
UID:2129-1555443000-1555450200@evresi.de
SUMMARY:Männergruppe
DESCRIPTION:Thema: „Wie wir miteinander leben können“ \nReferent: Pfr.i.R. Neufang \nWeitere Informationen finden Sie hier
URL:https://evresi.de/event/maennergruppe-2-2-2-2/
LOCATION:Gemeindehaus Sinzig\, Dreifaltigkeitsweg 26\, Sinzig\, 53489\, Deutschland
ATTACH;FMTTYPE=image/jpeg:https://evresi.de/wp-content/uploads/2019/01/Bild-Männergruppe.jpg
END:VEVENT
BEGIN:VEVENT
DTSTART;TZID=Europe/Berlin:20190416T200000
DTEND;TZID=Europe/Berlin:20190416T220000
DTSTAMP:20260425T224602
CREATED:20181130T112352Z
LAST-MODIFIED:20190128T100122Z
UID:2242-1555444800-1555452000@evresi.de
SUMMARY:Frauenabendkreis
DESCRIPTION:Thema: Matthäus-Passion \nReferentin: Frau Heilwagen \nWeitere Informationen finden Sie hier
URL:https://evresi.de/event/frauenabendkreis-2019-04-15-3/
LOCATION:Gemeindehaus Sinzig\, Dreifaltigkeitsweg 26\, Sinzig\, 53489\, Deutschland
ATTACH;FMTTYPE=image/jpeg:https://evresi.de/wp-content/uploads/2019/01/Frauenabendkreis-Keramik-Kreise.jpg
END:VEVENT
END:VCALENDAR