BEGIN:VCALENDAR
VERSION:2.0
PRODID:-//Evresi - ECPv6.15.12.1//NONSGML v1.0//EN
CALSCALE:GREGORIAN
METHOD:PUBLISH
X-WR-CALNAME:Evresi
X-ORIGINAL-URL:https://evresi.de
X-WR-CALDESC:Veranstaltungen für Evresi
REFRESH-INTERVAL;VALUE=DURATION:PT1H
X-Robots-Tag:noindex
X-PUBLISHED-TTL:PT1H
BEGIN:VTIMEZONE
TZID:Europe/Berlin
BEGIN:DAYLIGHT
TZOFFSETFROM:+0100
TZOFFSETTO:+0200
TZNAME:CEST
DTSTART:20170326T010000
END:DAYLIGHT
BEGIN:STANDARD
TZOFFSETFROM:+0200
TZOFFSETTO:+0100
TZNAME:CET
DTSTART:20171029T010000
END:STANDARD
BEGIN:DAYLIGHT
TZOFFSETFROM:+0100
TZOFFSETTO:+0200
TZNAME:CEST
DTSTART:20180325T010000
END:DAYLIGHT
BEGIN:STANDARD
TZOFFSETFROM:+0200
TZOFFSETTO:+0100
TZNAME:CET
DTSTART:20181028T010000
END:STANDARD
BEGIN:DAYLIGHT
TZOFFSETFROM:+0100
TZOFFSETTO:+0200
TZNAME:CEST
DTSTART:20190331T010000
END:DAYLIGHT
BEGIN:STANDARD
TZOFFSETFROM:+0200
TZOFFSETTO:+0100
TZNAME:CET
DTSTART:20191027T010000
END:STANDARD
END:VTIMEZONE
BEGIN:VEVENT
DTSTART;TZID=Europe/Berlin:20181213T143000
DTEND;TZID=Europe/Berlin:20181213T163000
DTSTAMP:20260425T222634
CREATED:20181130T114119Z
LAST-MODIFIED:20181130T114307Z
UID:2023-1544711400-1544718600@evresi.de
SUMMARY:Frauenkreis
DESCRIPTION:Informationen dazu finden Sie hier
URL:https://evresi.de/event/frauenkreis/
LOCATION:Gemeindehaus Sinzig\, Dreifaltigkeitsweg 26\, Sinzig\, 53489\, Deutschland
ATTACH;FMTTYPE=image/jpeg:https://evresi.de/wp-content/uploads/2018/06/23-Frauen-im-Flur.jpg
END:VEVENT
BEGIN:VEVENT
DTSTART;TZID=Europe/Berlin:20181213T150000
DTEND;TZID=Europe/Berlin:20181213T173000
DTSTAMP:20260425T222634
CREATED:20181206T162456Z
LAST-MODIFIED:20181206T162457Z
UID:2049-1544713200-1544722200@evresi.de
SUMMARY:Senioren-Adventsfeier in Remagen
DESCRIPTION:Alle Senioren aus dem Gemeindebezirk Remagen-Kripp sind herzlich eingeladen ins Gemeindehaus in Remagen. Auf dem Programm stehen Adventslieder\, musikalische Beiträge von Schülern der Musikschule\, besinnliche und heitere Geschichten zum Advent und Kaffee und Kuchen.
URL:https://evresi.de/event/senioren-adventsfeier-in-remagen/
ATTACH;FMTTYPE=image/jpeg:https://evresi.de/wp-content/uploads/2018/06/Bildschirmfoto-2018-06-07-um-16.37.37.jpg
END:VEVENT
BEGIN:VEVENT
DTSTART;TZID=Europe/Berlin:20181213T170000
DTEND;TZID=Europe/Berlin:20181213T190000
DTSTAMP:20260425T222634
CREATED:20181130T115006Z
LAST-MODIFIED:20181130T115006Z
UID:2025-1544720400-1544727600@evresi.de
SUMMARY:Angehörigengruppe Demenz
DESCRIPTION:Informationen finden Sie hier
URL:https://evresi.de/event/angehoerigengruppe-demenz/
LOCATION:Gemeindehaus Sinzig\, Dreifaltigkeitsweg 26\, Sinzig\, 53489\, Deutschland
ATTACH;FMTTYPE=image/jpeg:https://evresi.de/wp-content/uploads/2018/06/Krokusse-Schneeglöckchen.jpg
END:VEVENT
END:VCALENDAR